BEGIN:VCALENDAR
VERSION:2.0
PRODID:-//North American Lake Management Society (NALMS) - ECPv6.15.20//NONSGML v1.0//EN
CALSCALE:GREGORIAN
METHOD:PUBLISH
X-WR-CALNAME:North American Lake Management Society (NALMS)
X-ORIGINAL-URL:https://www.nalms.org
X-WR-CALDESC:Events for North American Lake Management Society (NALMS)
REFRESH-INTERVAL;VALUE=DURATION:PT1H
X-Robots-Tag:noindex
X-PUBLISHED-TTL:PT1H
BEGIN:VTIMEZONE
TZID:America/Chicago
BEGIN:DAYLIGHT
TZOFFSETFROM:-0600
TZOFFSETTO:-0500
TZNAME:CDT
DTSTART:20210314T080000
END:DAYLIGHT
BEGIN:STANDARD
TZOFFSETFROM:-0500
TZOFFSETTO:-0600
TZNAME:CST
DTSTART:20211107T070000
END:STANDARD
BEGIN:DAYLIGHT
TZOFFSETFROM:-0600
TZOFFSETTO:-0500
TZNAME:CDT
DTSTART:20220313T080000
END:DAYLIGHT
BEGIN:STANDARD
TZOFFSETFROM:-0500
TZOFFSETTO:-0600
TZNAME:CST
DTSTART:20221106T070000
END:STANDARD
BEGIN:DAYLIGHT
TZOFFSETFROM:-0600
TZOFFSETTO:-0500
TZNAME:CDT
DTSTART:20230312T080000
END:DAYLIGHT
BEGIN:STANDARD
TZOFFSETFROM:-0500
TZOFFSETTO:-0600
TZNAME:CST
DTSTART:20231105T070000
END:STANDARD
END:VTIMEZONE
BEGIN:VEVENT
DTSTART;VALUE=DATE:20220302
DTEND;VALUE=DATE:20220304
DTSTAMP:20260425T091313
CREATED:20210831T160323Z
LAST-MODIFIED:20210831T160323Z
UID:23144-1646179200-1646351999@www.nalms.org
SUMMARY:2022 PALMS Annual Conference
DESCRIPTION:
URL:https://www.nalms.org/event/2022-palms-annual-conference/
LOCATION:Wyndham Garden State College\, 310 Elks Club Road\, Boalsburg\, PA\, 16827\, United States
CATEGORIES:NALMS Affiliate Events
ATTACH;FMTTYPE=image/png:https://www.nalms.org/wp-content/uploads/2021/01/PALMS_blue-words.png
END:VEVENT
BEGIN:VEVENT
DTSTART;TZID=America/Chicago:20220302T140000
DTEND;TZID=America/Chicago:20220302T150000
DTSTAMP:20260425T091313
CREATED:20220126T213014Z
LAST-MODIFIED:20220126T213014Z
UID:23665-1646229600-1646233200@www.nalms.org
SUMMARY:Women In Science: Turning Data into Action with Tracy Brown
DESCRIPTION:Join DEC’s Hudson River Estuary Program’s Free Virtual Winter Speaker Series! \nMeet and learn from scientists\, community leaders\, and environmental educators who work at the intersection of research\, education\, and environmental and social justice. Engage in discussions about water quality research\, dam removals\, field-based learning\, and overcoming barriers and challenges in the field of science and education. \nHear about ways that scientists and advocates are working together to bring about a cleaner environment while letting data tell the story. See examples of pollution reduction and conservation investments that were spurred by water quality monitoring. Explore data-based storytelling tools that connect with the public\, elected officials\, and resource managers to increase understanding of local and regional environmental challenges. \nFeatured Speaker: Tracy Brown
URL:https://www.nalms.org/event/women-in-science-turning-data-into-action-with-tracy-brown/
LOCATION:n/a
CATEGORIES:Webinars
ATTACH;FMTTYPE=image/png:https://www.nalms.org/wp-content/uploads/2022/01/NYS-DEC.png
END:VEVENT
BEGIN:VEVENT
DTSTART;TZID=America/Chicago:20220302T180000
DTEND;TZID=America/Chicago:20220302T190000
DTSTAMP:20260425T091313
CREATED:20211214T212208Z
LAST-MODIFIED:20211214T212208Z
UID:23527-1646244000-1646247600@www.nalms.org
SUMMARY:Webinar: Septic Systems and Our Lakes
DESCRIPTION:The septic system at your property can affect the quality of the lake\, even if you’re not directly on the water. Tune in to learn how regular maintenance is crucial to the health and effectiveness of septic systems as well as the health of our lakes. \nPresented by Matthew Raumikaitis\, owner of Septic Check Inspections and NH LAKES LakeSmart Service Provider Partner. \nThis session is part of the “Explore Lakes with NH LAKES” webinar series.
URL:https://www.nalms.org/event/webinar-septic-systems-and-our-lakes/
LOCATION:n/a
CATEGORIES:Webinars
ATTACH;FMTTYPE=image/png:https://www.nalms.org/wp-content/uploads/2021/12/6b362a61-3b46-4194-9bf9-dda44edc4d8e.png
ORGANIZER;CN="NH Lakes":MAILTO:info@nhlakes.org
END:VEVENT
BEGIN:VEVENT
DTSTART;VALUE=DATE:20220306
DTEND;VALUE=DATE:20220309
DTSTAMP:20260425T091313
CREATED:20210831T160600Z
LAST-MODIFIED:20211214T213927Z
UID:23145-1646524800-1646783999@www.nalms.org
SUMMARY:2022 Virginia Water Conference
DESCRIPTION:March 6-8\, 2022 at the DoubleTree by Hilton Hotel\, Richmond-Midlothian\nIt’s time to prepare for the Virginia Water Conference\, presented by the Virginia Lakes and Watersheds Association. The conference will again be held at the DoubleTree by Hilton Hotel\, Richmond-Midlothian in Richmond\, Virginia\, where we hosted more than 400 participants at our 2020 conference (the last in-person conference we held prior to the pandemic)! We expect strong attendance from Federal\, State\, and local agency employees\, lake owners & operators\, consultants\, product vendors\, etc. Breakout sessions will feature many worthwhile professional papers from every sector of the Virginia water community. \nThe Virginia Lakes and Watersheds Association (VLWA) annual conference addresses lakes and watersheds\, engineering and life sciences\, facilities\, maintenance\, public works\, consulting\, academic research\, and administration. We serve a variety of people all working to improve Virginia’s lakes and watersheds. Our conference is one of the largest state conferences in the US focused on water resources. \n\n\n\n\nIMPORTANT NOTE: In the past\, we’ve included 4 presentations per 75 minute technical session. This year we are planning on 3 presentations per 75 minute technical session. This change will provide more time to delve into presentation topics\, but will cut our number of presentations by approximately 25%. Please be sure to submit abstracts early to ensure a spot in our technical program!
URL:https://www.nalms.org/event/2022-virginia-water-conference/
LOCATION:DoubleTree by Hilton Hotel\, 1021 Koger Center Blvd\, Richmond\, VA\, 23235\, United States
CATEGORIES:NALMS Affiliate Events
ATTACH;FMTTYPE=image/png:https://www.nalms.org/wp-content/uploads/2021/01/VLWA-Header-Logo-1030x213-1.png
END:VEVENT
BEGIN:VEVENT
DTSTART;TZID=America/Chicago:20220308T130000
DTEND;TZID=America/Chicago:20220308T140000
DTSTAMP:20260425T091313
CREATED:20220216T220457Z
LAST-MODIFIED:20220216T220457Z
UID:23722-1646744400-1646748000@www.nalms.org
SUMMARY:Libraries Love Lakes Info Session
DESCRIPTION:July is Lakes Appreciation Month! Join us March 8th at 2 pm (Eastern Time) for a free\, virtual information session to learn about an exciting initiative\, Libraries Love Lakes\, an outreach project pairing libraries with lake scientists to provide collaborative programming emphasizing the importance of lakes in our everyday lives. \nThe new librarieslovelakes.org website is a toolkit of online resources for community members and library professionals to plan and host lake-focused outreach events (virtual or in person!) for kids and library patrons during the July Lakes Appreciation Month. \nIncluded on the new website are: \n\nfavorite story time children’s books about lakes\, water and wildlife\nfun and easy arts & craft activities\nsuggested lesson plans and educational resources for students\nwatershed education information for library patrons\nevent flyers to promote your Libraries Love Lakes event\nand much more!\n\nWe hope you will join us to celebrate the importance of lakes with a Libraries Love Lakes program in your community for the July 2022 Lakes Appreciation Month. The info session is free and open to librarians\, lake scientists\, lake conservation organizations\, and community outreach educators. Registration is required to receive the Zoom meeting link\, SIGN UP today for the June 2nd info session. \nQuestions? We are here to help! Please send us an email at librarieslovelakes@gmail.com.
URL:https://www.nalms.org/event/libraries-love-lakes-info-session-2022/
LOCATION:n/a
CATEGORIES:Partner Events
ATTACH;FMTTYPE=image/png:https://www.nalms.org/wp-content/uploads/2022/02/2022-LLL-Info-Session-Graphic-2.png
ORGANIZER;CN="Libraries Love Lakes Team":MAILTO:librarieslovelakes@gmail.com
END:VEVENT
BEGIN:VEVENT
DTSTART;TZID=America/Chicago:20220309T140000
DTEND;TZID=America/Chicago:20220309T150000
DTSTAMP:20260425T091313
CREATED:20220126T213242Z
LAST-MODIFIED:20220126T213242Z
UID:23666-1646834400-1646838000@www.nalms.org
SUMMARY:Women In Science: Reaching Local Communities with Equity\, Access\, & Inclusion in Environmental Education
DESCRIPTION:Join DEC’s Hudson River Estuary Program’s Free Virtual Winter Speaker Series! \nMeet and learn from scientists\, community leaders\, and environmental educators who work at the intersection of research\, education\, and environmental and social justice. Engage in discussions about water quality research\, dam removals\, field-based learning\, and overcoming barriers and challenges in the field of science and education. \nEli Caref was born and raised in the concrete playgrounds of Brooklyn\, New York\, and throughout her childhood believed that nature was always “somewhere else.” Through her years in Environmental Education in and around New York City\, she now knows that wildlife is everywhere you look\, and her goal is to help all of her students find it in their own backyards. Eli will speak about her journey into this career path\, working with local schools and students\, and how bringing more equity and inclusion into our field is the best way to really work with and in our communities. \nFeatured Speaker: Eli Caref
URL:https://www.nalms.org/event/women-in-science-reaching-local-communities-with-equity-access-inclusion-in-environmental-education/
LOCATION:n/a
CATEGORIES:Webinars
ATTACH;FMTTYPE=image/png:https://www.nalms.org/wp-content/uploads/2022/01/NYS-DEC.png
END:VEVENT
BEGIN:VEVENT
DTSTART;VALUE=DATE:20220316
DTEND;VALUE=DATE:20220320
DTSTAMP:20260425T091313
CREATED:20211214T210105Z
LAST-MODIFIED:20211214T210105Z
UID:23522-1647388800-1647734399@www.nalms.org
SUMMARY:ILMA/ILAFS Joint Conference
DESCRIPTION:Come join the Illinois Lake Management Association (ILMA) and the Illinois Chapter of the American Fisheries Society (ILAFS) March 16-March 19\, 2022 for a joint conference at the I-Hotel in Champaign. This year marks the 37st and 60th annual meeting for the two organizations\, and only one of a handful of times a joint conference has been held! The conference will host more than 50 speakers over the three days\, presenting information on a wide range of topics involving aquatic resources.
URL:https://www.nalms.org/event/ilma-ilafs-joint-conference/
LOCATION:I Hotel & Conference Center\, 1900 S 1st St\, Champaign\, IL\, 61820\, United States
CATEGORIES:NALMS Affiliate Events
ATTACH;FMTTYPE=image/jpeg:https://www.nalms.org/wp-content/uploads/2021/12/242744544_4692654657413426_3136173879601166062_n.jpg
END:VEVENT
END:VCALENDAR