BEGIN:VCALENDAR
VERSION:2.0
PRODID:-//North American Lake Management Society (NALMS) - ECPv5.10.0//NONSGML v1.0//EN
CALSCALE:GREGORIAN
METHOD:PUBLISH
X-WR-CALNAME:North American Lake Management Society (NALMS)
X-ORIGINAL-URL:https://www.nalms.org
X-WR-CALDESC:Events for North American Lake Management Society (NALMS)
BEGIN:VTIMEZONE
TZID:America/Chicago
BEGIN:DAYLIGHT
TZOFFSETFROM:-0600
TZOFFSETTO:-0500
TZNAME:CDT
DTSTART:20210314T080000
END:DAYLIGHT
BEGIN:STANDARD
TZOFFSETFROM:-0500
TZOFFSETTO:-0600
TZNAME:CST
DTSTART:20211107T070000
END:STANDARD
TZID:America/New_York
BEGIN:DAYLIGHT
TZOFFSETFROM:-0500
TZOFFSETTO:-0400
TZNAME:EDT
DTSTART:20210314T070000
END:DAYLIGHT
BEGIN:STANDARD
TZOFFSETFROM:-0400
TZOFFSETTO:-0500
TZNAME:EST
DTSTART:20211107T060000
END:STANDARD
END:VTIMEZONE
BEGIN:VEVENT
DTSTART;VALUE=DATE:20210801
DTEND;VALUE=DATE:20210802
DTSTAMP:20211104T084853
CREATED:20210714T194336Z
LAST-MODIFIED:20210714T194336Z
UID:22995-1627776000-1627862399@www.nalms.org
SUMMARY:OLA Fall Seminar Series Abstracts Due
DESCRIPTION:Oregon Lakes Association Fall 2021 Online Seminar Series \nCall for Abstracts \nAbstract submittal for oral and poster presentations is now open for OLAs Fall 2021 Online Seminar Series. Conference sessions held via Zoom during the Wednesday afternoons of Oct 27\, Nov 3\, and Nov 12\, will be approximately 1.5 hours long\, and will include 3-5 presentations each. Additional session dates may be added depending on the volume of abstract submissions. The Oct 27 session will include five-minute flash presentations by poster presenters. \nTopics of interest that deal directly or indirectly with lakes include: \n\nwater quality and harmful algal blooms\necological interactions\neffects of climate change  \nlake and watershed restoration\naquatic invasive species\nand any other lake\, pond or reservoir related topic\n\nSubmission Requirements: \nSubmit abstracts online by August 1\, 2021. Include your presentation title\, author(s) noting any student authors\, preference of an oral or poster presentation\, and an abstract of 300 words/3\,000 characters or less. Oral presentations via Zoom will be up to 20 minutes long. Online poster presentations will be available as pdfs during the entirety of the seminar series and authors will also present five minute speed talks summarizing their posters. Presenters and OLA Members will receive free registration for the seminar series. A nominal registration fee will be charged to non-members. 
URL:https://www.nalms.org/event/ola-fall-seminar-series-abstracts-due/
CATEGORIES:Deadline Reminder
ATTACH;FMTTYPE=image/png:https://www.nalms.org/wp-content/uploads/2017/04/Oregon-Lakes-Association.png
END:VEVENT
BEGIN:VEVENT
DTSTART;TZID=America/Chicago:20210804T180000
DTEND;TZID=America/Chicago:20210804T190000
DTSTAMP:20211104T084853
CREATED:20210714T192003Z
LAST-MODIFIED:20210714T192003Z
UID:22993-1628100000-1628103600@www.nalms.org
SUMMARY:What Plants Are Growing in the Lake?
DESCRIPTION:Summer is in full swing and the plants in our lakes are reaching the height of their growing season. While most plants are good for our lakes\, some are not and can cause big problems. Attend this session and learn how to identify what plants are growing in your favorite lake and what to do if you think you’ve spotted a problem plant. \nPresented by Amy Smagula\, Exotic Species Program Coordinator\, New Hampshire Department of Environmental Services. \nThis session is part of the “Explore Lakes with NH LAKES” webinar series. If you get chance\, please thank Presenting Sponsor Grappone Automotive Group for helping make this series possible. And\, if you have any automotive needs\, please check them out! Find out more: grappone.com
URL:https://www.nalms.org/event/what-plants-are-growing-in-the-lake/
CATEGORIES:Webinars
ATTACH;FMTTYPE=image/jpeg:https://www.nalms.org/wp-content/uploads/job-manager-uploads/company_logo/2020/01/NH-LAKES-Logo.jpg
ORGANIZER;CN="NH%20Lakes":MAILTO:info@nhlakes.org
END:VEVENT
BEGIN:VEVENT
DTSTART;TZID=America/Chicago:20210818T180000
DTEND;TZID=America/Chicago:20210818T190000
DTSTAMP:20211104T084853
CREATED:20210714T191622Z
LAST-MODIFIED:20210714T191622Z
UID:22992-1629309600-1629313200@www.nalms.org
SUMMARY:Cyanobacteria Update: What we’ve seen & what to be on the lookout for
DESCRIPTION:Tune in for an update on the status of toxic cyanobacteria blooms in New Hampshire’s lakes during Summer 2021 and find out what to be on the lookout for this fall. \nPresented by Amanda Murby McQuaid\, Ph.D.\, Harmful Algal and Cyanobacteria Bloom Program\, New Hampshire Department of Environmental Services. \nThis session is part of the “Explore Lakes with NH LAKES” webinar series. If you get chance\, please thank Presenting Sponsor Grappone Automotive Group for helping make this series possible. And\, if you have any automotive needs\, please check them out! Find out more: grappone.com
URL:https://www.nalms.org/event/cyanobacteria-update-what-weve-seen-what-to-be-on-the-lookout-for/
CATEGORIES:Webinars
ATTACH;FMTTYPE=image/jpeg:https://www.nalms.org/wp-content/uploads/job-manager-uploads/company_logo/2020/01/NH-LAKES-Logo.jpg
ORGANIZER;CN="NH%20Lakes":MAILTO:info@nhlakes.org
END:VEVENT
BEGIN:VEVENT
DTSTART;TZID=America/New_York:20210831T080000
DTEND;TZID=America/New_York:20210831T170000
DTSTAMP:20211104T084853
CREATED:20210602T141726Z
LAST-MODIFIED:20210602T141726Z
UID:22837-1630396800-1630429200@www.nalms.org
SUMMARY:FLMS Pre-Symposium Workshops
DESCRIPTION:Four full-day workshops include:\nAlgal ID – general Identification & cyanobacteria focus\nDrone Applications in Lake Mgmt\nOxygenation and Circulation Techniques to Improve Water Quality\nIntroduction to Statistical Analysis and Machine Learning in R.\nView full descriptions at www.flms.net/chapters-and-workshops/technical-workshops/
URL:https://www.nalms.org/event/flms-pre-symposium-workshops/
LOCATION:Hawks Cay Resort\, 61 Hawks Cay Blvd\, Duck Key\, FL\, United States
CATEGORIES:Workshop
ATTACH;FMTTYPE=image/png:https://www.nalms.org/wp-content/uploads/2021/06/FLMS-Lilies.png
END:VEVENT
END:VCALENDAR