BEGIN:VCALENDAR
VERSION:2.0
PRODID:-//North American Lake Management Society (NALMS) - ECPv5.10.0//NONSGML v1.0//EN
CALSCALE:GREGORIAN
METHOD:PUBLISH
X-WR-CALNAME:North American Lake Management Society (NALMS)
X-ORIGINAL-URL:https://www.nalms.org
X-WR-CALDESC:Events for North American Lake Management Society (NALMS)
BEGIN:VTIMEZONE
TZID:America/Chicago
BEGIN:DAYLIGHT
TZOFFSETFROM:-0600
TZOFFSETTO:-0500
TZNAME:CDT
DTSTART:20210314T080000
END:DAYLIGHT
BEGIN:STANDARD
TZOFFSETFROM:-0500
TZOFFSETTO:-0600
TZNAME:CST
DTSTART:20211107T070000
END:STANDARD
END:VTIMEZONE
BEGIN:VEVENT
DTSTART;VALUE=DATE:20210701
DTEND;VALUE=DATE:20210801
DTSTAMP:20211104T110502
CREATED:20210622T204816Z
LAST-MODIFIED:20210622T204816Z
UID:22918-1625097600-1627775999@www.nalms.org
SUMMARY:Lakes Appreciation Month 2021
DESCRIPTION:You work and play on them. You drink from them. But do you really appreciate them? Growing population\, development\, and invasive species stress your local lakes\, ponds\, and reservoirs. All life needs water; let’s not take it for granted!
URL:https://www.nalms.org/event/lakes-appreciation-month-2021/
CATEGORIES:NALMS Events
ATTACH;FMTTYPE=image/png:https://www.nalms.org/wp-content/uploads/2021/06/LAM-Email-Header_rainbow.png
ORGANIZER;CN="North%20American%20Lake%20Management%20Society":MAILTO:info@nalms.org
END:VEVENT
BEGIN:VEVENT
DTSTART;TZID=America/Chicago:20210707T120000
DTEND;TZID=America/Chicago:20210707T133000
DTSTAMP:20211104T110502
CREATED:20210506T213057Z
LAST-MODIFIED:20210506T213057Z
UID:22760-1625659200-1625664600@www.nalms.org
SUMMARY:Webinar: Mitigation of Internal Nutrient Loads in Drinking Water Sources
DESCRIPTION:The USACE Invasive Species Leadership Team\, in collaboration with the Aquatic Plant Management Society\, North American Lake Management Society\, and the American Water Works Association\, will summarize the latest research and technical information on management strategies to encourage better integration and facilitation in the protection of drinking water.
URL:https://www.nalms.org/event/webinar-mitigation-of-internal-nutrient-loads-in-drinking-water-sources/
CATEGORIES:NALMS Events,Webinars
ATTACH;FMTTYPE=image/png:https://www.nalms.org/wp-content/uploads/2021/05/HAB-webinar-series-2021.png
ORGANIZER;CN="North%20American%20Lake%20Management%20Society":MAILTO:info@nalms.org
END:VEVENT
BEGIN:VEVENT
DTSTART;TZID=America/Chicago:20210708T113000
DTEND;TZID=America/Chicago:20210708T130000
DTSTAMP:20211104T110502
CREATED:20210622T205717Z
LAST-MODIFIED:20210622T205717Z
UID:22920-1625743800-1625749200@www.nalms.org
SUMMARY:OCLWA Webinar: Aquatic Invasive Species - Basic Identification and How to Report
DESCRIPTION:July is Lakes Appreciation Month\, so help us celebrate by attending one of our free virtual workshops!\n\n\n\n\n\nAbout this event\n\n\nOCLWA is hosting four virtual webinars to help highlight Lakes Appreciation Month. Events are scheduled beginning on July 8 and occur each Thursday through July 29th. Each week\, speakers will cover a different topic. You can register for one or all of them. The series workshop is as follows: \nJuly 8 – Priscilla Crawford – Aquatic Invasive Species – Basic Identification and How to Report \nJuly 15 – Casey Goodwin – In Situ Internal P Loading in Lake Erie \nJuly 22 – Tyler King – Remote Sensing of Water Quality \nJuly 29 – Panel Discussion on Watershed Planning \n 
URL:https://www.nalms.org/event/oclwa-webinar-aquatic-invasive-species-basic-identification-and-how-to-report/
CATEGORIES:NALMS Affiliate Events,Webinars
ATTACH;FMTTYPE=image/png:https://www.nalms.org/wp-content/uploads/2017/04/OCLWA.png
END:VEVENT
BEGIN:VEVENT
DTSTART;TZID=America/Chicago:20210714T120000
DTEND;TZID=America/Chicago:20210714T133000
DTSTAMP:20211104T110502
CREATED:20210506T215043Z
LAST-MODIFIED:20210506T215043Z
UID:22761-1626264000-1626269400@www.nalms.org
SUMMARY:Webinar: Harmful Algae Management
DESCRIPTION:The USACE Invasive Species Leadership Team\, in collaboration with the Aquatic Plant Management Society\, North American Lake Management Society\, and the American Water Works Association\, will summarize the latest research and technical information on management strategies to encourage better integration and facilitation in the protection of drinking water.
URL:https://www.nalms.org/event/webinar-harmful-algae-management/
CATEGORIES:NALMS Events,Webinars
ATTACH;FMTTYPE=image/png:https://www.nalms.org/wp-content/uploads/2021/05/HAB-webinar-series-2021.png
ORGANIZER;CN="North%20American%20Lake%20Management%20Society":MAILTO:info@nalms.org
END:VEVENT
BEGIN:VEVENT
DTSTART;TZID=America/Chicago:20210715T113000
DTEND;TZID=America/Chicago:20210715T130000
DTSTAMP:20211104T110502
CREATED:20210622T210729Z
LAST-MODIFIED:20210622T210729Z
UID:22922-1626348600-1626354000@www.nalms.org
SUMMARY:OCLWA Webinar: In Situ Internal P Loading in Lake Erie
DESCRIPTION:July is Lakes Appreciation Month\, so help us celebrate by attending one of our free virtual workshops!\n\n\n\n\n\nAbout this event\n\n\nOCLWA is hosting four virtual webinars to help highlight Lakes Appreciation Month. Events are scheduled beginning on July 8 and occur each Thursday through July 29th. Each week\, speakers will cover a different topic. You can register for one or all of them. The series workshop is as follows: \nJuly 8 – Priscilla Crawford – Aquatic Invasive Species – Basic Identification and How to Report \nJuly 15 – Casey Goodwin – In Situ Internal P Loading in Lake Erie \nJuly 22 – Tyler King – Remote Sensing of Water Quality \nJuly 29 – Panel Discussion on Watershed Planning
URL:https://www.nalms.org/event/oclwa-webinar-in-situ-internal-p-loading-in-lake-erie/
CATEGORIES:NALMS Affiliate Events,Webinars
ATTACH;FMTTYPE=image/png:https://www.nalms.org/wp-content/uploads/2017/04/OCLWA.png
END:VEVENT
BEGIN:VEVENT
DTSTART;TZID=America/Chicago:20210720T140000
DTEND;TZID=America/Chicago:20210720T190000
DTSTAMP:20211104T110502
CREATED:20210714T182318Z
LAST-MODIFIED:20210714T182318Z
UID:22987-1626789600-1626807600@www.nalms.org
SUMMARY:CLRMA's Day on the Rez at Barr Lake
DESCRIPTION:Vendor Demos (1pm – 4:30pm MDT)\nZebra Mussel Testing and Algae DNA Analysis (Jonah Ventures)\nAlgae Tracker (Aqua Real Time)\nData Telemetry (Geotech)\nSolarBees and GridBees (Ixom)\nFish Survey (Colorado Parks & Wildlife)\nCarp Trapping (Metro Wastewater Reclamation District)\nBarr Lake Golf Cart Tours (Barr Lake State Park) \nLake Fun and BBQ (4:30pm MDT on)\nNetworking\nTake out the Kayaks\, Paddleboards\, Pontoon Boats\nCookout sponsored by Geotech\, AquaRealTime\, Jonah Ventures\, and CLRMA \nCome prepared to enjoy the outdoors!\nBring a chair or something to sit on. \nPlease register before 7/15 so we can plan food\naccordingly (https://forms.gle/2tywHxKzwLCa8AtN9)
URL:https://www.nalms.org/event/clrmas-day-on-the-rez-at-barr-lake/
LOCATION:Barr Lake State Park\, 13401 Picadilly Rd\, Brighton\, CO\, 80603\, United States
CATEGORIES:NALMS Affiliate Events
ATTACH;FMTTYPE=image/jpeg:https://www.nalms.org/wp-content/uploads/2021/05/CLRMA-logo-2021.jpg
ORGANIZER;CN="Colorado%20Lake%20and%20Reservoir%20Management%20Association%20%28CLRMA%29":MAILTO:ColoradoLRMA@gmail.com
END:VEVENT
BEGIN:VEVENT
DTSTART;TZID=America/Chicago:20210721T080000
DTEND;TZID=America/Chicago:20210721T170000
DTSTAMP:20211104T110502
CREATED:20210714T192214Z
LAST-MODIFIED:20210714T192214Z
UID:22994-1626854400-1626886800@www.nalms.org
SUMMARY:Your Summer Rx: Enjoy Clean & Healthy Lakes!
DESCRIPTION:There’s no better place to be than at one of New Hampshire’s 1\,000 lakes during summer! Our lakes provide for a myriad of recreational activities and science has shown that spending time along\, on\, and in the lake is good for our health in so many ways. Tune in to this session and hear about how being at the lake is good for you and find out some simple things you can do to help keep the lake(s) you enjoy healthy too! \nPresented by Krystal Costa Balanoff\, Conservation Program Manager\, NH LAKES and Erin Mastine\, Outreach Program Coordinator\, NH LAKES. \nThis session is part of the “Explore Lakes with NH LAKES” webinar series. If you get chance\, please thank Presenting Sponsor Grappone Automotive Group for helping make this series possible. And\, if you have any automotive needs\, please check them out! Find out more: grappone.com
URL:https://www.nalms.org/event/your-summer-rx-enjoy-clean-healthy-lakes/
CATEGORIES:Webinars
ATTACH;FMTTYPE=image/jpeg:https://www.nalms.org/wp-content/uploads/job-manager-uploads/company_logo/2020/01/NH-LAKES-Logo.jpg
ORGANIZER;CN="NH%20Lakes":MAILTO:info@nhlakes.org
END:VEVENT
BEGIN:VEVENT
DTSTART;TZID=America/Chicago:20210721T120000
DTEND;TZID=America/Chicago:20210721T133000
DTSTAMP:20211104T110502
CREATED:20210506T220356Z
LAST-MODIFIED:20210506T220356Z
UID:22762-1626868800-1626874200@www.nalms.org
SUMMARY:Webinar: From Intake to the Tap
DESCRIPTION:The USACE Invasive Species Leadership Team\, in collaboration with the Aquatic Plant Management Society\, North American Lake Management Society\, and the American Water Works Association\, will summarize the latest research and technical information on management strategies to encourage better integration and facilitation in the protection of drinking water.
URL:https://www.nalms.org/event/webinar-from-intake-to-the-tap/
CATEGORIES:NALMS Events,Webinars
ATTACH;FMTTYPE=image/png:https://www.nalms.org/wp-content/uploads/2021/05/HAB-webinar-series-2021.png
ORGANIZER;CN="North%20American%20Lake%20Management%20Society":MAILTO:info@nalms.org
END:VEVENT
BEGIN:VEVENT
DTSTART;TZID=America/Chicago:20210721T180000
DTEND;TZID=America/Chicago:20210721T210000
DTSTAMP:20211104T110502
CREATED:20210714T182913Z
LAST-MODIFIED:20210714T183319Z
UID:22988-1626890400-1626901200@www.nalms.org
SUMMARY:Lake Atalanta Cleanup & Secchi Dip-in
DESCRIPTION:Join us for a Lakes Appreciation Month celebration at Lake Atalanta in Rogers! This will be a family-friendly event to cleanup the lake and participate in a citizen science water monitoring activity.  Check-in will begin at 6 PM at Clark Pavilion. \nMultiple Cleanup Options! \n1) On Water – Bring your own kayak or canoe\n2) Shoreline – Bring your own waders\n3) On Land – Bring yourself and your friends \nCleanup supplies will be provided \nFamily outdoor gear raffle prizes after! \nClick Here to RSVP or text/call 479-750-8007
URL:https://www.nalms.org/event/lake-atalanta-cleanup-secchi-dip-in/
LOCATION:Lake Atalanta Park & Trails\, 500 E Walnut St\, Rogers\, AR\, 72756\, United States
CATEGORIES:Nonprofit Member Event
ATTACH;FMTTYPE=image/png:https://www.nalms.org/wp-content/uploads/2020/05/beaver-watershed-featured.png
END:VEVENT
BEGIN:VEVENT
DTSTART;TZID=America/Chicago:20210722T113000
DTEND;TZID=America/Chicago:20210722T130000
DTSTAMP:20211104T110502
CREATED:20210622T210954Z
LAST-MODIFIED:20210622T210954Z
UID:22923-1626953400-1626958800@www.nalms.org
SUMMARY:OCLWA Webinar: Remote Sensing of Water Quality
DESCRIPTION:July is Lakes Appreciation Month\, so help us celebrate by attending one of our free virtual workshops!\n\n\n\n\n\nAbout this event\n\n\nOCLWA is hosting four virtual webinars to help highlight Lakes Appreciation Month. Events are scheduled beginning on July 8 and occur each Thursday through July 29th. Each week\, speakers will cover a different topic. You can register for one or all of them. The series workshop is as follows: \nJuly 8 – Priscilla Crawford – Aquatic Invasive Species – Basic Identification and How to Report \nJuly 15 – Casey Goodwin – In Situ Internal P Loading in Lake Erie \nJuly 22 – Tyler King – Remote Sensing of Water Quality \nJuly 29 – Panel Discussion on Watershed Planning
URL:https://www.nalms.org/event/oclwa-webinar-remote-sensing-of-water-quality/
CATEGORIES:NALMS Affiliate Events,Webinars
ATTACH;FMTTYPE=image/png:https://www.nalms.org/wp-content/uploads/2017/04/OCLWA.png
END:VEVENT
BEGIN:VEVENT
DTSTART;TZID=America/Chicago:20210723T170000
DTEND;TZID=America/Chicago:20210723T210000
DTSTAMP:20211104T110502
CREATED:20210721T195829Z
LAST-MODIFIED:20210721T195829Z
UID:23021-1627059600-1627074000@www.nalms.org
SUMMARY:Love Your Lake 2021
DESCRIPTION:Celebrate Lake Appreciation Month with PALMS at Blue Marsh Lake!\nJoin PALMS\, the staff of Blue Marsh Lake\, Aqua Om Paddle\, and the Penn State Extension Master Watershed Stewards as we celebrate our Lakes and enjoy a Full Moon paddle \nJoin us from 6-8pm to learn how to keep yourself and our lakes safe and then hit the water for a full moon paddle 8-10 pm.  This is a great opportunity to paddle the lake at the Dry Brooks Day Use Area. \n\nEvent details:\nThis FREE Event is open to the public.  Enjoy an evening dedicated to lake appreciation\, education\, and recreation. Read below to learn more about the hosts and their planned activities. \nVisit PALMS’s table to learn about Harmful Algal Blooms and how to keep you and your furry friends safe. While there\, PALMS will also show you how to prevent the spread of Aquatic Invasives into our valued lakes\, then you can head to the shores for a chance to participate in the annual Secchi Dip-In! \nBlue Marsh Lake Staff will be on hand to talk about water safety\, Blue Marsh Lake’s watershed\, and Harmful Algal Blooms at Blue Marsh Lake. \nAqua Om Paddle will have paddleboard demonstrations and rentals  for those who book online in advance. Kami with Aqua Om Paddle will teach you everything you need to know to have a safe and successful paddle. Please visit the links below for booking your paddle board lesson. Proceeds support PA’s Lakes. \nPaddle Board Lesson and Rentals from 6-8pm \nFull Moon Community Paddle & Float Rentals from 8-10pm \nNote: Children 8 and up can paddle their own board. All kids regardless of age can ride on the board with parents for free. \nPenn State Extension Master Watershed Stewards will be available to talk all things wild in the watershed with activities and demonstrations. \nNote: (This is rain or shine event.  Only if extreme weather is expected will it get moved to 7/26\, 6-10 pm) \n\nEvent Schedule:\n6-8 pm Educational Activities and Paddle Board Demonstrations \n8-10pm Full Moon Paddle/Float.  You can bring your own kayak/canoe/paddle board to join us for the full moon paddle/float. \nLocation: Dry Brooks Day Use Area\, 1420 Palisades Drive\, Leesport PA 19533   (Parking is available at Lower F and Upper F parking lots)  This event will be to the right of the Swim Beach.  Note: No Pets are allowed in this area of the park.
URL:https://www.nalms.org/event/love-your-lake-2021/
LOCATION:Dry Brooks Day Use Area\, 1420 Palisades Drive\, Leesport\, PA\, 19533\, United States
CATEGORIES:NALMS Affiliate Events
ATTACH;FMTTYPE=image/png:https://www.nalms.org/wp-content/uploads/2021/01/PALMS_blue-words.png
END:VEVENT
BEGIN:VEVENT
DTSTART;TZID=America/Chicago:20210728T140000
DTEND;TZID=America/Chicago:20210728T150000
DTSTAMP:20211104T110502
CREATED:20210714T181757Z
LAST-MODIFIED:20210714T181757Z
UID:22986-1627480800-1627484400@www.nalms.org
SUMMARY:Modeling the Effects of Land Development and Climate Change on Patagonian Lakes
DESCRIPTION:The pristine lakes of Northern Patagonia\, Chile\, are facing an uncertain future. These are some of the largest temperate lakes in the world which have not had significant anthropogenic modifications to their watersheds. Yet with anticipated urban development and the ever-present effects of climate change\, lake residents are concerned about a potential decline in lake water quality. Since 2019 the UC Davis Tahoe Environmental Research Center (TERC) has been collaborating with a Chilean Lake Advocacy NGO\, Chile Lagos Limpios\, to deploy the first in-situ\, high-frequency hydrodynamic and water quality instrumentation in these lakes. The team is utilizing monitoring and modeling methods\, previously developed by TERC to investigate the decline in the Tahoe’s renowned water clarity\, in order to examine how in-lake physical and biogeochemical processes will change under forecast development and climate scenarios. The monitoring design and preliminary modelling results will be presented for three lakes in the study region.
URL:https://www.nalms.org/event/modeling-the-effects-of-land-development-and-climate-change-on-patagonian-lakes/
CATEGORIES:NALMS Affiliate Events,Webinars
ATTACH;FMTTYPE=image/png:https://www.nalms.org/wp-content/uploads/2017/04/CALMS.png
END:VEVENT
BEGIN:VEVENT
DTSTART;TZID=America/Chicago:20210729T113000
DTEND;TZID=America/Chicago:20210729T130000
DTSTAMP:20211104T110502
CREATED:20210622T211219Z
LAST-MODIFIED:20210622T211219Z
UID:22924-1627558200-1627563600@www.nalms.org
SUMMARY:OCLWA Webinar: Panel Discussion on Watershed Planning
DESCRIPTION:July is Lakes Appreciation Month\, so help us celebrate by attending one of our free virtual workshops!\n\n\n\n\n\nAbout this event\n\n\nOCLWA is hosting four virtual webinars to help highlight Lakes Appreciation Month. Events are scheduled beginning on July 8 and occur each Thursday through July 29th. Each week\, speakers will cover a different topic. You can register for one or all of them. The series workshop is as follows: \nJuly 8 – Priscilla Crawford – Aquatic Invasive Species – Basic Identification and How to Report \nJuly 15 – Casey Goodwin – In Situ Internal P Loading in Lake Erie \nJuly 22 – Tyler King – Remote Sensing of Water Quality \nJuly 29 – Panel Discussion on Watershed Planning
URL:https://www.nalms.org/event/oclwa-webinar-panel-discussion-on-watershed-planning/
CATEGORIES:NALMS Affiliate Events,Webinars
ATTACH;FMTTYPE=image/png:https://www.nalms.org/wp-content/uploads/2017/04/OCLWA.png
END:VEVENT
BEGIN:VEVENT
DTSTART;TZID=America/Chicago:20210731T090000
DTEND;TZID=America/Chicago:20210731T170000
DTSTAMP:20211104T110502
CREATED:20210714T183249Z
LAST-MODIFIED:20210714T183249Z
UID:22990-1627722000-1627750800@www.nalms.org
SUMMARY:Lake Wilson Cleanup & Secchi Dip-in
DESCRIPTION:Join us for a Lakes Appreciation Month celebration at Lake Wilson in Fayetteville! This will be a family-friendly event to cleanup the lake and participate in a citizen science water monitoring activity.  Check-in will begin at 9 AM at the pavilion. \nMultiple Cleanup Options!\n1) On Water – Bring your own kayak or canoe\n2) Shoreline – Bring your own waders\n3) On Land – Bring yourself and your friends \nCleanup supplies will be provided. \nFamily outdoor gear raffle prizes after! \nClick Here to RSVP or text/call 479-750-8007
URL:https://www.nalms.org/event/lake-wilson-cleanup-secchi-dip-in/
LOCATION:Lake Wilson\, Fayetteville\, AR\, 72701\, United States
CATEGORIES:Nonprofit Member Event
ATTACH;FMTTYPE=image/png:https://www.nalms.org/wp-content/uploads/2020/05/beaver-watershed-featured.png
END:VEVENT
END:VCALENDAR