BEGIN:VCALENDAR
VERSION:2.0
PRODID:-//North American Lake Management Society (NALMS) - ECPv5.10.0//NONSGML v1.0//EN
CALSCALE:GREGORIAN
METHOD:PUBLISH
X-WR-CALNAME:North American Lake Management Society (NALMS)
X-ORIGINAL-URL:https://www.nalms.org
X-WR-CALDESC:Events for North American Lake Management Society (NALMS)
BEGIN:VTIMEZONE
TZID:America/Chicago
BEGIN:DAYLIGHT
TZOFFSETFROM:-0600
TZOFFSETTO:-0500
TZNAME:CDT
DTSTART:20210314T080000
END:DAYLIGHT
BEGIN:STANDARD
TZOFFSETFROM:-0500
TZOFFSETTO:-0600
TZNAME:CST
DTSTART:20211107T070000
END:STANDARD
BEGIN:DAYLIGHT
TZOFFSETFROM:-0600
TZOFFSETTO:-0500
TZNAME:CDT
DTSTART:20220313T080000
END:DAYLIGHT
BEGIN:STANDARD
TZOFFSETFROM:-0500
TZOFFSETTO:-0600
TZNAME:CST
DTSTART:20221106T070000
END:STANDARD
END:VTIMEZONE
BEGIN:VEVENT
DTSTART;TZID=America/Chicago:20211201T170000
DTEND;TZID=America/Chicago:20211201T190000
DTSTAMP:20211104T110808
CREATED:20211011T202938Z
LAST-MODIFIED:20211011T202952Z
UID:23289-1638378000-1638385200@www.nalms.org
SUMMARY:Webinar: Our beautiful lakes: past and present
DESCRIPTION:The Oregon Lakes Association is pleased to present our Annual Lakes Conference as a series Wednesday afternoon online sessions. The upcoming sessions include: \n\nCyanoHAB monitoring and detection on Wednesday\, November 3rd from 2:30-5 pm\nLake physiology and management and OLA Business Meeting on Wednesday\, November 10th from 2:30-5 pm\nOur beautiful lakes: past and present on Wednesday\, December 1st from 3-5 pm\n\nPresentations will cover a wide range of topics including desert lakes\, climate change\, paleolimnology\, remote sensing of cyanobacterial blooms\, water quality modeling\, and lake management. Details about the Conference Agenda and Abstracts are available at this link. \nThe meeting will be a remote video conference offered through Oregon State University’s Zoom platform. Registration is free for Oregon Lakes Association members and $20 for non-members. After registration\, you will receive an email with instructions on how to join the Zoom meeting including a URL link\, phone number\, and a password. To participate you can join by computer (video or audio) or telephone. You do not need to load Zoom onto your computer; you can connect with Polycom\, Cisco\, or other room system if you don’t want to use the Zoom access link. \nIf you aren’t currently a member\, join OLA to received reduced conference rates and other membership benefits. Individual memberships start at $35/year. \nThis meeting series is open to anyone interested in Oregon lakes\, so feel free to alert colleagues or friends who may not have seen an invitation. If you have any questions about the conference\, please email Theo Dreher: theo.dreher@oregonstate.edu.
URL:https://www.nalms.org/event/webinar-our-beautiful-lakes-past-and-present/
CATEGORIES:NALMS Affiliate Events,Webinars
ATTACH;FMTTYPE=image/png:https://www.nalms.org/wp-content/uploads/2017/04/Oregon-Lakes-Association.png
END:VEVENT
BEGIN:VEVENT
DTSTART;TZID=America/Chicago:20211213T180000
DTEND;TZID=America/Chicago:20211213T200000
DTSTAMP:20211104T110808
CREATED:20211011T204703Z
LAST-MODIFIED:20211011T204703Z
UID:23291-1639418400-1639425600@www.nalms.org
SUMMARY:Webinar: Does Climate Change Impact Our Lakes?
DESCRIPTION:A Fall Science at Night Virtual Seminar Series for the public\, students and scientists interested in local lake conservation and management. Based on the conversation started in 2019\, and continued in 2020\, stakeholders this year will gain understanding of the diverse threats impacting our regional lakes. \n“Does Climate Change Impact Our Lakes?”\n7 p.m. – Larry Marsicano\, Aquatic Ecosystem Research LLC\, WCSU Limnology Instructor\, will introduce the topic and speaker. \n7:10 p.m. – David C. Richardson\, Professor\, Biology Department\, New Paltz\, who will discuss “Lake Warming and Increased Stratification at Mohonk Lake Across Northeastern North American Lakes.” \n7:45 p.m. – Audience Q & A \n8 p.m. – Dr. Ben Burpee\,  Ph.D.\, Limnologist\, GZA GeoEnvironmental\, Inc\, Coventry\, CT who will discuss “Ecological Effects of Recent Climate Change on Southern New England Lakes and Reservoirs: Implications for Water Quality and Management” \n8:30 p.m. – Audience Q & A \n8:45 p.m. – Symposium summary and “Where do we go from here?” \nRegistration is required. Register at https://westconn.tfaforms.net/217. A custom link will be emailed on the day of the talk.
URL:https://www.nalms.org/event/webinar-does-climate-change-impact-our-lakes/
CATEGORIES:Webinars
ATTACH;FMTTYPE=image/jpeg:https://www.nalms.org/wp-content/uploads/2020/09/WCSU-Primary-Shield-01-scaled.jpg
END:VEVENT
BEGIN:VEVENT
DTSTART;TZID=America/Chicago:20211214T140000
DTEND;TZID=America/Chicago:20211214T150000
DTSTAMP:20211104T110808
CREATED:20211102T220242Z
LAST-MODIFIED:20211102T220242Z
UID:23400-1639490400-1639494000@www.nalms.org
SUMMARY:Managing tribal fisheries and employees on the reservation
DESCRIPTION:Tribal natural resource management agencies continue to provide employment opportunities within the fisheries field\, and while much is known about Western ways of managing fisheries\, native culture and its views on fishery management are largely unknown to non-natives. In this presentation\, we give guidance on how to prepare to work for tribe\, effectively manage employees\, create fishery regulations\, and more. We also discuss native culture\, Treaty Rights\, history\, and modern day tribal governance/sovereignty. This presentation aims to inform those who are interested in working for a tribe or for those wanting to gain more knowledge about the people of the first nations. \nOur speaker: \nCarl Klimah\, Fisheries Manager @Mille Lacs Band of Ojibwe \nI have been a tribal fisheries biologist with the Mille Lacs Band of Ojibwe for 5 years\, located in Central Minnesota. Since arriving\, we have built a fish hatchery which has produced over 6 million walleyes and have undertaken multi-year and species acoustic telemetry studies. I received my Masters Degree from Auburn University in fisheries management and my Bachelors Degree in the same subject from University of Wisconsin-Stevens Point. I am still enrolled in school part-time and am learning Ojibwemowin (Ojibwe Language).
URL:https://www.nalms.org/event/managing-tribal-fisheries-and-employees-on-the-reservation/
LOCATION:online\, n/a\, n/a\, n/a\, n/a
CATEGORIES:Webinars
ATTACH;FMTTYPE=image/jpeg:https://www.nalms.org/wp-content/uploads/2021/11/MGLPLogo-1.jpg
ORGANIZER;CN="Midwest%20Glacial%20Lakes%20Partnership":MAILTO:nohnerj@michigan.gov
END:VEVENT
BEGIN:VEVENT
DTSTART;VALUE=DATE:20220302
DTEND;VALUE=DATE:20220304
DTSTAMP:20211104T110808
CREATED:20210831T160323Z
LAST-MODIFIED:20210831T160323Z
UID:23144-1646179200-1646351999@www.nalms.org
SUMMARY:2022 PALMS Annual Conference
DESCRIPTION:
URL:https://www.nalms.org/event/2022-palms-annual-conference/
LOCATION:Wyndham Garden State College\, 310 Elks Club Road\, Boalsburg\, PA\, 16827\, United States
CATEGORIES:NALMS Affiliate Events
ATTACH;FMTTYPE=image/png:https://www.nalms.org/wp-content/uploads/2021/01/PALMS_blue-words.png
END:VEVENT
BEGIN:VEVENT
DTSTART;VALUE=DATE:20220306
DTEND;VALUE=DATE:20220309
DTSTAMP:20211104T110808
CREATED:20210831T160600Z
LAST-MODIFIED:20210831T160600Z
UID:23145-1646524800-1646783999@www.nalms.org
SUMMARY:2022 Virginia Water Conference
DESCRIPTION:March 6-8\, 2022 (mornings through lunchtime) | Virtual this year! \n\n\n\n\nJoin us for educational talks from various organizations and speakers on watersheds\, engineering and life sciences\, facilities\, maintenance\, public works\, consulting\, academic research\, administration and much more! Learn of various water issues and how we as a group can help protect and preserve our waters of Virginia.
URL:https://www.nalms.org/event/2022-virginia-water-conference/
ATTACH;FMTTYPE=image/png:https://www.nalms.org/wp-content/uploads/2021/01/VLWA-Header-Logo-1030x213-1.png
END:VEVENT
BEGIN:VEVENT
DTSTART;TZID=America/Chicago:20220406T080000
DTEND;TZID=America/Chicago:20220408T170000
DTSTAMP:20211104T110808
CREATED:20210923T214721Z
LAST-MODIFIED:20210923T214721Z
UID:23233-1649232000-1649437200@www.nalms.org
SUMMARY:2022 Wisconsin Lakes And Rivers Convention
DESCRIPTION:After two years of virtual events\, we invite you to join us in-person at the 2022 Wisconsin Lakes and Rivers Convention in Stevens Point\, April 6-8. \nWith the theme Protecting What We Love for the Future\, this event will feature presenters who bring a wide range of experiences and expertise focusing on fish and wildlife habitat loss and restoration efforts; invasive species management through citizen monitoring and education; water resources protection and monitoring; the mitigation of climate consequences through resiliency\, adaptation\, and action; and increasing the functionality of organizations. \nThis Convention brings together scientists\, managers\, educators and citizen stakeholders to learn more about water resources so we can all work together to protect and restore our lakes and rivers for future generations.
URL:https://www.nalms.org/event/2022-wisconsin-lakes-and-rivers-convention/
CATEGORIES:Partner Events
ATTACH;FMTTYPE=image/jpeg:https://www.nalms.org/wp-content/uploads/2021/09/2022ConventionLogo.jpg
END:VEVENT
BEGIN:VEVENT
DTSTART;VALUE=DATE:20220514
DTEND;VALUE=DATE:20220521
DTSTAMP:20211104T110808
CREATED:20210126T225039Z
LAST-MODIFIED:20210806T201439Z
UID:22355-1652486400-1653091199@www.nalms.org
SUMMARY:Joint Aquatic Sciences Meeting 2022
DESCRIPTION:Mark your calendars for the Joint Aquatic Sciences Meeting in Grand Rapids\, Michigan\, May 14-20\, 2022.\nThe meeting will be held at the DeVos Place convention center and it is organized by the Consortium of Aquatic Science Societies (CASS)\, which includes: \nAmerican Fisheries Society \nAssociation for the Sciences of Limnology and Oceanography \nCoastal and Estuarine Research Federation \nFreshwater Mollusk Conservation Society \nInternational Association for Great Lakes Research \nNorth American Lake Management Society \nPhycological Society of America \nSociety for Freshwater Science \nSociety of Wetland Scientists
URL:https://www.nalms.org/event/joint-aquatic-sciences-meeting-2022/
LOCATION:DeVos Place\, 303 Monroe Ave NW\, Grand Rapids\, MI\, 49503\, United States
CATEGORIES:NALMS Events,Other Events
ATTACH;FMTTYPE=image/png:https://www.nalms.org/wp-content/uploads/2021/01/JASM-2022-square-transparent.png
ORGANIZER;CN="North%20American%20Lake%20Management%20Society":MAILTO:info@nalms.org
END:VEVENT
END:VCALENDAR