BEGIN:VCALENDAR
VERSION:2.0
PRODID:-//North American Lake Management Society (NALMS) - ECPv5.10.0//NONSGML v1.0//EN
CALSCALE:GREGORIAN
METHOD:PUBLISH
X-WR-CALNAME:North American Lake Management Society (NALMS)
X-ORIGINAL-URL:https://www.nalms.org
X-WR-CALDESC:Events for North American Lake Management Society (NALMS)
BEGIN:VTIMEZONE
TZID:America/New_York
BEGIN:DAYLIGHT
TZOFFSETFROM:-0500
TZOFFSETTO:-0400
TZNAME:EDT
DTSTART:20210314T070000
END:DAYLIGHT
BEGIN:STANDARD
TZOFFSETFROM:-0400
TZOFFSETTO:-0500
TZNAME:EST
DTSTART:20211107T060000
END:STANDARD
TZID:America/Chicago
BEGIN:DAYLIGHT
TZOFFSETFROM:-0600
TZOFFSETTO:-0500
TZNAME:CDT
DTSTART:20210314T080000
END:DAYLIGHT
BEGIN:STANDARD
TZOFFSETFROM:-0500
TZOFFSETTO:-0600
TZNAME:CST
DTSTART:20211107T070000
END:STANDARD
END:VTIMEZONE
BEGIN:VEVENT
DTSTART;TZID=America/New_York:20210831T080000
DTEND;TZID=America/New_York:20210831T170000
DTSTAMP:20211104T114119
CREATED:20210602T141726Z
LAST-MODIFIED:20210602T141726Z
UID:22837-1630396800-1630429200@www.nalms.org
SUMMARY:FLMS Pre-Symposium Workshops
DESCRIPTION:Four full-day workshops include:\nAlgal ID – general Identification & cyanobacteria focus\nDrone Applications in Lake Mgmt\nOxygenation and Circulation Techniques to Improve Water Quality\nIntroduction to Statistical Analysis and Machine Learning in R.\nView full descriptions at www.flms.net/chapters-and-workshops/technical-workshops/
URL:https://www.nalms.org/event/flms-pre-symposium-workshops/
LOCATION:Hawks Cay Resort\, 61 Hawks Cay Blvd\, Duck Key\, FL\, United States
CATEGORIES:Workshop
ATTACH;FMTTYPE=image/png:https://www.nalms.org/wp-content/uploads/2021/06/FLMS-Lilies.png
END:VEVENT
BEGIN:VEVENT
DTSTART;TZID=America/Chicago:20210205T073000
DTEND;TZID=America/Chicago:20210205T113000
DTSTAMP:20211104T114119
CREATED:20210114T182829Z
LAST-MODIFIED:20210114T182829Z
UID:22057-1612510200-1612524600@www.nalms.org
SUMMARY:FLMS Virtual Workshop: Algal Identification in the Environment
DESCRIPTION:Part 1: Workshop Description: This workshop is designed as an introduction to the general groups of freshwater algae\, their ecology and diversity. We will review key features distinguishing the major algal groups: cyanobacteria\, chlorophytes\, diatoms\, dinoflagellates\, red algae\, euglenophytes\, etc. and spend some time looking at specimens under the scope. \nPart 2:  Workshop Description: This workshop has a special focus on harmful and nuisance algae (focusing on cyanobacteria) in freshwater systems. We will dive into the ecology of both planktonic and benthic members of this group\, while identifying major problematic taxa (genera and species). Together\, we will identify morphological features that are used in discern these genera.  Depending on time\, aspects of toxicity and control will also be discussed.
URL:https://www.nalms.org/event/flms-virtual-workshop-algal-identification-in-the-environment/
LOCATION:FL
CATEGORIES:NALMS Affiliate Events,Workshop
ATTACH;FMTTYPE=image/png:https://www.nalms.org/wp-content/uploads/2017/04/FLMS.png
ORGANIZER;CN="Florida%20Lake%20Management%20Society":MAILTO:Maryann@FLMS.net
END:VEVENT
END:VCALENDAR