BEGIN:VCALENDAR
VERSION:2.0
PRODID:-//North American Lake Management Society (NALMS) - ECPv6.15.20//NONSGML v1.0//EN
CALSCALE:GREGORIAN
METHOD:PUBLISH
X-WR-CALNAME:North American Lake Management Society (NALMS)
X-ORIGINAL-URL:https://www.nalms.org
X-WR-CALDESC:Events for North American Lake Management Society (NALMS)
REFRESH-INTERVAL;VALUE=DURATION:PT1H
X-Robots-Tag:noindex
X-PUBLISHED-TTL:PT1H
BEGIN:VTIMEZONE
TZID:America/Chicago
BEGIN:DAYLIGHT
TZOFFSETFROM:-0600
TZOFFSETTO:-0500
TZNAME:CDT
DTSTART:20210314T080000
END:DAYLIGHT
BEGIN:STANDARD
TZOFFSETFROM:-0500
TZOFFSETTO:-0600
TZNAME:CST
DTSTART:20211107T070000
END:STANDARD
BEGIN:DAYLIGHT
TZOFFSETFROM:-0600
TZOFFSETTO:-0500
TZNAME:CDT
DTSTART:20220313T080000
END:DAYLIGHT
BEGIN:STANDARD
TZOFFSETFROM:-0500
TZOFFSETTO:-0600
TZNAME:CST
DTSTART:20221106T070000
END:STANDARD
BEGIN:DAYLIGHT
TZOFFSETFROM:-0600
TZOFFSETTO:-0500
TZNAME:CDT
DTSTART:20230312T080000
END:DAYLIGHT
BEGIN:STANDARD
TZOFFSETFROM:-0500
TZOFFSETTO:-0600
TZNAME:CST
DTSTART:20231105T070000
END:STANDARD
END:VTIMEZONE
BEGIN:VEVENT
DTSTART;TZID=America/Chicago:20220611T110000
DTEND;TZID=America/Chicago:20220611T140000
DTSTAMP:20260423T131933
CREATED:20220609T162038Z
LAST-MODIFIED:20220609T162038Z
UID:24008-1654945200-1654956000@www.nalms.org
SUMMARY:Western Washington Lakes Workshop
DESCRIPTION:This event is perfect for lake-area residents and recreators that are interested in learning more about lake ecosystems and connecting with communities across Western Washington. \nTHIS YEAR’S TOPICS INCLUDE:\n\nLakes 101\nConsiderations and tips for organizing a lake group\nCyanobacteria and toxic algae\nAquatic plant identification and management\nExperiences of local lake groups\n\nView the full agenda here. \nHOW TO SIGN UP:\n1. Click here to register for this free workshop. \n2. Look for a confirmation email with a link to the Zoom meeting within 24 hours. If you do not receive a confirmation email with Zoom instructions please email Katie (contact information below). \n3. Save the date on your calendar.
URL:https://www.nalms.org/event/western-washington-lakes-workshop/
LOCATION:MT
CATEGORIES:Workshop
ATTACH;FMTTYPE=image/gif:https://www.nalms.org/wp-content/uploads/2017/04/walpa-logo.gif
END:VEVENT
END:VCALENDAR