BEGIN:VCALENDAR
VERSION:2.0
PRODID:-//North American Lake Management Society (NALMS) - ECPv6.15.20//NONSGML v1.0//EN
CALSCALE:GREGORIAN
METHOD:PUBLISH
X-ORIGINAL-URL:https://www.nalms.org
X-WR-CALDESC:Events for North American Lake Management Society (NALMS)
REFRESH-INTERVAL;VALUE=DURATION:PT1H
X-Robots-Tag:noindex
X-PUBLISHED-TTL:PT1H
BEGIN:VTIMEZONE
TZID:America/Chicago
BEGIN:DAYLIGHT
TZOFFSETFROM:-0600
TZOFFSETTO:-0500
TZNAME:CDT
DTSTART:20230312T080000
END:DAYLIGHT
BEGIN:STANDARD
TZOFFSETFROM:-0500
TZOFFSETTO:-0600
TZNAME:CST
DTSTART:20231105T070000
END:STANDARD
BEGIN:DAYLIGHT
TZOFFSETFROM:-0600
TZOFFSETTO:-0500
TZNAME:CDT
DTSTART:20240310T080000
END:DAYLIGHT
BEGIN:STANDARD
TZOFFSETFROM:-0500
TZOFFSETTO:-0600
TZNAME:CST
DTSTART:20241103T070000
END:STANDARD
BEGIN:DAYLIGHT
TZOFFSETFROM:-0600
TZOFFSETTO:-0500
TZNAME:CDT
DTSTART:20250309T080000
END:DAYLIGHT
BEGIN:STANDARD
TZOFFSETFROM:-0500
TZOFFSETTO:-0600
TZNAME:CST
DTSTART:20251102T070000
END:STANDARD
BEGIN:DAYLIGHT
TZOFFSETFROM:-0600
TZOFFSETTO:-0500
TZNAME:CDT
DTSTART:20260308T080000
END:DAYLIGHT
BEGIN:STANDARD
TZOFFSETFROM:-0500
TZOFFSETTO:-0600
TZNAME:CST
DTSTART:20261101T070000
END:STANDARD
BEGIN:DAYLIGHT
TZOFFSETFROM:-0600
TZOFFSETTO:-0500
TZNAME:CDT
DTSTART:20270314T080000
END:DAYLIGHT
BEGIN:STANDARD
TZOFFSETFROM:-0500
TZOFFSETTO:-0600
TZNAME:CST
DTSTART:20271107T070000
END:STANDARD
END:VTIMEZONE
BEGIN:VEVENT
DTSTART;TZID=America/Chicago:20240328T140000
DTEND;TZID=America/Chicago:20240328T150000
DTSTAMP:20260423T201043
CREATED:20240312T191517Z
LAST-MODIFIED:20240312T191517Z
UID:28366-1711634400-1711638000@www.nalms.org
SUMMARY:Clear Lake's Toxic Legacy: Exploring Cyanotoxin Production and its Impact on Beneficial Uses
DESCRIPTION:Presenter: Sarah Ryan\nEnvironmental Director/Emergency Management Director\nEnvironmental Protection Department\, Big Valley Band of Pomo Indians \n“Clear Lake’s Toxic Legacy: Exploring Cyanotoxin Production and Its Impact on Beneficial Uses” will highlight the work of the Big Valley Band of Pomo Indians since 2014 in evaluating recurring cyanobacteria blooms on Clear Lake. Through toxin analyses of tissue\, ambient water and private water systems\, the Tribe has put together a compelling narrative on the wide-reaching impacts of cyanotoxins\, the importance of educating the public\, and the need for standards to protect sensitive populations. \nJoin with Google Meet: https://meet.google.com/wmc-vbwt-wzx\nOr dial: (US) +1 872-256-0853 PIN: 293696645#\nMore phone numbers: https://tel.meet/wmc-vbwt-wzx?pin=8881496353263&hs=7
URL:https://www.nalms.org/event/clear-lakes-toxic-legacy-exploring-cyanotoxin-production-and-its-impact-on-beneficial-uses/
CATEGORIES:Webinars
ATTACH;FMTTYPE=image/png:https://www.nalms.org/wp-content/uploads/2024/03/CALMS_2.png
END:VEVENT
BEGIN:VEVENT
DTSTART;TZID=America/Chicago:20240417T140000
DTEND;TZID=America/Chicago:20240417T150000
DTSTAMP:20260423T201043
CREATED:20240410T155435Z
LAST-MODIFIED:20240410T155435Z
UID:28744-1713362400-1713366000@www.nalms.org
SUMMARY:CALMS Webinar: Risk Management Strategies for Microplastics in Aquatic Environments
DESCRIPTION:Presenter: Scott Coffin\, California Office of Environmental Health Hazard Assessment \nMicroplastics and their constituents have been an emerging contaminant of concern for human health and the environment. Join us with Scott Coffin of the California Environmental Protection Agency’s office of Environmental Health Hazard Assessment (OEHHA) to discuss risk management strategies for microplastics in aquatic environments.
URL:https://www.nalms.org/event/calms-webinar-risk-management-strategies-for-microplastics-in-aquatic-environments/
CATEGORIES:Webinars
END:VEVENT
BEGIN:VEVENT
DTSTART;TZID=America/Chicago:20240731T070000
DTEND;TZID=America/Chicago:20240731T083000
DTSTAMP:20260423T201043
CREATED:20240724T151534Z
LAST-MODIFIED:20240724T151534Z
UID:29944-1722409200-1722414600@www.nalms.org
SUMMARY:The contributions of Indigenous People's earth observations to water quality monitoring
DESCRIPTION:Indigenous Peoples hold vast knowledge of the planet and its resources. This knowledge is essential to maintain the healthiest ecosystems on the planet and can support current monitoring efforts. While advances to integrate indigenous knowledge exist\, a proper involvement of indigenous peoples in policy and scientific process has to date been limited. Consequently\, the precise observations of indigenous peoples remain poorly integrated and overlooked. In this webinar we will present examples of indigenous people’s observations\, understandings and ways of managing the natural environment\, with focus on components of the hydrological cycle. We will explore further cases that will complement results of our most recent publication and discuss the potential of indigenous knowledge for supporting global water monitoring efforts. The workshop will take place online and the language will be in English. This workshop is organised by GEO AquaWatch\, GEO Indigenous Alliance\, AquaWatch Australia and the World Water Quality Alliance (WWQA).
URL:https://www.nalms.org/event/the-contributions-of-indigenous-peoples-earth-observations-to-water-quality-monitoring/
CATEGORIES:Webinars
ATTACH;FMTTYPE=image/png:https://www.nalms.org/wp-content/uploads/2024/07/speakers-card-4-768x432-1.png
END:VEVENT
BEGIN:VEVENT
DTSTART;TZID=America/Chicago:20250211T130000
DTEND;TZID=America/Chicago:20250212T123000
DTSTAMP:20260423T201043
CREATED:20241023T173144Z
LAST-MODIFIED:20241023T173144Z
UID:30793-1739278800-1739363400@www.nalms.org
SUMMARY:Introduction to Wetland Identification
DESCRIPTION:Get the basic skills you need to identify a wetland’s presence\, including plant identification and soil recognition\, as well as an introduction to wetland delineation.
URL:https://www.nalms.org/event/introduction-to-wetland-identification/
LOCATION:online\, n/a\, n/a\, n/a\, n/a
CATEGORIES:Webinars
ATTACH;FMTTYPE=image/jpeg:https://www.nalms.org/wp-content/uploads/2024/10/introductionto-wetland-identification-2025.jpg
ORGANIZER;CN="Rutgers University":MAILTO:OCPE@njaes.rutgers.edu
END:VEVENT
BEGIN:VEVENT
DTSTART;TZID=America/Chicago:20250410T170000
DTEND;TZID=America/Chicago:20250410T180000
DTSTAMP:20260423T201043
CREATED:20250325T195019Z
LAST-MODIFIED:20250325T195019Z
UID:31850-1744304400-1744308000@www.nalms.org
SUMMARY:Webinar: Celebrating 20 Years of LakeSmart
DESCRIPTION:Caroline Seibert\, Maine Lakes LakeSmart Coordinator\, will look back at 20+ years of LakeSmart in the state of Maine\, how it has worked to protect lakes\, and how it continues to expand and grow to create sustained and lasting impacts on Maine lakes.
URL:https://www.nalms.org/event/webinar-celebrating-20-years-of-lakesmart/
CATEGORIES:Webinars
END:VEVENT
BEGIN:VEVENT
DTSTART;TZID=America/Chicago:20250508T110000
DTEND;TZID=America/Chicago:20250508T120000
DTSTAMP:20260423T201043
CREATED:20250325T195301Z
LAST-MODIFIED:20250325T195301Z
UID:31852-1746702000-1746705600@www.nalms.org
SUMMARY:Webinar: Our Shore - Living Shorelines and Nature-based Solutions for Erosion Control
DESCRIPTION:Nate Robbins\, the lead for Climate Change and Adaptation in the Commissioner’s Office of the Department of Environmental Protection\, will be sharing some of the current research\, outreach\, and policies related to climate change actions on shorelines and lake health.
URL:https://www.nalms.org/event/webinar-our-shore-living-shorelines-and-nature-based-solutions-for-erosion-control/
CATEGORIES:Webinars
END:VEVENT
BEGIN:VEVENT
DTSTART;TZID=America/Chicago:20250911T140000
DTEND;TZID=America/Chicago:20250911T150000
DTSTAMP:20260423T201043
CREATED:20250904T141914Z
LAST-MODIFIED:20250909T140051Z
UID:32300-1757599200-1757602800@www.nalms.org
SUMMARY:Webinar: Uncharted Waters Part 1
DESCRIPTION:Uncharted Waters: Communication & Advocacy Skills for Uncertain Times is a FREE 2-part webinar series focused on science communication skills and their application in policymaking\, advocacy\, media\, and other communications outlets. \nThe first webinar will be led by Lexi Shultz\, Vice President of Science Policy & Government Relations at the American Geophysical Union (AGU). Details below: \nUncharted Waters Part One: Science Communication Skills & Engaging Policymakers\nDate: Thursday\, September 11\, 2025\nTime: 3pm ET / 12 pm PT\nWhere: Zoom: please register ahead of time at https://tinyurl.com/nhhu5x2j \nThe presentation will be recorded and sent out to all registrants\, so please register even if you are unable to attend live. Participants will also receive helpful worksheets and other relevant resources following the webinars. \nStay tuned for Part Two: Science Communication in Action: Advocacy & Journalism!
URL:https://www.nalms.org/event/webinar-uncharted-waters-1/
CATEGORIES:NALMS Events,Webinars
ATTACH;FMTTYPE=image/jpeg:https://www.nalms.org/wp-content/uploads/2025/09/059b0094-acb3-4d4b-b478-fd7e1d218f21.jpeg
ORGANIZER;CN="North American Lake Management Society":MAILTO:info@nalms.org
END:VEVENT
BEGIN:VEVENT
DTSTART;TZID=America/Chicago:20250917T120000
DTEND;TZID=America/Chicago:20250917T130000
DTSTAMP:20260423T201043
CREATED:20250909T140406Z
LAST-MODIFIED:20250909T140407Z
UID:32321-1758110400-1758114000@www.nalms.org
SUMMARY:Webinar: Uncharted Waters Part 2
DESCRIPTION:Save the date! Announcing Part 2 of NALMS’ Education\, Communications & Outreach Committee’s first webinar series for early career professionals! \nUncharted Waters: Communication & Advocacy Skills for Uncertain Times is a FREE 2-part webinar series focused on science communication skills and their application in policymaking\, advocacy\, media\, and other communications outlets.  \nThe second webinar will be a panel on broadening science communication skills with presentations by: \n\nMohamed Yakub\, biologist and Scientific Outreach Manager at SciLine\, an organization that connects scientists with journalists and provides free trainings for both.\nKellie Merrell\, aquatic ecologist and member of the NALMS 314 Working Group that advocates for Section 314 of the Clean Water Act (Clean Lakes Program). \n\nTitle: Science Communication in Action: Journalism & Policy Advocacy\nDate: Wednesday\, September 17\, 2025\nTime: 1pm ET / 10am PT\nWhere: Zoom: please register ahead of time at https://tinyurl.com/5fcnacpz  \nThe presentation will be recorded and sent out to all registrants\, so please register even if you are unable to attend live. Participants will also receive helpful worksheets and other relevant resources following the webinars.
URL:https://www.nalms.org/event/webinar-uncharted-waters-part-2/
CATEGORIES:NALMS Events,Webinars
ATTACH;FMTTYPE=image/jpeg:https://www.nalms.org/wp-content/uploads/2025/09/33cf970e-b4d5-453f-9f83-7daf120e7c28.jpeg
ORGANIZER;CN="North American Lake Management Society":MAILTO:info@nalms.org
END:VEVENT
BEGIN:VEVENT
DTSTART;TZID=America/Chicago:20260318T120000
DTEND;TZID=America/Chicago:20260318T130000
DTSTAMP:20260423T201043
CREATED:20260225T203129Z
LAST-MODIFIED:20260225T203129Z
UID:32566-1773835200-1773838800@www.nalms.org
SUMMARY:NALMS Webinar: Water\, People\, and Beyond
DESCRIPTION:
URL:https://www.nalms.org/event/nalms-webinar-water-people-and-beyond/
CATEGORIES:NALMS Events,Webinars
ORGANIZER;CN="North American Lake Management Society":MAILTO:info@nalms.org
END:VEVENT
BEGIN:VEVENT
DTSTART;TZID=America/Chicago:20261020T130000
DTEND;TZID=America/Chicago:20261020T140000
DTSTAMP:20260423T201043
CREATED:20260402T190323Z
LAST-MODIFIED:20260402T190323Z
UID:32784-1792501200-1792504800@www.nalms.org
SUMMARY:Webinar: Lake weeds or plant communities? Some thoughts on Eurasian watermilfoil management\, control prioritization\, and new work to nurture care and appreciation
DESCRIPTION:Free Midwest Glacial Lakes Partnership Webinar\nRegistration: http://midwestglaciallakes.org/resources/webinars/\nDescription: This presentation will start with some findings about Eurasian watermilfoil management and management prioritization – in that work\, we wanted to better understand and provide context to some of the effects of whole lake herbicide treatments we observed in survey data. From there\, we developed a model to predict lakes likely to experience future EWM introductions and lakes likely able to support dense populations. We hope that information could help guide smart prevention and smart management. More recently\, we are interested in expanding the way folks are able to think and talk about plant communities – by naming\, narrating\, and celebrating unique community assemblages\, we hope eventually to enable people to appreciate\, connect to\, and experience part of the natural world that usually remains hidden.
URL:https://www.nalms.org/event/webinar-lake-weeds-or-plant-communities-some-thoughts-on-eurasian-watermilfoil-management-control-prioritization-and-new-work-to-nurture-care-and-appreciation/
LOCATION:online\, n/a\, n/a\, n/a\, n/a
CATEGORIES:Webinars
ATTACH;FMTTYPE=image/jpeg:https://www.nalms.org/wp-content/uploads/2026/04/Hein_Mikulyuk_thumbnail.jpg
ORGANIZER;CN="Midwest Glacial Lakes Partnership":MAILTO:nohnerj@michigan.gov
END:VEVENT
BEGIN:VEVENT
DTSTART;TZID=America/Chicago:20261117T130000
DTEND;TZID=America/Chicago:20261117T140000
DTSTAMP:20260423T201043
CREATED:20260402T190332Z
LAST-MODIFIED:20260402T190332Z
UID:32792-1794920400-1794924000@www.nalms.org
SUMMARY:Webinar: Walleye stocking success in the Midwestern USA
DESCRIPTION:Free Midwest Glacial Lakes Partnership Webinar\nRegistration: http://midwestglaciallakes.org/resources/webinars/\nDescription: This study evaluated stocking success of Walleye in lakes and reservoirs across the Midwestern United States to inform stocking practices for state agencies. Demand for Walleye stocking may increase if climate change limits the potential for natural recruitment in lakes. Consequently\, the strategic distribution of Walleye stocking may maximize fishing opportunities. Latitude and year explained relatively little variation in stocking success compared to within‐lake variation. Relative abundance of Largemouth Bass was an important indicator of Walleye stocking success for fry and fingerlings\, with stocking success generally decreasing with increased bass abundance. There was an interaction between lake surface area and growing degree‐days\, as large lakes (>2500 ha) seemed to be more conducive to Walleye stocking success regardless of growing degree‐days. The models that we developed did not accurately predict exact levels of Walleye stocking success but were 92–94% accurate in predicting whether the stocking success of both fry and fingerlings would be at or above the 50th percentile. These findings may help to inform the management and stocking allocation of Walleye and suggest that future increases in Largemouth Bass abundance and growing degree‐days could limit the effectiveness of stocking in some lakes.
URL:https://www.nalms.org/event/webinar-walleye-stocking-success-in-the-midwestern-usa/
LOCATION:online\, n/a\, n/a\, n/a\, n/a
CATEGORIES:Webinars
ATTACH;FMTTYPE=image/jpeg:https://www.nalms.org/wp-content/uploads/2026/04/Davis_Isermann_thumnail.jpg
ORGANIZER;CN="Midwest Glacial Lakes Partnership":MAILTO:nohnerj@michigan.gov
END:VEVENT
END:VCALENDAR