BEGIN:VCALENDAR
VERSION:2.0
PRODID:-//North American Lake Management Society (NALMS) - ECPv5.10.0//NONSGML v1.0//EN
CALSCALE:GREGORIAN
METHOD:PUBLISH
X-WR-CALNAME:North American Lake Management Society (NALMS)
X-ORIGINAL-URL:https://www.nalms.org
X-WR-CALDESC:Events for North American Lake Management Society (NALMS)
BEGIN:VTIMEZONE
TZID:America/Chicago
BEGIN:DAYLIGHT
TZOFFSETFROM:-0600
TZOFFSETTO:-0500
TZNAME:CDT
DTSTART:20210314T080000
END:DAYLIGHT
BEGIN:STANDARD
TZOFFSETFROM:-0500
TZOFFSETTO:-0600
TZNAME:CST
DTSTART:20211107T070000
END:STANDARD
END:VTIMEZONE
BEGIN:VEVENT
DTSTART;TZID=America/Chicago:20211115T180000
DTEND;TZID=America/Chicago:20211115T200000
DTSTAMP:20211104T072840
CREATED:20211011T204408Z
LAST-MODIFIED:20211011T204459Z
UID:23290-1636999200-1637006400@www.nalms.org
SUMMARY:Webinar: The Power of the Past and Present Data
DESCRIPTION:A Fall Science at Night Virtual Seminar Series for the public\, students and scientists interested in local lake conservation and management. Based on the conversation started in 2019\, and continued in 2020\, stakeholders this year will gain understanding of the diverse threats impacting our regional lakes. \n“The Power of the Past and Present Data.”\n7 p.m. – WCSU Professor of Biology Dr. Theodora Pinou\, who will introduce the topic and the speaker. \n7:20 p.m. – Traci Iott\, supervising environmental analyst\, Water Quality Group\, CT DEEP Bureau of Water Protection & Land Reuse\, who will discuss “Statewide Lake Nutrient TMDL and Bantam Lake Appendix.” \n8 p.m. – Audience Q & A \n8:10 p.m. – Susan Peterson\, Housatonic and Farmington Watershed manager\, CT DEEP Bureau of Water Protection & Land Reuse\, who will discuss “Bantam Lake Watershed-Based Plan Addendum.” \n8:50 p.m. – Audience Q & A \nRegistration is required. Register at https://westconn.tfaforms.net/217. A custom link will be emailed on the day of the talk.
URL:https://www.nalms.org/event/webinar-the-power-of-the-past-and-present-data/
LOCATION:n/a
CATEGORIES:Webinars
ATTACH;FMTTYPE=image/jpeg:https://www.nalms.org/wp-content/uploads/2020/09/WCSU-Primary-Shield-01-scaled.jpg
END:VEVENT
END:VCALENDAR