BEGIN:VCALENDAR
VERSION:2.0
PRODID:-//North American Lake Management Society (NALMS) - ECPv6.15.20//NONSGML v1.0//EN
CALSCALE:GREGORIAN
METHOD:PUBLISH
X-WR-CALNAME:North American Lake Management Society (NALMS)
X-ORIGINAL-URL:https://www.nalms.org
X-WR-CALDESC:Events for North American Lake Management Society (NALMS)
REFRESH-INTERVAL;VALUE=DURATION:PT1H
X-Robots-Tag:noindex
X-PUBLISHED-TTL:PT1H
BEGIN:VTIMEZONE
TZID:America/Chicago
BEGIN:DAYLIGHT
TZOFFSETFROM:-0600
TZOFFSETTO:-0500
TZNAME:CDT
DTSTART:20220313T080000
END:DAYLIGHT
BEGIN:STANDARD
TZOFFSETFROM:-0500
TZOFFSETTO:-0600
TZNAME:CST
DTSTART:20221106T070000
END:STANDARD
BEGIN:DAYLIGHT
TZOFFSETFROM:-0600
TZOFFSETTO:-0500
TZNAME:CDT
DTSTART:20230312T080000
END:DAYLIGHT
BEGIN:STANDARD
TZOFFSETFROM:-0500
TZOFFSETTO:-0600
TZNAME:CST
DTSTART:20231105T070000
END:STANDARD
BEGIN:DAYLIGHT
TZOFFSETFROM:-0600
TZOFFSETTO:-0500
TZNAME:CDT
DTSTART:20240310T080000
END:DAYLIGHT
BEGIN:STANDARD
TZOFFSETFROM:-0500
TZOFFSETTO:-0600
TZNAME:CST
DTSTART:20241103T070000
END:STANDARD
END:VTIMEZONE
BEGIN:VEVENT
DTSTART;TZID=America/Chicago:20230817T130000
DTEND;TZID=America/Chicago:20230817T140000
DTSTAMP:20260424T024456
CREATED:20230619T145621Z
LAST-MODIFIED:20230619T162521Z
UID:26148-1692277200-1692280800@www.nalms.org
SUMMARY:August 2023 Webinar - Conservation Planning in Municipalities: Case Studies of Urban Wetlands & Waterways
DESCRIPTION:Community conservation planning practices decrease the negative impacts of development on nature. They are also applied by communities seeking enhanced benefits from the natural resources they manage. Ronda will provide an overview of community plans that have led to urban water projects including comprehensive plans\, park system master plans\, economic development strategic plans\, resiliency plans\, property management plans and more. Case studies from the lower Midwest will be shared to illustrate how wetlands and other water resources are being managed by communities of all sizes as green infrastructure and for other ecosystem services. \nSpeaker: Ronda Burnett
URL:https://www.nalms.org/event/august-2023-webinar-conservation-planning-in-municipalities-case-studies-of-urban-wetlands-waterways/
LOCATION:n/a
CATEGORIES:Webinars
ATTACH;FMTTYPE=image/jpeg:https://www.nalms.org/wp-content/uploads/2023/06/aug-web-extra-picture.jpg
END:VEVENT
END:VCALENDAR