BEGIN:VCALENDAR
VERSION:2.0
PRODID:-//North American Lake Management Society (NALMS) - ECPv6.15.20//NONSGML v1.0//EN
CALSCALE:GREGORIAN
METHOD:PUBLISH
X-ORIGINAL-URL:https://www.nalms.org
X-WR-CALDESC:Events for North American Lake Management Society (NALMS)
REFRESH-INTERVAL;VALUE=DURATION:PT1H
X-Robots-Tag:noindex
X-PUBLISHED-TTL:PT1H
BEGIN:VTIMEZONE
TZID:America/Chicago
BEGIN:DAYLIGHT
TZOFFSETFROM:-0600
TZOFFSETTO:-0500
TZNAME:CDT
DTSTART:20220313T080000
END:DAYLIGHT
BEGIN:STANDARD
TZOFFSETFROM:-0500
TZOFFSETTO:-0600
TZNAME:CST
DTSTART:20221106T070000
END:STANDARD
BEGIN:DAYLIGHT
TZOFFSETFROM:-0600
TZOFFSETTO:-0500
TZNAME:CDT
DTSTART:20230312T080000
END:DAYLIGHT
BEGIN:STANDARD
TZOFFSETFROM:-0500
TZOFFSETTO:-0600
TZNAME:CST
DTSTART:20231105T070000
END:STANDARD
BEGIN:DAYLIGHT
TZOFFSETFROM:-0600
TZOFFSETTO:-0500
TZNAME:CDT
DTSTART:20240310T080000
END:DAYLIGHT
BEGIN:STANDARD
TZOFFSETFROM:-0500
TZOFFSETTO:-0600
TZNAME:CST
DTSTART:20241103T070000
END:STANDARD
END:VTIMEZONE
BEGIN:VEVENT
DTSTART;TZID=America/Chicago:20230712T120000
DTEND;TZID=America/Chicago:20230712T130000
DTSTAMP:20260424T002528
CREATED:20230619T143431Z
LAST-MODIFIED:20230619T162650Z
UID:26146-1689163200-1689166800@www.nalms.org
SUMMARY:Women in Wetlands Section Webinar: Does restoration work? An amphibian-centric look at restoration in geographically isolated wetlands
DESCRIPTION:This webinar is for SWS members only. \nGeographically isolated wetlands provide a critical habitat for pond-breeding amphibians\, a taxa of broad conservation concern. Restoration of wetlands typically includes goals to recover the wetlands’ physiochemical\, hydrological\, and ecological functions. However\, for pond-breeding amphibians\, successful restoration should also result in sustained populations\, which is difficult to assess and infrequently reported. In this talk\, I will provide a broad overview of restoration practices addressing hydrology\, vegetation\, and ecological processes within these unique environments and across spatial scales. Then I will summarize the evidence\, and discuss the limitations\, for evaluating successful restoration within the context of amphibian conservation. Finally\, I will share some recommendations for researchers and practitioners to leverage prior successes and establish systematic data collection and dissemination. \nSpeaker: Angela Burrows
URL:https://www.nalms.org/event/women-in-wetlands-section-webinar-does-restoration-work-an-amphibian-centric-look-at-restoration-in-geographically-isolated-wetlands/
LOCATION:n/a
CATEGORIES:Webinars
ATTACH;FMTTYPE=image/jpeg:https://www.nalms.org/wp-content/uploads/2023/06/thumbnail-Angela-Burrow-terrapin-April-2021.jpg
END:VEVENT
BEGIN:VEVENT
DTSTART;TZID=America/Chicago:20230720T130000
DTEND;TZID=America/Chicago:20230720T140000
DTSTAMP:20260424T002528
CREATED:20230619T145016Z
LAST-MODIFIED:20230619T162641Z
UID:26149-1689858000-1689861600@www.nalms.org
SUMMARY:July 2023 Webinar - A Broad Scale 2\,500 Acre Wetland Habitat Restoration Project in South Florida
DESCRIPTION:Monthly webinars are offered as a benefit of membership. Once each quarter\, in March\, July\, September\, and December\, the monthly SWS webinar is open for non-members to attend (and at no cost)\, as well. \nAvenir is a mixed-use development in Palm Beach Gardens\, Florida. The parent property was comprised of 4\,763 +/- acres of highly altered lands\, ditched and drained to support various agricultural uses for over 50 years. Over 50% of the property (2\,400 +/- acres) was set aside for habitat restoration\, wetland mitigation\, and conservation. This webinar focuses on the approach\, design\, and implementation of the native habitat restoration and conservation elements of the project. \nFrom a regional perspective\, the Avenir habitat restoration project is uniquely situated in the broader landscape such that the benefits to the regional ecology are much greater than the sum of its parts. The parent property was the only remaining privately owned parcel in a regional continuum of publicly owned and managed conservation properties extending from Lake Okeechobee to the Atlantic Ocean. For over 40 years prior to the Avenir project\, the parent property was the subject of multiple conservation acquisition efforts by local\, state\, and federal entities. This “missing link” in the regional ecology now functions as a wildlife corridor connection\, an enhancement to water storage and water quality for the Northern Everglades system\, and renewed habitat for a diverse assemblage of wildlife including several species listed as threatened or endangered. Of significant importance is the fact that this has been achieved without expenditure of public funds for acquisition\, restoration\, and long-term management. \nWe will describe the base conditions\, habitat restoration techniques\, successes\, and learning experiences in this ongoing project. A combination of invasive species eradication and hydrologic restoration actions will be discussed along with the adaptive management approaches developed as the project has progressed. \nSpeaker: Edward R. Weinberg
URL:https://www.nalms.org/event/july-2023-webinar-a-broad-scale-2500-acre-wetland-habitat-restoration-project-in-south-florida/
LOCATION:n/a
CATEGORIES:Webinars
ATTACH;FMTTYPE=image/jpeg:https://www.nalms.org/wp-content/uploads/2023/06/pre-restoration-smaller.jpg
END:VEVENT
END:VCALENDAR