BEGIN:VCALENDAR
VERSION:2.0
PRODID:-//North American Lake Management Society (NALMS) - ECPv6.15.20//NONSGML v1.0//EN
CALSCALE:GREGORIAN
METHOD:PUBLISH
X-ORIGINAL-URL:https://www.nalms.org
X-WR-CALDESC:Events for North American Lake Management Society (NALMS)
REFRESH-INTERVAL;VALUE=DURATION:PT1H
X-Robots-Tag:noindex
X-PUBLISHED-TTL:PT1H
BEGIN:VTIMEZONE
TZID:America/Chicago
BEGIN:DAYLIGHT
TZOFFSETFROM:-0600
TZOFFSETTO:-0500
TZNAME:CDT
DTSTART:20210314T080000
END:DAYLIGHT
BEGIN:STANDARD
TZOFFSETFROM:-0500
TZOFFSETTO:-0600
TZNAME:CST
DTSTART:20211107T070000
END:STANDARD
BEGIN:DAYLIGHT
TZOFFSETFROM:-0600
TZOFFSETTO:-0500
TZNAME:CDT
DTSTART:20220313T080000
END:DAYLIGHT
BEGIN:STANDARD
TZOFFSETFROM:-0500
TZOFFSETTO:-0600
TZNAME:CST
DTSTART:20221106T070000
END:STANDARD
BEGIN:DAYLIGHT
TZOFFSETFROM:-0600
TZOFFSETTO:-0500
TZNAME:CDT
DTSTART:20230312T080000
END:DAYLIGHT
BEGIN:STANDARD
TZOFFSETFROM:-0500
TZOFFSETTO:-0600
TZNAME:CST
DTSTART:20231105T070000
END:STANDARD
END:VTIMEZONE
BEGIN:VEVENT
DTSTART;TZID=America/Chicago:20220504T150000
DTEND;TZID=America/Chicago:20220504T160000
DTSTAMP:20260423T180057
CREATED:20220510T202008Z
LAST-MODIFIED:20220510T202008Z
UID:23934-1651676400-1651680000@www.nalms.org
SUMMARY:Going With the Flow: Community-Based Watershed Learning
DESCRIPTION:Building on the findings of the Community-Based Environmental Learning Census 2019\, recent discussions have focused on what concepts are necessary for individuals and communities to learn\, in order to select actions that protect the land and water of our watersheds. What are the next steps and how can lake associations be involved?
URL:https://www.nalms.org/event/going-with-the-flow-community-based-watershed-learning/
LOCATION:n/a
CATEGORIES:Webinars
ATTACH;FMTTYPE=image/jpeg:https://www.nalms.org/wp-content/uploads/2020/07/Maine-Lakes-e1641413446116.jpg
END:VEVENT
BEGIN:VEVENT
DTSTART;TZID=America/Chicago:20220518T150000
DTEND;TZID=America/Chicago:20220518T160000
DTSTAMP:20260423T180057
CREATED:20220510T202158Z
LAST-MODIFIED:20220510T202158Z
UID:23935-1652886000-1652889600@www.nalms.org
SUMMARY:Getting into the Habit(at): Assessing Shallow Water Habitat in Maine Lakes
DESCRIPTION:Habitat in the shallow areas of lakes is important for all lake life\, but it can be degraded by loss of shoreland vegetation and poorly managed human development on lakeshores. We have developed methods to determine what natural shallow water habitat looks like in Maine lakes\, and measure how it is affected by human-induced activities along lakeshores. These surveys will help to determine which lakes need the most shoreland rehabilitation to help support healthy habitat. This presentation will discuss how those surveys are conducted and what the results mean for lakes in Maine.
URL:https://www.nalms.org/event/getting-into-the-habitat-assessing-shallow-water-habitat-in-maine-lakes/
LOCATION:n/a
CATEGORIES:Webinars
ATTACH;FMTTYPE=image/jpeg:https://www.nalms.org/wp-content/uploads/2020/07/Maine-Lakes-e1641413446116.jpg
END:VEVENT
END:VCALENDAR