BEGIN:VCALENDAR
VERSION:2.0
PRODID:-//North American Lake Management Society (NALMS) - ECPv5.10.0//NONSGML v1.0//EN
CALSCALE:GREGORIAN
METHOD:PUBLISH
X-WR-CALNAME:North American Lake Management Society (NALMS)
X-ORIGINAL-URL:https://www.nalms.org
X-WR-CALDESC:Events for North American Lake Management Society (NALMS)
BEGIN:VTIMEZONE
TZID:America/Chicago
BEGIN:DAYLIGHT
TZOFFSETFROM:-0600
TZOFFSETTO:-0500
TZNAME:CDT
DTSTART:20210314T080000
END:DAYLIGHT
BEGIN:STANDARD
TZOFFSETFROM:-0500
TZOFFSETTO:-0600
TZNAME:CST
DTSTART:20211107T070000
END:STANDARD
END:VTIMEZONE
BEGIN:VEVENT
DTSTART;TZID=America/Chicago:20211117T090000
DTEND;TZID=America/Chicago:20211117T160000
DTSTAMP:20211104T120448
CREATED:20211102T134439Z
LAST-MODIFIED:20211102T220322Z
UID:23395-1637139600-1637164800@www.nalms.org
SUMMARY:MiCorps Volunteer Lake & Stream Monitoring Conference
DESCRIPTION:The Michigan Clean Water Corps (MiCorps) hosts an annual volunteer monitoring conference each fall. The conference provides an excellent opportunity to stay up to date on monitoring methods and to meet and interact with other volunteer monitors. \nThe 2021 MiCorps Conference will be held November 17\, 2021\, online via Zoom. Registration is free! \nConference agenda – All times are in ET \n9 a.m.      Welcome\nTamara Lipsey\, Michigan Department of Environment\, Great Lakes and Energy (EGLE) \n9:15 a.m. Morning Keynote – MiCorps information supports fisheries management\nDr. Joe Nohner\, Michigan Department of Natural Resources (DNR) \n10 a.m. Break \n10:15 a.m. MiCorps: What’s up and what’s new?\nMiCorps Team \n11 a.m. Breakout sessions – choose one:\nI collected lake data – now what does it mean? How to interpret CLMP data and reports\nErick Elgin\, MSU Extension\nDr. Paul Steen\, Huron River Watershed Council (HRWC)\nor\nMiCorps’ macroinvertebrate scoring and the tricky Diptera – a review\nTamara Lipsey\, EGLE\nDr. Paul Steen\, HRWC \n12 p.m. Lunch \n1 p.m. Afternoon keynote – Water stewardship: collaborating for a better future\nKat Kavanagh\, Water Rangers \n1:45 p.m. Breakout sessions – choose one:\nMoving forward with innovation – a riparian’s effort to improve our lakes\nCraig Kivi\, Golden Drake Realty\nor\nInvertebrates to know: the endangered Hungerford’s crawling water beetle and the invasive New Zealand mudsnail\nCarrie Tansy\, US Fish and Wildlife Service\nEmily Burke\, Grass River Natural Area\, Inc. \n2:30 p.m. Break \n2:45 p.m. Breakout sessions – choose one:\nHelp! I need help getting help! How to recruit helpers for your monitoring outings\nJason Frenzel\, HRWC\nor\nAn appreciation of the slime growing in your favorite lake or stream: all about algae!\nDr. Julianne Heinlein\, Great Lakes Environmental Center \n3:30 p.m. MiCorps: Ask Us Anything\nMiCorps Team \n4 p.m. Adjourn
URL:https://www.nalms.org/event/micorps-volunteer-lake-stream-monitoring-conference/
LOCATION:online\, n/a\, n/a\, n/a\, n/a
CATEGORIES:Live Webcast/Seminar,Virtual Conference,Webinars
ATTACH;FMTTYPE=image/jpeg:https://www.nalms.org/wp-content/uploads/2021/11/MiCorps_slogan_600px-wide.jpg
ORGANIZER;CN="Michigan%20Clean%20Water%20Corps%20%28MiCorps%29":MAILTO:MiCorps@msu.edu
END:VEVENT
BEGIN:VEVENT
DTSTART;VALUE=DATE:20211109
DTEND;VALUE=DATE:20211112
DTSTAMP:20211104T120448
CREATED:20211008T181121Z
LAST-MODIFIED:20211008T181121Z
UID:23277-1636416000-1636675199@www.nalms.org
SUMMARY:18th World Lake Conference
DESCRIPTION:About the Conference \nThis event began with the Shiga Conference on Conservation and Management of World Lake Environment in 1984\, known as LECS’84. This first Conference held at Lake Biwa\, Japan\, had the objective of contributing and promoting scientific studies in the global management of lake basins. \nThe Conference has\, since then\, been recognized worldwide as a platform for participants from diverse areas to exchange views and experiences on the sustainable management of lakes and their basins. \nThe conferences have previously been organized in the United States\, Hungary\, China\, Italy\, Argentina\, Denmark\, Kenya\, India\, Indonesia\, and Japan on a biannual basis. \nAt the 17th World Lake Conference held in Ibaraki in 2018\, there were around 5\,500 participants; 1\,300 students and 1\,000 foreigners participating in the Conference and 43\,000 in the related site events.
URL:https://www.nalms.org/event/18th-world-lake-conference/
LOCATION:n/a
CATEGORIES:Virtual Conference
ATTACH;FMTTYPE=image/png:https://www.nalms.org/wp-content/uploads/2021/10/world-lake-conference-logo.png
END:VEVENT
BEGIN:VEVENT
DTSTART;TZID=America/Chicago:20211018T180000
DTEND;TZID=America/Chicago:20211018T200000
DTSTAMP:20211104T120448
CREATED:20211011T204125Z
LAST-MODIFIED:20211011T204125Z
UID:23286-1634580000-1634587200@www.nalms.org
SUMMARY:Webinar: From Concepts to Case Studies
DESCRIPTION:A Fall Science at Night Virtual Seminar Series for the public\, students and scientists interested in local lake conservation and management. Based on the conversation started in 2019\, and continued in 2020\, stakeholders this year will gain understanding of the diverse threats impacting our regional lakes. \n“From Concepts to Case Studies.”\n7 p.m. – Larry Marsicano\, Aquatic Ecosystem Research LLC. Marsicano is a WCSU Limnology instructor who will welcome attendees. \n7:10 p.m. – Fred Lubnow\, director of Aquatic Programs\, Princeton Hydro. He will discuss “The Lake Hopatcong (NJ) Story.” \n7:50 p.m. – Audience Q & A \n8:05 p.m. – Nelson Malwitz\, chairman of Brookfield WPCA\, and Pio Lombardo\, P.E.\, principal at Lombardo Associates. He will discuss “Impacts of on-site septic systems on Candlewood Lake.” \n8:45 p.m. – Audience Q & A \nRegistration is required. Register at https://westconn.tfaforms.net/217. A custom link will be emailed on the day of the talk.
URL:https://www.nalms.org/event/webinar-from-concepts-to-case-studies/
LOCATION:n/a
CATEGORIES:Virtual Conference
ATTACH;FMTTYPE=image/jpeg:https://www.nalms.org/wp-content/uploads/2020/09/WCSU-Primary-Shield-01-scaled.jpg
END:VEVENT
BEGIN:VEVENT
DTSTART;VALUE=DATE:20211004
DTEND;VALUE=DATE:20211008
DTSTAMP:20211104T120448
CREATED:20210729T190237Z
LAST-MODIFIED:20210729T190237Z
UID:23046-1633305600-1633651199@www.nalms.org
SUMMARY:CALMS 2021: 36th Annual Symposium
DESCRIPTION:
URL:https://www.nalms.org/event/calms-2021-36th-annual-symposium/
LOCATION:n/a
CATEGORIES:Virtual Conference
END:VEVENT
BEGIN:VEVENT
DTSTART;VALUE=DATE:20210430
DTEND;VALUE=DATE:20210501
DTSTAMP:20211104T120448
CREATED:20210121T203308Z
LAST-MODIFIED:20210121T203308Z
UID:22334-1619740800-1619827199@www.nalms.org
SUMMARY:MLSA60 Virtual Conference
DESCRIPTION:Join us for compelling sessions\, networking opportunities\, and a celebration of 60 years!\nConfirmed and Possible Sessions:\nRiparian Rights Update – Cliff Bloom\nInsurance for Associations – Mark Teicher\nVolunteer Monitoring on Michigan Inland Lakes and Streams – Ralph Bednarz\nMichigan Environmental Council – Conan Smith\nSpecial Assessment Districts\nRivers and Watersheds\nPolitical Report \nAre you interested in lake monitoring? Enroll in the MiCorps CLMP program at micorps.net\nTraining for CLMP is held on Thursday\, April 29th and is a great companion to our MLSA conference.
URL:https://www.nalms.org/event/mlsa60-virtual-conference/
LOCATION:n/a
CATEGORIES:Virtual Conference
ATTACH;FMTTYPE=image/png:https://www.nalms.org/wp-content/uploads/2021/01/MYMLSA-LOGO.png
END:VEVENT
BEGIN:VEVENT
DTSTART;VALUE=DATE:20210419
DTEND;VALUE=DATE:20210424
DTSTAMP:20211104T120448
CREATED:20210121T181443Z
LAST-MODIFIED:20210121T183409Z
UID:22313-1618790400-1619222399@www.nalms.org
SUMMARY:12th National Monitoring Conference
DESCRIPTION:The National Water Quality Monitoring Council will host its 12th National Monitoring Conference online during the week of April 19\, 2021. All federal\, state\, tribal and local water professionals\, nonprofits\, academia\, and volunteer citizen scientists are welcome at this important national forum. \nNetworking and opportunities to create new relationships will abound for attendees. Whether you seek to develop new skills\, learn about the latest technologies\, or simply exchange information on a wide variety of topics relevant to water resources\, the National Monitoring Conference is for you. Lakes and wetlands\, rivers and streams\, coastal waters and estuaries\, groundwater\, and processed water—all water resources—will be represented. The conference attracts the highest quality professional papers and posters and is a destination conference for many in the field. \n12th National Monitoring Conference \n \n 
URL:https://www.nalms.org/event/12th-national-monitoring-conference/
LOCATION:n/a
CATEGORIES:Virtual Conference
ATTACH;FMTTYPE=image/png:https://www.nalms.org/wp-content/uploads/2020/09/2021-NMC-Logo.png
END:VEVENT
BEGIN:VEVENT
DTSTART;VALUE=DATE:20210308
DTEND;VALUE=DATE:20210311
DTSTAMP:20211104T120448
CREATED:20210121T164902Z
LAST-MODIFIED:20210121T182725Z
UID:22300-1615161600-1615420799@www.nalms.org
SUMMARY:2021 VLWA Virtual Conference
DESCRIPTION:The Virginia Lakes and Watersheds Association (VLWA) annual conference addresses lakes and watersheds\, engineering and life sciences\, facilities\, maintenance\, public works\, consulting\, academic research\, and administration. We serve a variety of people all working to improve Virginia’s lakes and watersheds. Our conference is one of the largest state conferences in the US focused on water resources. \nWe typically have attendance of approximately 400 people representing public and private sector stakeholders and consultants. Appropriate topics include practical applications and research in stormwater management\, watershed management\, floodplain management\, hydrology\, hydraulics\, limnology\, water quality\, biology/ecology\, total maximum daily loads\, dam safety\, dam and lake maintenance\, resiliency\, and related water subjects. \nMore about our virtual conference environment: \nVLWA has partnered with Expo Pass to deliver a virtual conference in 2021.  The Expo Pass platform gives attendees the ability to easily view all event happenings in one place. Accessing the platform is easy! Before the event you will receive a Magic Link via email. The Magic Link contains a unique web link that when clicked will instantly authenticate and log you into the event. \nOnce logged in you can view all of the event information including the entire schedule\, with the option to build your own schedule\, as well as the ability to jump from session-to-session in real-time. Expo provides a handy Attendee Help Center that will answer any questions you may have\, as well as a very informative Event Navigation Video.
URL:https://www.nalms.org/event/2021-vlwa-virtual-conference/
LOCATION:n/a
CATEGORIES:NALMS Affiliate Events,Virtual Conference
ATTACH;FMTTYPE=image/png:https://www.nalms.org/wp-content/uploads/2021/01/VLWA-Header-Logo-1030x213-1.png
END:VEVENT
BEGIN:VEVENT
DTSTART;VALUE=DATE:20210303
DTEND;VALUE=DATE:20210305
DTSTAMP:20211104T120448
CREATED:20210121T182631Z
LAST-MODIFIED:20210121T182631Z
UID:22315-1614729600-1614902399@www.nalms.org
SUMMARY:2021 PALMS Annual Conference
DESCRIPTION:2021 PALMS Conference will be held virtually March 3rd-4th 2021\nThe 31st Annual PALMS Conference will be held virtually due to COVID restrictions with travel and in-person events.  This year’s theme will be “Managing for Emerging Threats.”  \nDraft Agenda available here.\n \nRegistration is open!\nWe look forward to connecting with you for: \n\nPanel discussion\nKeynote speaker\nLive Concurrent sessions\nApplicator credits\nExhibitor updates\nLake awards and so much more
URL:https://www.nalms.org/event/2021-palms-annual-conference/
LOCATION:n/a
CATEGORIES:NALMS Affiliate Events,Virtual Conference
ATTACH;FMTTYPE=image/png:https://www.nalms.org/wp-content/uploads/2021/01/PALMS_blue-words.png
END:VEVENT
END:VCALENDAR