BEGIN:VCALENDAR
VERSION:2.0
PRODID:-//North American Lake Management Society (NALMS) - ECPv6.15.20//NONSGML v1.0//EN
CALSCALE:GREGORIAN
METHOD:PUBLISH
X-WR-CALNAME:North American Lake Management Society (NALMS)
X-ORIGINAL-URL:https://www.nalms.org
X-WR-CALDESC:Events for North American Lake Management Society (NALMS)
REFRESH-INTERVAL;VALUE=DURATION:PT1H
X-Robots-Tag:noindex
X-PUBLISHED-TTL:PT1H
BEGIN:VTIMEZONE
TZID:America/Detroit
BEGIN:DAYLIGHT
TZOFFSETFROM:-0500
TZOFFSETTO:-0400
TZNAME:EDT
DTSTART:20210314T070000
END:DAYLIGHT
BEGIN:STANDARD
TZOFFSETFROM:-0400
TZOFFSETTO:-0500
TZNAME:EST
DTSTART:20211107T060000
END:STANDARD
BEGIN:DAYLIGHT
TZOFFSETFROM:-0500
TZOFFSETTO:-0400
TZNAME:EDT
DTSTART:20220313T070000
END:DAYLIGHT
BEGIN:STANDARD
TZOFFSETFROM:-0400
TZOFFSETTO:-0500
TZNAME:EST
DTSTART:20221106T060000
END:STANDARD
BEGIN:DAYLIGHT
TZOFFSETFROM:-0500
TZOFFSETTO:-0400
TZNAME:EDT
DTSTART:20230312T070000
END:DAYLIGHT
BEGIN:STANDARD
TZOFFSETFROM:-0400
TZOFFSETTO:-0500
TZNAME:EST
DTSTART:20231105T060000
END:STANDARD
END:VTIMEZONE
BEGIN:VEVENT
DTSTART;TZID=America/Detroit:20220914T090000
DTEND;TZID=America/Detroit:20220916T163000
DTSTAMP:20260423T100807
CREATED:20220901T143142Z
LAST-MODIFIED:20220901T143142Z
UID:24436-1663146000-1663345800@www.nalms.org
SUMMARY:Michigan Inland Lakes Convention
DESCRIPTION:Every two years the Michigan Inland Lakes Convention brings together passionate lakeshore owners\, lake scientists\, policymakers\, and conservationists to spark new ideas and inspire stewardship of inland lakes. This year’s convention theme is “Protecting Lakes Today for Tomorrow”\, and it will take place virtually from September 14-16 on Zoom. \nThe three-day event will include more than 45 engaging presentations and workshops focused on specific issues such as fish management\, landscaping near shorelines\, lake protection and governance\, algal blooms\, native freshwater mussels\, communications\, policy\, invasive species\, lake restoration\, and much more. Wednesday and Thursday will also include keynote speakers who are regionally recognized for their contribution to the field of lake science and conservation. \nThe convention is a unique occasion for professionals and lakefront homeowners to learn from prominent lake management and conservation professionals. More importantly\, it is an opportunity to learn best practices for the protection and preservation of Michigan’s inland lakes. \nRegistration is open! Registration for the event is $60\, $15 for students\, and free for speakers. Registration deadline: September 11\, 2022.
URL:https://www.nalms.org/event/michigan-inland-lakes-convention-2/
LOCATION:online\, n/a\, n/a\, n/a\, n/a
CATEGORIES:Virtual Conference
ATTACH;FMTTYPE=image/png:https://www.nalms.org/wp-content/uploads/2022/09/MILC-2022-FB-Loon.png
ORGANIZER;CN="Michigan Inland Lakes Partnership":MAILTO:wolfson1@msu.edu
END:VEVENT
END:VCALENDAR