BEGIN:VCALENDAR
VERSION:2.0
PRODID:-//North American Lake Management Society (NALMS) - ECPv5.10.0//NONSGML v1.0//EN
CALSCALE:GREGORIAN
METHOD:PUBLISH
X-WR-CALNAME:North American Lake Management Society (NALMS)
X-ORIGINAL-URL:https://www.nalms.org
X-WR-CALDESC:Events for North American Lake Management Society (NALMS)
BEGIN:VTIMEZONE
TZID:America/Chicago
BEGIN:DAYLIGHT
TZOFFSETFROM:-0600
TZOFFSETTO:-0500
TZNAME:CDT
DTSTART:20210314T080000
END:DAYLIGHT
BEGIN:STANDARD
TZOFFSETFROM:-0500
TZOFFSETTO:-0600
TZNAME:CST
DTSTART:20211107T070000
END:STANDARD
BEGIN:DAYLIGHT
TZOFFSETFROM:-0600
TZOFFSETTO:-0500
TZNAME:CDT
DTSTART:20220313T080000
END:DAYLIGHT
BEGIN:STANDARD
TZOFFSETFROM:-0500
TZOFFSETTO:-0600
TZNAME:CST
DTSTART:20221106T070000
END:STANDARD
END:VTIMEZONE
BEGIN:VEVENT
DTSTART;VALUE=DATE:20210926
DTEND;VALUE=DATE:20211003
DTSTAMP:20211104T124820
CREATED:20210902T164127Z
LAST-MODIFIED:20210902T164127Z
UID:23163-1632614400-1633219199@www.nalms.org
SUMMARY:Source Water Protection Week
DESCRIPTION:AWWA invites water utilities\, sections and other partners to join the Association in declaring Sept. 26-Oct. 2 the first-ever “Source Water Protection Week.” \nThroughout the week\, we will be raising awareness about the importance of caring for our precious drinking water sources. Source Water Protection Week materials are now available\, and many additional resources will be added between now and Sept. 26.  \n\n\n\n\n\n\n\n\nWhy Source Water Protection Week?\nThe best way to assure we have high quality drinking water at the tap is to protect our precious water sources. If we keep our rivers\, lakes and underground wells free from pollution\, it’s easier and less expensive to keep water safe and healthy. \n\n\n\n\n\n\n\n\n\n\n\n\n\n\n\n\n\n\n\n\nFind more resources here.
URL:https://www.nalms.org/event/source-water-protection-week/
CATEGORIES:Partner Events
ATTACH;FMTTYPE=image/jpeg:https://www.nalms.org/wp-content/uploads/2021/09/SWPWLogo401×277.jpg
END:VEVENT
BEGIN:VEVENT
DTSTART;TZID=America/Chicago:20220406T080000
DTEND;TZID=America/Chicago:20220408T170000
DTSTAMP:20211104T124820
CREATED:20210923T214721Z
LAST-MODIFIED:20210923T214721Z
UID:23233-1649232000-1649437200@www.nalms.org
SUMMARY:2022 Wisconsin Lakes And Rivers Convention
DESCRIPTION:After two years of virtual events\, we invite you to join us in-person at the 2022 Wisconsin Lakes and Rivers Convention in Stevens Point\, April 6-8. \nWith the theme Protecting What We Love for the Future\, this event will feature presenters who bring a wide range of experiences and expertise focusing on fish and wildlife habitat loss and restoration efforts; invasive species management through citizen monitoring and education; water resources protection and monitoring; the mitigation of climate consequences through resiliency\, adaptation\, and action; and increasing the functionality of organizations. \nThis Convention brings together scientists\, managers\, educators and citizen stakeholders to learn more about water resources so we can all work together to protect and restore our lakes and rivers for future generations.
URL:https://www.nalms.org/event/2022-wisconsin-lakes-and-rivers-convention/
CATEGORIES:Partner Events
ATTACH;FMTTYPE=image/jpeg:https://www.nalms.org/wp-content/uploads/2021/09/2022ConventionLogo.jpg
END:VEVENT
END:VCALENDAR