BEGIN:VCALENDAR
VERSION:2.0
PRODID:-//North American Lake Management Society (NALMS) - ECPv5.10.0//NONSGML v1.0//EN
CALSCALE:GREGORIAN
METHOD:PUBLISH
X-WR-CALNAME:North American Lake Management Society (NALMS)
X-ORIGINAL-URL:https://www.nalms.org
X-WR-CALDESC:Events for North American Lake Management Society (NALMS)
BEGIN:VTIMEZONE
TZID:America/New_York
BEGIN:DAYLIGHT
TZOFFSETFROM:-0500
TZOFFSETTO:-0400
TZNAME:EDT
DTSTART:20190310T070000
END:DAYLIGHT
BEGIN:STANDARD
TZOFFSETFROM:-0400
TZOFFSETTO:-0500
TZNAME:EST
DTSTART:20191103T060000
END:STANDARD
TZID:America/Chicago
BEGIN:DAYLIGHT
TZOFFSETFROM:-0600
TZOFFSETTO:-0500
TZNAME:CDT
DTSTART:20170312T080000
END:DAYLIGHT
BEGIN:STANDARD
TZOFFSETFROM:-0500
TZOFFSETTO:-0600
TZNAME:CST
DTSTART:20171105T070000
END:STANDARD
BEGIN:DAYLIGHT
TZOFFSETFROM:-0600
TZOFFSETTO:-0500
TZNAME:CDT
DTSTART:20180311T080000
END:DAYLIGHT
BEGIN:STANDARD
TZOFFSETFROM:-0500
TZOFFSETTO:-0600
TZNAME:CST
DTSTART:20181104T070000
END:STANDARD
BEGIN:DAYLIGHT
TZOFFSETFROM:-0600
TZOFFSETTO:-0500
TZNAME:CDT
DTSTART:20190310T080000
END:DAYLIGHT
BEGIN:STANDARD
TZOFFSETFROM:-0500
TZOFFSETTO:-0600
TZNAME:CST
DTSTART:20191103T070000
END:STANDARD
TZID:America/Anchorage
BEGIN:DAYLIGHT
TZOFFSETFROM:-0900
TZOFFSETTO:-0800
TZNAME:AKDT
DTSTART:20180311T110000
END:DAYLIGHT
BEGIN:STANDARD
TZOFFSETFROM:-0800
TZOFFSETTO:-0900
TZNAME:AKST
DTSTART:20181104T100000
END:STANDARD
TZID:America/Detroit
BEGIN:DAYLIGHT
TZOFFSETFROM:-0500
TZOFFSETTO:-0400
TZNAME:EDT
DTSTART:20180311T070000
END:DAYLIGHT
BEGIN:STANDARD
TZOFFSETFROM:-0400
TZOFFSETTO:-0500
TZNAME:EST
DTSTART:20181104T060000
END:STANDARD
END:VTIMEZONE
BEGIN:VEVENT
DTSTART;TZID=America/New_York:20191107T083000
DTEND;TZID=America/New_York:20191108T163000
DTSTAMP:20211104T130036
CREATED:20190424T142604Z
LAST-MODIFIED:20190424T142604Z
UID:19076-1573115400-1573230600@www.nalms.org
SUMMARY:Lake Management
DESCRIPTION:This course will teach you how to evaluate what is needed to properly protect\, manage and restore your pond\, lake or reservoir. You will receive detailed instructions\, including numerous case-study examples\, of commonly implemented lake and pond restoration and management techniques. The interactive nature of the course will provide attendees with the opportunity to discuss the specific issues and problems impacting the condition of their waterbody. \nApproved for NALMS Certified Lake Managers/Professionals: 1.2 CEUs
URL:https://www.nalms.org/event/lake-management/
LOCATION:The Atrium\, 300 Atrium Drive\, Somerset\, NJ\, 08873\, United States
CATEGORIES:Other Events
ATTACH;FMTTYPE=image/jpeg:https://www.nalms.org/wp-content/uploads/2019/04/Lake-Management-Original.jpg
ORGANIZER;CN="Rutgers%20University":MAILTO:OCPE@njaes.rutgers.edu
END:VEVENT
BEGIN:VEVENT
DTSTART;TZID=America/New_York:20191002T083000
DTEND;TZID=America/New_York:20191004T170000
DTSTAMP:20211104T130036
CREATED:20190829T145911Z
LAST-MODIFIED:20190829T151904Z
UID:19775-1570005000-1570208400@www.nalms.org
SUMMARY:Wetland Construction: Principles\, Planning and Design
DESCRIPTION:This class serves as an introduction to the fundamentals of functional design and provides the means to rapidly assess the distribution of hydrology on your site and create useable hydrographs for presentation of your wetland design.
URL:https://www.nalms.org/event/wetland-construction-principles-planning-and-design-2/
LOCATION:Duke Farms\, 1112 Duke Parkway West\, Hillsborough\, NJ\, 08844\, United States
CATEGORIES:Other Events
ATTACH;FMTTYPE=image/jpeg:https://www.nalms.org/wp-content/uploads/2019/08/wetland-construction-planning-and-design.jpg
ORGANIZER;CN="Rutgers%20University":MAILTO:OCPE@njaes.rutgers.edu
END:VEVENT
BEGIN:VEVENT
DTSTART;VALUE=DATE:20190908
DTEND;VALUE=DATE:20190913
DTSTAMP:20211104T130036
CREATED:20190308T163930Z
LAST-MODIFIED:20190308T163930Z
UID:18818-1567900800-1568332799@www.nalms.org
SUMMARY:Dam Safety 2019
DESCRIPTION:Join us at the Loews Royal Pacific Resort at Universal Orlando September 8-12\, 2019 for Dam Safety 2019. \nASDSO’s national conference is well known throughout the U.S. and internationally as a resource for practical information on the day-to-day activities of those working to keep dams safe. The primary focus of the conference is the effective application of knowledge and technology to real-life problems faced by dam and levee safety professionals.
URL:https://www.nalms.org/event/dam-safety-2019/
LOCATION:Loews Royal Pacific Resort\, Orlando\, FL\, United States
CATEGORIES:Other Events
ATTACH;FMTTYPE=image/jpeg:https://www.nalms.org/wp-content/uploads/2019/03/Dam-Safety-2019-Primary-Logo.jpg
ORGANIZER;CN="Association%20of%20State%20Dam%20Safety%20Officials%20%28ASDSO%29":MAILTO:info@damsafety.org
END:VEVENT
BEGIN:VEVENT
DTSTART;TZID=America/New_York:20190816T083000
DTEND;TZID=America/New_York:20190816T163000
DTSTAMP:20211104T130036
CREATED:20190606T184002Z
LAST-MODIFIED:20190606T184050Z
UID:19378-1565944200-1565973000@www.nalms.org
SUMMARY:Interactions in the Watershed
DESCRIPTION:This unique conference is being organized by the New York State Federation of Lake Associations (NYSFOLA)\, the Cortland-Onondaga Federation of Kettle Lake Associations (C-OFOKLA)\, and the Madison County Federation of Lake Associations (MCFOLA). \nThe objective is to inform\, education\, and connect the lake associations and municipalities of the region. Topics will focus on interactions in the watershed from an ecological\, management\, and policy level. Professionals will present on anticipated changes in our watersheds\, ways to make a difference\, and connections with funding sources.
URL:https://www.nalms.org/event/interactions-in-the-watershed/
LOCATION:NJ
CATEGORIES:NALMS Affiliate Events,Other Events
ATTACH;FMTTYPE=image/jpeg:https://www.nalms.org/wp-content/uploads/2019/06/Tully-Lake.jpg
END:VEVENT
BEGIN:VEVENT
DTSTART;TZID=America/Chicago:20190718T083000
DTEND;TZID=America/Chicago:20190718T153000
DTSTAMP:20211104T130036
CREATED:20190611T211940Z
LAST-MODIFIED:20190611T211940Z
UID:19447-1563438600-1563463800@www.nalms.org
SUMMARY:Protecting Lakes: A Shoreline Stewardship Workshop
DESCRIPTION:The purpose of this program is to teach inland lake property owners and local officials the benefits of maintaining shorelines in a natural state and to teach about tools and resources for property owners to plan and protect natural shorelines and for local governments to plan for and regulate natural shoreline techniques.
URL:https://www.nalms.org/event/protecting-lakes-a-shoreline-stewardship-workshop/
LOCATION:Erickson Center for the Arts\, Saw-Wa-Quato & Main St.\, Curtis\, MI\, 49820\, United States
CATEGORIES:Other Events
END:VEVENT
BEGIN:VEVENT
DTSTART;VALUE=DATE:20190714
DTEND;VALUE=DATE:20190718
DTSTAMP:20211104T130036
CREATED:20190617T220904Z
LAST-MODIFIED:20190617T220904Z
UID:19485-1563062400-1563407999@www.nalms.org
SUMMARY:APMS 59th Annual Meeting
DESCRIPTION:Arrangements are well underway for the Annual Meeting of the Aquatic Plant Management Society at the DoubleTree San Diego Mission Valley – July 14-17\, 2019. The 59th Annual Meeting will be a joint gathering with the Western Chapter of the APMS. \nThe Program Committee has assembled sessions pertinent to western aquatic plant and water management issues as well as research and operational reports from across the country. The agenda includes 50 oral presentations and 31 posters.
URL:https://www.nalms.org/event/apms-59th-annual-meeting/
LOCATION:NJ
CATEGORIES:Other Events
END:VEVENT
BEGIN:VEVENT
DTSTART;VALUE=DATE:20190701
DTEND;VALUE=DATE:20190703
DTSTAMP:20211104T130036
CREATED:20190617T221222Z
LAST-MODIFIED:20190617T221222Z
UID:19486-1561939200-1562111999@www.nalms.org
SUMMARY:2019 California Water Data Science Symposium
DESCRIPTION:The Surface Water Ambient Monitoring Program (SWAMP)\, the California Water Quality Monitoring Council\, the California Water Boards Data Center\, and the San Francisco Estuary Institute (SFEI) are hosting the Fourth Annual California Water Boards Water Data Science Symposium on July 1-2\, 2019 in Sacramento\, CA. This annual event aims to enhance how water quality monitoring generates meaningful data that informs water quality management decisions. This year’s Symposium will revolve around the theme of Open Water California- Innovating Through Integrating and Expanding the Water Data Community \nWebcast (remote attendance) will be available\, too!
URL:https://www.nalms.org/event/2019-california-water-data-science-symposium/
LOCATION:NJ
CATEGORIES:Other Events
END:VEVENT
BEGIN:VEVENT
DTSTART;TZID=America/Chicago:20190522T080000
DTEND;TZID=America/Chicago:20190522T170000
DTSTAMP:20211104T130036
CREATED:20190510T204348Z
LAST-MODIFIED:20190510T204348Z
UID:19133-1558512000-1558544400@www.nalms.org
SUMMARY:Algae Bloom Remediation Workshop
DESCRIPTION:The algae bloom situation is affecting tourism\, fishing\, real estate and local economies. While algae bloom research\, testing and monitoring is ongoing within the State of Florida\, collaboration and open communication on fixing the existing algae bloom and HAB problems need to be addressed. National Algae Association\, is the first non-profit algae association to focus on education\, production and algae bloom remediation trade association in the world\, made up of commercially-minded algae researchers\, producers\, remediation and equipment companies in the US and throughout the world\, would like to extend an invitation to attend or become a sponsor of the Algae Bloom Remediation Workshop. \nNAA has invited commercially-minded algae bloom and red tide researchers\, remediation technology and equipment companies to discuss differences between algae blooms created by phosphorous and nitrogen and toxic algae blooms (HAB’s) to educate and address potential algae bloom remediation technology solutions that are proven to work outside the lab\, are scalable and economically viable. The response has been overwhelmingly positive.
URL:https://www.nalms.org/event/algae-bloom-remediation-workshop-2/
LOCATION:Broward County Library
CATEGORIES:Other Events
END:VEVENT
BEGIN:VEVENT
DTSTART;TZID=America/Chicago:20190521T080000
DTEND;TZID=America/Chicago:20190521T170000
DTSTAMP:20211104T130036
CREATED:20190510T204108Z
LAST-MODIFIED:20190510T204108Z
UID:19130-1558425600-1558458000@www.nalms.org
SUMMARY:Algae Bloom Remediation Workshop
DESCRIPTION:The algae bloom situation is affecting tourism\, fishing\, real estate and local economies. While algae bloom research\, testing and monitoring is ongoing within the State of Florida\, collaboration and open communication on fixing the existing algae bloom and HAB problems need to be addressed. National Algae Association\, is the first non-profit algae association to focus on education\, production and algae bloom remediation trade association in the world\, made up of commercially-minded algae researchers\, producers\, remediation and equipment companies in the US and throughout the world\, would like to extend an invitation to attend or become a sponsor of the Algae Bloom Remediation Workshop. \nNAA has invited commercially-minded algae bloom and red tide researchers\, remediation technology and equipment companies to discuss differences between algae blooms created by phosphorous and nitrogen and toxic algae blooms (HAB’s) to educate and address potential algae bloom remediation technology solutions that are proven to work outside the lab\, are scalable and economically viable. The response has been overwhelmingly positive.
URL:https://www.nalms.org/event/algae-bloom-remediation-workshop/
LOCATION:NJ
CATEGORIES:Other Events
END:VEVENT
BEGIN:VEVENT
DTSTART;TZID=America/Chicago:20190513T190000
DTEND;TZID=America/Chicago:20190513T210000
DTSTAMP:20211104T130036
CREATED:20190503T145210Z
LAST-MODIFIED:20190503T145236Z
UID:19096-1557774000-1557781200@www.nalms.org
SUMMARY:Sub-Merge: Raising Water Awareness Through Science\, Music\, and Dance
DESCRIPTION:Freshwater is vital to human life and societal well-being (Baron et al. 2001)\, but its quality and quantity are being threatened at the global and local scales (Gleick 2014). Indeed\, recognition of a growing global freshwater crisis resulted in the United Nations calling 2013 the International Year of Water Cooperation. Water provides numerous ecosystem services (i.e.\, benefits that nature provides free of charge to society)\, including drinking water\, pollution purification\, navigation\, agriculture\, fisheries\, aesthetics\, and habitat (Millennium Ecosystem Assessment 2005). \nThere is no panacea when it comes to public education\, as evidenced by the current debate over charter and schools of choice (http://www.pbs.org/wgbh/pages/frontline/shows/vouchers/choice/). New ideas and approaches need to be developed. To that end\, GVSU faculty members from Dance (Hannah Seidel)\, Music (Sookkyung Cho)\, and AWRI (Al Steinman) have joined forces to collaborate on a novel approach to raise awareness about freshwater. \nDr. Al Steinman has collaborated with GVSU faculty members Dr. Sookkyung Cho\, and Hannah Seidel to create “Sub-Merge: Raising Water Awareness Through Science\, Music\, and Dance”. \nSub-Merge features the performances of five newly commissioned musical compositions created by Teddy Niedermaier\, Daniel Temkin\, and Jeremy Crosmer\, which complement piano compositions by Gabriel Faure and Dmitri Shostakovich. Musicians included Sookyung Cho (piano: GVSU)\, Hong-Yi Mo (violin: Detroit Symphony Orchestra)\, Jeremy Crosmer (cello: Detroit Symphony Orchestra)\, and GVSU students Natalie Evancoe\, Courtney Saunders\, Zach Forsleff\, and Rebekah Shomsky as the FOURtepiano 8-hand ensemble. \nDance choreography was created by Hannah Seidel with professional dancers Courtney Drasner and Kristy Kuhn from NYC\, as well as GVSU students Olivia Karenas\, Ross Lindhout\, Ryan Schwaar\, and Victoria VanderPlas. \nScience narration was written by Al Steinman with oration by Roger Ellis.
URL:https://www.nalms.org/event/sub-merge-raising-water-awareness/
LOCATION:Grand Valley State University\, Loosemore Auditorium\, 401 Fulton St. W.\, Grand Rapids\, MI\, 49504\, United States
CATEGORIES:Other Events
END:VEVENT
BEGIN:VEVENT
DTSTART;TZID=America/Chicago:20190325T080000
DTEND;TZID=America/Chicago:20190327T170000
DTSTAMP:20211104T130036
CREATED:20190308T163915Z
LAST-MODIFIED:20190308T163915Z
UID:18815-1553500800-1553706000@www.nalms.org
SUMMARY:2019 West Regional Conference
DESCRIPTION:Make plans to join us at the Westin Hotel in Westminster\, CO for the ASDSO West Regional Conference: Engineering for Extremes – Precipitation\, Hydrology\, and Hydraulics\, March 25-27\, 2019. \nASDSO West Regional Conference: Engineering for Extremes – Precipitation\, Hydrology\, and Hydraulics Conference Goals: \nHighlight and share advances in the science and engineering for prediction and estimation of extreme storm events\, hydrologic and hydraulic forecasting and decision support and dam engineering design through presentations providing historical perspective\, recent extreme event case histories and state-of-the practice methods and tools.\nPromote best practices in engineering design of hydraulic structures to learn from the past\, look to the future and maximize dam safety risk management and public safety.\nEngage young professionals in opportunities for the next generation of engineers and scientists to shape development of the 21st century PMP\, PMF and risk informed decision making.
URL:https://www.nalms.org/event/2019-west-regional-conference/
LOCATION:The Westin Westminster\, 10600 Westminster Boulevard\, Westminster\, CO\, 80020\, United States
CATEGORIES:Other Events
ORGANIZER;CN="Association%20of%20State%20Dam%20Safety%20Officials%20%28ASDSO%29":MAILTO:info@damsafety.org
END:VEVENT
BEGIN:VEVENT
DTSTART;TZID=America/Chicago:20190313T130000
DTEND;TZID=America/Chicago:20190315T150000
DTSTAMP:20211104T130036
CREATED:20180815T223229Z
LAST-MODIFIED:20180815T223229Z
UID:16383-1552482000-1552662000@www.nalms.org
SUMMARY:Montana Lakes Conference
DESCRIPTION:The Montana Lakes Conference will gather diverse resource professionals to exchange information\, scientific advancements\, and management strategies that promote clean and healthy lake and reservoir ecosystems. Participants from academic\, nonprofit\, government\, business organizations\, and the public will gather to learn about improving the health of Montana’s lakes through science and monitoring advances\, watershed restoration practices\, policy innovation\, and collaborative stakeholder involvement.
URL:https://www.nalms.org/event/montana-lakes-conference/
LOCATION:Lodge at Whitefish Lake\, 1380 Wisconsin Ave\, Whitefish\, MT\, 59937\, United States
CATEGORIES:Other Events
ORGANIZER;CN="Whitefish%20Lake%20Institute":MAILTO:lori@whitefishlake.org
END:VEVENT
BEGIN:VEVENT
DTSTART;TZID=America/Chicago:20181211T130000
DTEND;TZID=America/Chicago:20181211T140000
DTSTAMP:20211104T130036
CREATED:20181113T153718Z
LAST-MODIFIED:20181113T153718Z
UID:17400-1544533200-1544536800@www.nalms.org
SUMMARY:Monitoring and Detecting Hydrilla: Three Case Studies in NY and NJ
DESCRIPTION:We invite you to participate in the fourth webinar in the Great Lakes Hydrilla Collaborative’s technical webinar series. Chris Doyle\, Director of Biology with Solitude Lake Management\, will provide a discussion of the general approach to hydrilla monitoring\, and will then provide details on the specific approaches developed for three distinct sites: the Hudson River and New Croton Reservoir in New York\, and the Delaware and Raritan Canal in New Jersey. We will have an approximately 40-minute presentation followed by a 20-minute question and answer session. \nTo register\, please send an email to hydrillacollaborative@ene.com. \nFor those unable to attend\, a recording of the webinar will be made available on http://hydrillacollaborative.com/. \nThank you\,\nGreat Lakes Hydrilla Collaborative
URL:https://www.nalms.org/event/monitoring-and-detecting-hydrilla-three-case-studies-in-ny-and-nj/
LOCATION:Webinar
CATEGORIES:Other Events,Webinars
ORGANIZER;CN="Great%20Lakes%20Hydrilla%20Collaborative":MAILTO:hydrillacollaborative@ene.com
END:VEVENT
BEGIN:VEVENT
DTSTART;VALUE=DATE:20181015
DTEND;VALUE=DATE:20181020
DTSTAMP:20211104T130036
CREATED:20180423T143522Z
LAST-MODIFIED:20180816T202425Z
UID:15268-1539561600-1539993599@www.nalms.org
SUMMARY:17th World Lake Conference
DESCRIPTION:The 17th World Lake Conference will be hosted by the International Lake Environment Committee (ILEC) and the Ibaraki Prefectural Government. The theme of this global-scale conference is “Harmonious Coexistence of Humans and Lakes – Toward Sustainable Ecosystem Services.” To be held in English\, the conference will include technical sessions on a range of topics related to lake\, reservoir\, wetland and lentic water systems and their ecosystem services\, including their scientific and management implications\, prominent keynote speakers\, field trip to Lake Kasumigaura (second largest lake in Japan)\, international policy forum\, poster session\, exhibition\, banquet\, cultural events\, awarding of Kasumigaura prize\, and preparation of Ibaraki Declaration. The call for abstracts is extended to May 10\, 2018. Further information is available on the conference website (http://www.wlc17ibaraki.jp/en/index.html).
URL:https://www.nalms.org/event/17th-world-lake-conference/
LOCATION:NJ
CATEGORIES:Other Events
END:VEVENT
BEGIN:VEVENT
DTSTART;VALUE=DATE:20181015
DTEND;VALUE=DATE:20181019
DTSTAMP:20211104T130036
CREATED:20180116T161735Z
LAST-MODIFIED:20180116T161735Z
UID:14321-1539561600-1539907199@www.nalms.org
SUMMARY:2018 Upper Midwest Invasive Species Conference
DESCRIPTION:The 2018 Upper Midwest Invasive Species Conference will be a Joint Conference with the North American Invasive Species Management Association \n​The Upper Midwest Invasive Species Conference (UMISC) is a biennial conference. The Conference host organizations and organizing committees are pleased to join with the North American Invasive Species Management Association (NAISMA) to organize the largest invasive species conference in North America at the Mayo Civic Center in Rochester\, MN – October 15-18\, 2018. \nThe goal of UMISC is to strengthen management of invasive species\, especially prevention\, control\, and containment. Invasive species research\, prevention\, and management has seen great strides but much work still must be done.
URL:https://www.nalms.org/event/2018-upper-midwest-invasive-species-conference/
LOCATION:Mayo Civic Center\, 30 Civic Center Dr SE\, Rochester\, MN\, 55904\, United States
CATEGORIES:Other Events
END:VEVENT
BEGIN:VEVENT
DTSTART;TZID=America/Detroit:20180707T090000
DTEND;TZID=America/Detroit:20180707T130000
DTSTAMP:20211104T130036
CREATED:20180706T140356Z
LAST-MODIFIED:20180706T140356Z
UID:16067-1530954000-1530968400@www.nalms.org
SUMMARY:Keep It Blue Water Event
DESCRIPTION:You are invited to visit our event! Feel free to stop over and visit us on the Bluff at the top of the stairs next to the farmers market on Lake Blvd in downtown St. Joseph\, MI. At this water event we will have free water quality information\, free native plants\, an interactive water display\, hands-on educational activities for kids\, and opportunity to see animals native to Michigan provided by Sarett Nature Center.\nThis event is hosted by the Southwest Michigan Planning Commission\, Sarett Nature Center\, PhycoTech Inc.\, and Dept. of Public Works City of St. Joseph.
URL:https://www.nalms.org/event/keep-it-blue-water-event/
LOCATION:Bluff in St. Joseph Michigan\, St Joseph\, MI\, 49085\, United States
CATEGORIES:Other Events
ATTACH;FMTTYPE=image/jpeg:https://www.nalms.org/wp-content/uploads/2018/07/35301206_1888341931210617_5072152795126169600_n.jpg
ORGANIZER;CN="Southwest%20Michigan%20Planning%20Commission":MAILTO:martink@swmpc.org
END:VEVENT
BEGIN:VEVENT
DTSTART;TZID=America/Chicago:20180531T190000
DTEND;TZID=America/Chicago:20180601T190000
DTSTAMP:20211104T130036
CREATED:20180212T193950Z
LAST-MODIFIED:20180212T193950Z
UID:14516-1527793200-1527879600@www.nalms.org
SUMMARY:NH LAKES 2018 Lakes Congress
DESCRIPTION:The 2018 Lakes Congress—our 25th annual education\, training\, and networking event—is designed for lake and other natural resource stewards\, lake managers\, business leaders\, and municipal and political leaders to gain knowledge and skills to educate\, advocate\, and organize to protect the New Hampshire’s 1\,000 lakes and ponds. This year’s event will celebrate the history of lake culture in New Hampshire while specifically focusing on current and emerging threats that must be addressed during the next 25 years to preserve our lakes. The event will be held at the exquisite Church Landing Inn at Mills Falls in Meredith along the shoreline of Lake Winnipesaukee on the evening of Thursday\, May 31\, and all-day on Friday\, June 1. The two-day event will draw approximately 250 attendees. \nThe event will kick-off with a fascinating presentation—“Summer Camps on New Hampshire’s Lakes: Roots of An Iconic American Experience”—given by the curatorial team from the Museum of the White Mountains. \nKen Wagner\, President and Manager of Water Resource Services\, and former President of the North American Lake Management Society\, will kick off Friday’s session with a dynamic keynote address “Climate Change and Lakes: What You Really Need to Know.”
URL:https://www.nalms.org/event/nh-lakes-2018-lakes-congress/
LOCATION:Church Landing at Mill Falls\, 281 Daniel Webster Hwy\, Meredith\, NH\, 03253\, United States
CATEGORIES:Other Events
END:VEVENT
BEGIN:VEVENT
DTSTART;TZID=America/Chicago:20171103T080000
DTEND;TZID=America/Chicago:20171103T170000
DTSTAMP:20211104T130036
CREATED:20171103T143306Z
LAST-MODIFIED:20171103T143306Z
UID:13208-1509696000-1509728400@www.nalms.org
SUMMARY:42nd Annual Meeting of the Texas Chapter of the American Fisheries Society
DESCRIPTION:Our upcoming 42nd annual meeting to be held January 25-27\, 2018 at the Hilton College Station and Conference Center in College Station\, Texas. TCAFS is a nonprofit organization dedicated to:\nThe conservation\, development and wise use of fisheries and aquatic resources\, promotion of all branches of fisheries and aquatic sciences\, and exchange and dissemination of knowledge about fishes\, fisheries\, and aquatic natural resources. \nEach year\, students and professionals are invited to submit abstracts for presenting oral presentations and posters that highlight fisheries projects and research. A major highlight of our meeting is to present talented students with scholarships as well as awards to fellow members for their achievements at our annual banquet. Other features of our meeting include continuing education sessions\, a student-mentor luncheon for students to network with fisheries professionals\, a small trade show\, social\, a raffle and auction following the banquet\, chapter business meeting and more! \nOur annual meeting webpage is live at https://units.fisheries.org/tx/tc-meetings/2018-meeting-home-page/ for additional meeting information. Registration is now open and we are calling for papers to be presented! TCAFS is going GREEN\, and we are going to a new online system for abstract submissions and meeting registration.
URL:https://www.nalms.org/event/42nd-annual-meeting-of-the-texas-chapter-of-the-american-fisheries-society/
LOCATION:Hilton College Station\, 801 University Drive\, College Station\, TX\, 77840\, United States
CATEGORIES:Other Events
END:VEVENT
BEGIN:VEVENT
DTSTART;VALUE=DATE:20170806
DTEND;VALUE=DATE:20170813
DTSTAMP:20211104T130036
CREATED:20170208T232828Z
LAST-MODIFIED:20170208T232828Z
UID:9163-1501977600-1502582399@www.nalms.org
SUMMARY:Submersed and Floating Aquatic Plants
DESCRIPTION:2017 Eagle Hill Natural History Science Seminars
URL:https://www.nalms.org/event/submersed-and-floating-aquatic-plants/
LOCATION:Eagle Hill\, 59 Eagle Hill Road\, Steuben\, ME\, 04680\, United States
CATEGORIES:Other Events
ORGANIZER;CN="Eagle%20Hill%20Institute":MAILTO:office@eaglehill.us
END:VEVENT
END:VCALENDAR