BEGIN:VCALENDAR
VERSION:2.0
PRODID:-//North American Lake Management Society (NALMS) - ECPv6.15.20//NONSGML v1.0//EN
CALSCALE:GREGORIAN
METHOD:PUBLISH
X-ORIGINAL-URL:https://www.nalms.org
X-WR-CALDESC:Events for North American Lake Management Society (NALMS)
REFRESH-INTERVAL;VALUE=DURATION:PT1H
X-Robots-Tag:noindex
X-PUBLISHED-TTL:PT1H
BEGIN:VTIMEZONE
TZID:America/Chicago
BEGIN:DAYLIGHT
TZOFFSETFROM:-0600
TZOFFSETTO:-0500
TZNAME:CDT
DTSTART:20210314T080000
END:DAYLIGHT
BEGIN:STANDARD
TZOFFSETFROM:-0500
TZOFFSETTO:-0600
TZNAME:CST
DTSTART:20211107T070000
END:STANDARD
BEGIN:DAYLIGHT
TZOFFSETFROM:-0600
TZOFFSETTO:-0500
TZNAME:CDT
DTSTART:20220313T080000
END:DAYLIGHT
BEGIN:STANDARD
TZOFFSETFROM:-0500
TZOFFSETTO:-0600
TZNAME:CST
DTSTART:20221106T070000
END:STANDARD
BEGIN:DAYLIGHT
TZOFFSETFROM:-0600
TZOFFSETTO:-0500
TZNAME:CDT
DTSTART:20230312T080000
END:DAYLIGHT
BEGIN:STANDARD
TZOFFSETFROM:-0500
TZOFFSETTO:-0600
TZNAME:CST
DTSTART:20231105T070000
END:STANDARD
BEGIN:DAYLIGHT
TZOFFSETFROM:-0600
TZOFFSETTO:-0500
TZNAME:CDT
DTSTART:20240310T080000
END:DAYLIGHT
BEGIN:STANDARD
TZOFFSETFROM:-0500
TZOFFSETTO:-0600
TZNAME:CST
DTSTART:20241103T070000
END:STANDARD
BEGIN:DAYLIGHT
TZOFFSETFROM:-0600
TZOFFSETTO:-0500
TZNAME:CDT
DTSTART:20250309T080000
END:DAYLIGHT
BEGIN:STANDARD
TZOFFSETFROM:-0500
TZOFFSETTO:-0600
TZNAME:CST
DTSTART:20251102T070000
END:STANDARD
END:VTIMEZONE
BEGIN:VEVENT
DTSTART;VALUE=DATE:20220716
DTEND;VALUE=DATE:20220718
DTSTAMP:20260423T041828
CREATED:20220606T165923Z
LAST-MODIFIED:20220606T165923Z
UID:23985-1657929600-1658102399@www.nalms.org
SUMMARY:Lake Appreciation Days at Lacawac Sanctuary
DESCRIPTION:Join us for a series of hands-on activities focused on exploring\, learning about\, and enjoying lakes!\nAll events will be held at Lacawac Sanctuary and will be led by lake scientists.\nSaturday\, July 16th:\n9:30 am: Harmful Algal Blooms: A Primer\nHeard about harmful algal blooms in the news? Discover what they are\, how to spot them\, and what to do about them…\n \n2:00 pm: Lake Insects: “Bugs” who share your lakes\nInsects are key part of lake food webs. Explore the diversity of these animals that share your lakes…\n \nSunday\, July 17th:\n9:00 am: Ecology of Aquatic Plants\nAquatic plants are some of the most visible lake organisms. Learn what makes them unique and how to spot an invasive species…\n \n12:00 pm: Lunch with a Scientist\nWhat would you ask a lake scientist if you could? Join us for lunch and ask our scientists all your lake questions…(registration required)\n \n2:00 pm: Paddle on Lake Lacawac\nEnjoy a quiet afternoon paddling on Lake Lacawac\, a pristine glacial lake and National Natural Landmark…(registration required)\n\n\n\nLEARN MORE AND REGISTER\nFOR LAKE APPRECIATION DAYS EVENTS!\n\nDirections to Lacawac Sanctuary and Field Station:\nhttp://lacawac.org/about-us.html
URL:https://www.nalms.org/event/lake-appreciation-days-at-lacawac-sanctuary/
LOCATION:Lacawac Sanctuary and Field Station\, 94 Sanctuary Road\, Lake Ariel\, PA\, 18436\, United States
CATEGORIES:Nonprofit Member Event
ATTACH;FMTTYPE=image/jpeg:https://www.nalms.org/wp-content/uploads/2022/06/unnamed-4.jpg
END:VEVENT
BEGIN:VEVENT
DTSTART;TZID=America/Chicago:20220717T130000
DTEND;TZID=America/Chicago:20220717T150000
DTSTAMP:20260423T041828
CREATED:20220609T215323Z
LAST-MODIFIED:20220609T215323Z
UID:24063-1658062800-1658070000@www.nalms.org
SUMMARY:Lake Lacawac Paddle
DESCRIPTION:Enjoy a quiet morning on the lake after a short introduction about the ecological features and the research being conducted on the lake.  Learn why this is the most pristine lake in North America.  An identification scavenger hunt will be available to interested participants. Paddle and safety instructions will be given prior to launching.  Meet at the dock.  Begins at 2:00 p.m.  $10.00/person. Registration limited and required.
URL:https://www.nalms.org/event/lake-lacawac-paddle/
LOCATION:Lacawac Sanctuary\, 195 Sanctuary Road\, Lake Ariel\, PA\, United States
CATEGORIES:Nonprofit Member Event
ATTACH;FMTTYPE=image/png:https://www.nalms.org/wp-content/uploads/2017/09/Lacawac.png
END:VEVENT
BEGIN:VEVENT
DTSTART;VALUE=DATE:20220723
DTEND;VALUE=DATE:20220724
DTSTAMP:20260423T041828
CREATED:20220609T214816Z
LAST-MODIFIED:20220609T214816Z
UID:24060-1658534400-1658620799@www.nalms.org
SUMMARY:LGA Summer Gala
DESCRIPTION:The most anticipated event of the Lake George Summer season is back! We can’t wait to see you! \n\n\n\n\n\n\n\n\n\n\nOver the past two years\, our Lake has been there for us like never before — a safe and reassuring oasis of normalcy in an uncertain and far-from-normal world. \nNow it’s time to Thank Our Lake by coming together in shared commitment to protection\, today and for generations to come. \nJoin your fellow Lake Protectors for what is sure to be a memorable evening of cocktails\, food tastings\, music\, and dancing under the Big Tent\, at the Festival Commons in Charles R. Wood Park. \nWe have some great surprises in store and look forward to seeing everyone in person. \nUse this form to register. If you have any questions\, email or call us (contact info in the footer of this page).
URL:https://www.nalms.org/event/lga-summer-gala/
LOCATION:The Festival Commons at Charles R. Wood Park\, Lake George\, NY
CATEGORIES:Nonprofit Member Event
ATTACH;FMTTYPE=image/png:https://www.nalms.org/wp-content/uploads/2017/04/LGA-logo.png
ORGANIZER;CN="Lake George Association":MAILTO:info@lakegeorgeassociation.org
END:VEVENT
BEGIN:VEVENT
DTSTART;TZID=America/Chicago:20220727T173000
DTEND;TZID=America/Chicago:20220727T193000
DTSTAMP:20260423T041828
CREATED:20220609T215504Z
LAST-MODIFIED:20220609T215504Z
UID:24064-1658943000-1658950200@www.nalms.org
SUMMARY:Tech on the Trail
DESCRIPTION:Bring your phone and learn how to ID plants and animals using iNaturalist\, one of the leading nature data collection apps.   Users can connect to a community of citizen scientists around the world to identify many different plant and animal species and assist in creating research quality data for scientists. A guided walk with an educator will give instruction on how to use the app and how to collect data for a Lacawac Citizen Science project.  Meet at the Visitor Center.  Begins at 6:30 p.m.  $5.00/person.  Registration required.
URL:https://www.nalms.org/event/tech-on-the-trail/
LOCATION:Lacawac Sanctuary Environmental Education Center\, 182 Sanctuary Road\, Lake Ariel\, PA\, 18436\, United States
CATEGORIES:Nonprofit Member Event
ATTACH;FMTTYPE=image/png:https://www.nalms.org/wp-content/uploads/2017/09/Lacawac.png
END:VEVENT
BEGIN:VEVENT
DTSTART;TZID=America/Chicago:20220807T080000
DTEND;TZID=America/Chicago:20220807T100000
DTSTAMP:20260423T041828
CREATED:20220610T161759Z
LAST-MODIFIED:20220610T161759Z
UID:24070-1659859200-1659866400@www.nalms.org
SUMMARY:Morning Paddle on Lake Lacawac
DESCRIPTION:Enjoy a quiet morning on the lake after a short introduction about the ecological features and the research being conducted on the lake.  Learn why this is the most pristine lake in North America.  An identification scavenger hunt will be available to interested participants. Paddle and safety instructions will be given prior to launching.  Meet at the dock of Lake Lacawac.  Begins at 9:00 a.m.  $10.00/person. Registration limited and required.
URL:https://www.nalms.org/event/morning-paddle-on-lake-lacawac-2/
LOCATION:Lacawac Sanctuary\, 195 Sanctuary Road\, Lake Ariel\, PA\, United States
CATEGORIES:Nonprofit Member Event
ATTACH;FMTTYPE=image/png:https://www.nalms.org/wp-content/uploads/2017/09/Lacawac.png
END:VEVENT
BEGIN:VEVENT
DTSTART;TZID=America/Chicago:20220820T090000
DTEND;TZID=America/Chicago:20220820T100000
DTSTAMP:20260423T041828
CREATED:20220610T162157Z
LAST-MODIFIED:20220610T162157Z
UID:24071-1660986000-1660989600@www.nalms.org
SUMMARY:LIVE Birds of Prey
DESCRIPTION:The Delaware Valley Raptor Center will bring live raptors to Lacawac.  Come and see a hawk\, a falcon\, owls\, and an eagle.  Learn about predator/prey relationships\, wildlife rehabilitation\, fascinating adaptations\, and why we need to protect the wildlife in our communities.  Park at the Environmental Education Center.  Begins at 10:00.  $5.00/person.  Registration limited and required.
URL:https://www.nalms.org/event/live-birds-of-prey/
LOCATION:Lacawac Sanctuary Environmental Education Center\, 182 Sanctuary Road\, Lake Ariel\, PA\, 18436\, United States
CATEGORIES:Nonprofit Member Event
ATTACH;FMTTYPE=image/png:https://www.nalms.org/wp-content/uploads/2017/09/Lacawac.png
END:VEVENT
BEGIN:VEVENT
DTSTART;TZID=America/Chicago:20220910T080000
DTEND;TZID=America/Chicago:20220910T093000
DTSTAMP:20260423T041828
CREATED:20220610T162500Z
LAST-MODIFIED:20220610T162500Z
UID:24072-1662796800-1662802200@www.nalms.org
SUMMARY:Forest Bathing Walk
DESCRIPTION:Join Certified Forest Therapy Guide Steve Ruelke for a walk in the woods and an immersion practice called Forest Bathing.  In the 1980s Japanese scientists began searching for ways to minimize all the negative impacts that urbanization was having on individuals and society as a whole. They discovered that a two- to three-hour immersion in which one relaxes and breathes in the natural chemistry of a forest\, can lower blood pressure\, reduce stress levels\, improve mood\, increase restfulness\, and boost one’s immune system. They called this practice “Shinrin-yoku” which literally translates “forest bath\,” the art of taking in the atmosphere of the forest.  Meet at the Environmental Education Center.  Begins at 9:00 a.m.  $5.00/person. Registration required.
URL:https://www.nalms.org/event/forest-bathing-walk-2/
LOCATION:Lacawac Sanctuary Environmental Education Center\, 182 Sanctuary Road\, Lake Ariel\, PA\, 18436\, United States
CATEGORIES:Nonprofit Member Event
ATTACH;FMTTYPE=image/png:https://www.nalms.org/wp-content/uploads/2017/09/Lacawac.png
END:VEVENT
BEGIN:VEVENT
DTSTART;TZID=America/Chicago:20220917T080000
DTEND;TZID=America/Chicago:20220917T093000
DTSTAMP:20260423T041828
CREATED:20220610T162738Z
LAST-MODIFIED:20220610T162738Z
UID:24073-1663401600-1663407000@www.nalms.org
SUMMARY:Mushroom Walk
DESCRIPTION:Join renowned mushroom expert Nathaniel Whitmore for a guided walk at Lacawac Sanctuary.  Learn identification and where to look for many interesting species including conservation and ethics of picking and eating mushrooms.  Meet at the Environmental Education Center. $5.00/person.  Registration required.
URL:https://www.nalms.org/event/mushroom-walk/
LOCATION:Lacawac Sanctuary Environmental Education Center\, 182 Sanctuary Road\, Lake Ariel\, PA\, 18436\, United States
CATEGORIES:Nonprofit Member Event
ATTACH;FMTTYPE=image/png:https://www.nalms.org/wp-content/uploads/2017/09/Lacawac.png
END:VEVENT
BEGIN:VEVENT
DTSTART;TZID=America/Chicago:20220925T080000
DTEND;TZID=America/Chicago:20220925T100000
DTSTAMP:20260423T041828
CREATED:20220610T162926Z
LAST-MODIFIED:20220610T162926Z
UID:24074-1664092800-1664100000@www.nalms.org
SUMMARY:Morning Paddle on Lake Lacawac
DESCRIPTION:Enjoy a quiet morning on the lake after a short introduction about the ecological features and the research being conducted on the lake.  Learn why this is the most pristine lake in North America.  An identification scavenger hunt will be available to interested participants. Paddle and safety instructions will be given prior to launching.  Meet at the dock of Lake Lacawac.  Begins at 9:00 a.m.  $10.00/person. Registration limited and required.
URL:https://www.nalms.org/event/morning-paddle-on-lake-lacawac-3/
LOCATION:Lacawac Sanctuary\, 195 Sanctuary Road\, Lake Ariel\, PA\, United States
CATEGORIES:Nonprofit Member Event
ATTACH;FMTTYPE=image/png:https://www.nalms.org/wp-content/uploads/2017/09/Lacawac.png
END:VEVENT
BEGIN:VEVENT
DTSTART;TZID=America/Chicago:20221009T180000
DTEND;TZID=America/Chicago:20221009T193000
DTSTAMP:20260423T041828
CREATED:20220610T163128Z
LAST-MODIFIED:20220610T163128Z
UID:24075-1665338400-1665343800@www.nalms.org
SUMMARY:Full Moon Paddle
DESCRIPTION:Enjoy a quiet evening on the lake as the sun sets then watch as the full moon rises over Lake Lacawac.  Paddle and safety instructions will be given prior to launching.  Masks and distancing required.  Meet at the dock.  Begins at 7:00 pm.  $10.00/person.  Registration limited and required.
URL:https://www.nalms.org/event/full-moon-paddle/
LOCATION:Lacawac Sanctuary\, 195 Sanctuary Road\, Lake Ariel\, PA\, United States
CATEGORIES:Nonprofit Member Event
ATTACH;FMTTYPE=image/png:https://www.nalms.org/wp-content/uploads/2017/09/Lacawac.png
END:VEVENT
BEGIN:VEVENT
DTSTART;TZID=America/Chicago:20221029T170000
DTEND;TZID=America/Chicago:20221029T190000
DTSTAMP:20260423T041828
CREATED:20220610T163333Z
LAST-MODIFIED:20220610T163333Z
UID:24076-1667062800-1667070000@www.nalms.org
SUMMARY:Un-Haunting Hike
DESCRIPTION:Family fun night.  Wear your costume as we play night games in the forest\, walk through the historic buildings.  Find out what goes bump in the night.  Learn who/what makes the “spooky” sounds in the old barn.  Explore with your night vision.  Collect candy treats along the way.  Meet at the Environmental Education Center.  Begins at 6:00.  Space is limited.  $5.00/person.  Registration is required.
URL:https://www.nalms.org/event/un-haunting-hike/
LOCATION:Lacawac Sanctuary Environmental Education Center\, 182 Sanctuary Road\, Lake Ariel\, PA\, 18436\, United States
CATEGORIES:Nonprofit Member Event
ATTACH;FMTTYPE=image/png:https://www.nalms.org/wp-content/uploads/2017/09/Lacawac.png
END:VEVENT
BEGIN:VEVENT
DTSTART;TZID=America/Chicago:20221108T170000
DTEND;TZID=America/Chicago:20221108T190000
DTSTAMP:20260423T041828
CREATED:20220610T163731Z
LAST-MODIFIED:20220610T163731Z
UID:24077-1667926800-1667934000@www.nalms.org
SUMMARY:Full Moon Hike
DESCRIPTION:Join Environmental Educator\, Jamie Reeger\, for a guided hike on the trails at Lacawac.  As our eyes adjust to the fading light we’ll look and listen for the nocturnal awakening.  We will hike to the shores of Lake Wallenpaupack to watch the full moon rise.  This is a strenuous 3 mile hike\, please be prepared and dress accordingly.  Meet at the Visitor Center.  Begins at 6:00 p.m.  Donations suggested.  Registration is required.
URL:https://www.nalms.org/event/full-moon-hike/
LOCATION:Lacawac Sanctuary Visitor Center\, 94 Sanctuary Road\, Lake Ariel\, PA\, 18436\, United States
CATEGORIES:Nonprofit Member Event
ATTACH;FMTTYPE=image/png:https://www.nalms.org/wp-content/uploads/2017/09/Lacawac.png
END:VEVENT
BEGIN:VEVENT
DTSTART;TZID=America/Chicago:20240727T080000
DTEND;TZID=America/Chicago:20240727T110000
DTSTAMP:20260423T041828
CREATED:20240724T151925Z
LAST-MODIFIED:20240724T151925Z
UID:29946-1722067200-1722078000@www.nalms.org
SUMMARY:Open House
DESCRIPTION:Come about to the Chautauqua Lake Yacht Club on Saturday\, July 27\, from 9am to Noon for a casual meet and greet with the many lake organizations that help preserve\, protect and maintain the lake we all love. \nEnjoy coffee and danishes while chatting with the CLA’s friends and lake management partners. \nSpecial guests include Aquatic Biologist Melanie Rooney; the Chautauqua County Soil & Water Conservation District; and the Chautauqua-Conewango Consortium. \nThere will also be useful information on boater safety\, local fishing groups\, HABs and highlights about the rich history of Chautauqua Lake. \nMeet the CLA Watercraft Stewards and hear about the work they do to protect Chautauqua Lake from Aquatic Invasive Species. Equipment demos will give an up-close look at the in-lake services the CLA provides. \nThis event is free and open to the public. Reservations are not required.
URL:https://www.nalms.org/event/open-house/
LOCATION:Chautauqua Lake Yacht Club\, 43 East Lake Street\, Lakewood\, NY\, 14750\, United States
CATEGORIES:Nonprofit Member Event
END:VEVENT
END:VCALENDAR