BEGIN:VCALENDAR
VERSION:2.0
PRODID:-//North American Lake Management Society (NALMS) - ECPv5.10.0//NONSGML v1.0//EN
CALSCALE:GREGORIAN
METHOD:PUBLISH
X-WR-CALNAME:North American Lake Management Society (NALMS)
X-ORIGINAL-URL:https://www.nalms.org
X-WR-CALDESC:Events for North American Lake Management Society (NALMS)
BEGIN:VTIMEZONE
TZID:America/Chicago
BEGIN:DAYLIGHT
TZOFFSETFROM:-0600
TZOFFSETTO:-0500
TZNAME:CDT
DTSTART:20210314T080000
END:DAYLIGHT
BEGIN:STANDARD
TZOFFSETFROM:-0500
TZOFFSETTO:-0600
TZNAME:CST
DTSTART:20211107T070000
END:STANDARD
END:VTIMEZONE
BEGIN:VEVENT
DTSTART;TZID=America/Chicago:20211104T100000
DTEND;TZID=America/Chicago:20211104T140000
DTSTAMP:20211104T072543
CREATED:20211103T213015Z
LAST-MODIFIED:20211103T213015Z
UID:23405-1636020000-1636034400@www.nalms.org
SUMMARY:NALMS Annual Board of Directors Meeting
DESCRIPTION:All NALMS members are welcome and invited to attend. Please contact us at info@nalms.org if you would like us to provide you with a Zoom meeting link.
URL:https://www.nalms.org/event/nalms-annual-board-of-directors-meeting/
CATEGORIES:NALMS Events
ORGANIZER;CN="North%20American%20Lake%20Management%20Society":MAILTO:info@nalms.org
END:VEVENT
END:VCALENDAR