BEGIN:VCALENDAR
VERSION:2.0
PRODID:-//North American Lake Management Society (NALMS) - ECPv5.10.0//NONSGML v1.0//EN
CALSCALE:GREGORIAN
METHOD:PUBLISH
X-WR-CALNAME:North American Lake Management Society (NALMS)
X-ORIGINAL-URL:https://www.nalms.org
X-WR-CALDESC:Events for North American Lake Management Society (NALMS)
BEGIN:VTIMEZONE
TZID:America/Chicago
BEGIN:DAYLIGHT
TZOFFSETFROM:-0600
TZOFFSETTO:-0500
TZNAME:CDT
DTSTART:20170312T080000
END:DAYLIGHT
BEGIN:STANDARD
TZOFFSETFROM:-0500
TZOFFSETTO:-0600
TZNAME:CST
DTSTART:20171105T070000
END:STANDARD
BEGIN:DAYLIGHT
TZOFFSETFROM:-0600
TZOFFSETTO:-0500
TZNAME:CDT
DTSTART:20180311T080000
END:DAYLIGHT
BEGIN:STANDARD
TZOFFSETFROM:-0500
TZOFFSETTO:-0600
TZNAME:CST
DTSTART:20181104T070000
END:STANDARD
END:VTIMEZONE
BEGIN:VEVENT
DTSTART;VALUE=DATE:20180701
DTEND;VALUE=DATE:20180801
DTSTAMP:20211104T133739
CREATED:20170119T194940Z
LAST-MODIFIED:20180613T200700Z
UID:8899-1530403200-1533081599@www.nalms.org
SUMMARY:The Secchi Dip-In
DESCRIPTION:
URL:https://www.nalms.org/event/the-secchi-dip-in/
CATEGORIES:NALMS Events
ATTACH;FMTTYPE=image/png:https://www.nalms.org/wp-content/uploads/2017/01/Secchi-Dip-In-logo.png
ORGANIZER;CN="North%20American%20Lake%20Management%20Society":MAILTO:info@nalms.org
END:VEVENT
BEGIN:VEVENT
DTSTART;VALUE=DATE:20180701
DTEND;VALUE=DATE:20180801
DTSTAMP:20211104T133739
CREATED:20170119T194805Z
LAST-MODIFIED:20180613T200838Z
UID:8897-1530403200-1533081599@www.nalms.org
SUMMARY:Lakes Appreciation Month
DESCRIPTION:
URL:https://www.nalms.org/event/lakes-appreciation-month/
CATEGORIES:NALMS Events
ORGANIZER;CN="North%20American%20Lake%20Management%20Society":MAILTO:info@nalms.org
END:VEVENT
BEGIN:VEVENT
DTSTART;VALUE=DATE:20171106
DTEND;VALUE=DATE:20171110
DTSTAMP:20211104T133739
CREATED:20170119T200031Z
LAST-MODIFIED:20170119T200038Z
UID:8903-1509926400-1510271999@www.nalms.org
SUMMARY:37th International Symposium of the North American Lake Management Society
DESCRIPTION:
URL:https://www.nalms.org/event/37th-international-symposium-of-the-north-american-lake-management-society/
LOCATION:The Westin Westminster\, 10600 Westminster Boulevard\, Westminster\, CO\, 80020\, United States
CATEGORIES:NALMS Events
ORGANIZER;CN="North%20American%20Lake%20Management%20Society":MAILTO:info@nalms.org
END:VEVENT
END:VCALENDAR