BEGIN:VCALENDAR
VERSION:2.0
PRODID:-//North American Lake Management Society (NALMS) - ECPv5.10.0//NONSGML v1.0//EN
CALSCALE:GREGORIAN
METHOD:PUBLISH
X-WR-CALNAME:North American Lake Management Society (NALMS)
X-ORIGINAL-URL:https://www.nalms.org
X-WR-CALDESC:Events for North American Lake Management Society (NALMS)
BEGIN:VTIMEZONE
TZID:America/Chicago
BEGIN:DAYLIGHT
TZOFFSETFROM:-0600
TZOFFSETTO:-0500
TZNAME:CDT
DTSTART:20170312T080000
END:DAYLIGHT
BEGIN:STANDARD
TZOFFSETFROM:-0500
TZOFFSETTO:-0600
TZNAME:CST
DTSTART:20171105T070000
END:STANDARD
BEGIN:DAYLIGHT
TZOFFSETFROM:-0600
TZOFFSETTO:-0500
TZNAME:CDT
DTSTART:20180311T080000
END:DAYLIGHT
BEGIN:STANDARD
TZOFFSETFROM:-0500
TZOFFSETTO:-0600
TZNAME:CST
DTSTART:20181104T070000
END:STANDARD
BEGIN:DAYLIGHT
TZOFFSETFROM:-0600
TZOFFSETTO:-0500
TZNAME:CDT
DTSTART:20190310T080000
END:DAYLIGHT
BEGIN:STANDARD
TZOFFSETFROM:-0500
TZOFFSETTO:-0600
TZNAME:CST
DTSTART:20191103T070000
END:STANDARD
BEGIN:DAYLIGHT
TZOFFSETFROM:-0600
TZOFFSETTO:-0500
TZNAME:CDT
DTSTART:20200308T080000
END:DAYLIGHT
BEGIN:STANDARD
TZOFFSETFROM:-0500
TZOFFSETTO:-0600
TZNAME:CST
DTSTART:20201101T070000
END:STANDARD
BEGIN:DAYLIGHT
TZOFFSETFROM:-0600
TZOFFSETTO:-0500
TZNAME:CDT
DTSTART:20210314T080000
END:DAYLIGHT
BEGIN:STANDARD
TZOFFSETFROM:-0500
TZOFFSETTO:-0600
TZNAME:CST
DTSTART:20211107T070000
END:STANDARD
END:VTIMEZONE
BEGIN:VEVENT
DTSTART;VALUE=DATE:20211115
DTEND;VALUE=DATE:20211120
DTSTAMP:20211104T133644
CREATED:20210121T183230Z
LAST-MODIFIED:20211008T181427Z
UID:22317-1636934400-1637366399@www.nalms.org
SUMMARY:NALMS 41st International Symposium
DESCRIPTION:NALMS 2021 is Going Virtual – November 15–19\, 2021\nAfter careful consideration and in consultation with our partners and planning team\, the North American Lake Management Society (NALMS) and co-host Oklahoma Clean Lakes & Watersheds Association (OCLWA) have elected to go virtual for our 2021 annual symposium\, in keeping with the best interest of the health and well-being of our attendees\, sponsors\, exhibitors\, and staff. We are dedicated to holding a high-quality conference online\, and we’re excited to still be able to offer a great program\, opportunities for networking and interaction\, and special virtual events throughout the week. Registration is open and we’re updating the website as we confirm details. \nThank you for your patience as we make this transition. \nNALMS 2021 — Virtual
URL:https://www.nalms.org/event/nalms-41st-international-symposium/
CATEGORIES:NALMS Events
ATTACH;FMTTYPE=image/png:https://www.nalms.org/wp-content/uploads/2021/09/Virtual-NALMS-2021-Logo-1.png
ORGANIZER;CN="North%20American%20Lake%20Management%20Society":MAILTO:info@nalms.org
END:VEVENT
BEGIN:VEVENT
DTSTART;TZID=America/Chicago:20211104T100000
DTEND;TZID=America/Chicago:20211104T140000
DTSTAMP:20211104T133644
CREATED:20211103T213015Z
LAST-MODIFIED:20211103T213015Z
UID:23405-1636020000-1636034400@www.nalms.org
SUMMARY:NALMS Annual Board of Directors Meeting
DESCRIPTION:All NALMS members are welcome and invited to attend. Please contact us at info@nalms.org if you would like us to provide you with a Zoom meeting link.
URL:https://www.nalms.org/event/nalms-annual-board-of-directors-meeting/
CATEGORIES:NALMS Events
ORGANIZER;CN="North%20American%20Lake%20Management%20Society":MAILTO:info@nalms.org
END:VEVENT
BEGIN:VEVENT
DTSTART;VALUE=DATE:20210910
DTEND;VALUE=DATE:20210911
DTSTAMP:20211104T133644
CREATED:20210831T161936Z
LAST-MODIFIED:20210831T161936Z
UID:23149-1631232000-1631318399@www.nalms.org
SUMMARY:NALMS 2021 Early Bird/Presenter Deadline
DESCRIPTION:Register here!
URL:https://www.nalms.org/event/nalms-2021-early-bird-presenter-deadline/
CATEGORIES:NALMS Affiliate Events,NALMS Events
ORGANIZER;CN="North%20American%20Lake%20Management%20Society":MAILTO:info@nalms.org
END:VEVENT
BEGIN:VEVENT
DTSTART;TZID=America/Chicago:20210721T120000
DTEND;TZID=America/Chicago:20210721T133000
DTSTAMP:20211104T133644
CREATED:20210506T220356Z
LAST-MODIFIED:20210506T220356Z
UID:22762-1626868800-1626874200@www.nalms.org
SUMMARY:Webinar: From Intake to the Tap
DESCRIPTION:The USACE Invasive Species Leadership Team\, in collaboration with the Aquatic Plant Management Society\, North American Lake Management Society\, and the American Water Works Association\, will summarize the latest research and technical information on management strategies to encourage better integration and facilitation in the protection of drinking water.
URL:https://www.nalms.org/event/webinar-from-intake-to-the-tap/
CATEGORIES:NALMS Events,Webinars
ATTACH;FMTTYPE=image/png:https://www.nalms.org/wp-content/uploads/2021/05/HAB-webinar-series-2021.png
ORGANIZER;CN="North%20American%20Lake%20Management%20Society":MAILTO:info@nalms.org
END:VEVENT
BEGIN:VEVENT
DTSTART;TZID=America/Chicago:20210714T120000
DTEND;TZID=America/Chicago:20210714T133000
DTSTAMP:20211104T133644
CREATED:20210506T215043Z
LAST-MODIFIED:20210506T215043Z
UID:22761-1626264000-1626269400@www.nalms.org
SUMMARY:Webinar: Harmful Algae Management
DESCRIPTION:The USACE Invasive Species Leadership Team\, in collaboration with the Aquatic Plant Management Society\, North American Lake Management Society\, and the American Water Works Association\, will summarize the latest research and technical information on management strategies to encourage better integration and facilitation in the protection of drinking water.
URL:https://www.nalms.org/event/webinar-harmful-algae-management/
CATEGORIES:NALMS Events,Webinars
ATTACH;FMTTYPE=image/png:https://www.nalms.org/wp-content/uploads/2021/05/HAB-webinar-series-2021.png
ORGANIZER;CN="North%20American%20Lake%20Management%20Society":MAILTO:info@nalms.org
END:VEVENT
BEGIN:VEVENT
DTSTART;TZID=America/Chicago:20210707T120000
DTEND;TZID=America/Chicago:20210707T133000
DTSTAMP:20211104T133644
CREATED:20210506T213057Z
LAST-MODIFIED:20210506T213057Z
UID:22760-1625659200-1625664600@www.nalms.org
SUMMARY:Webinar: Mitigation of Internal Nutrient Loads in Drinking Water Sources
DESCRIPTION:The USACE Invasive Species Leadership Team\, in collaboration with the Aquatic Plant Management Society\, North American Lake Management Society\, and the American Water Works Association\, will summarize the latest research and technical information on management strategies to encourage better integration and facilitation in the protection of drinking water.
URL:https://www.nalms.org/event/webinar-mitigation-of-internal-nutrient-loads-in-drinking-water-sources/
CATEGORIES:NALMS Events,Webinars
ATTACH;FMTTYPE=image/png:https://www.nalms.org/wp-content/uploads/2021/05/HAB-webinar-series-2021.png
ORGANIZER;CN="North%20American%20Lake%20Management%20Society":MAILTO:info@nalms.org
END:VEVENT
BEGIN:VEVENT
DTSTART;VALUE=DATE:20210701
DTEND;VALUE=DATE:20210801
DTSTAMP:20211104T133644
CREATED:20210622T204816Z
LAST-MODIFIED:20210622T204816Z
UID:22918-1625097600-1627775999@www.nalms.org
SUMMARY:Lakes Appreciation Month 2021
DESCRIPTION:You work and play on them. You drink from them. But do you really appreciate them? Growing population\, development\, and invasive species stress your local lakes\, ponds\, and reservoirs. All life needs water; let’s not take it for granted!
URL:https://www.nalms.org/event/lakes-appreciation-month-2021/
CATEGORIES:NALMS Events
ATTACH;FMTTYPE=image/png:https://www.nalms.org/wp-content/uploads/2021/06/LAM-Email-Header_rainbow.png
ORGANIZER;CN="North%20American%20Lake%20Management%20Society":MAILTO:info@nalms.org
END:VEVENT
BEGIN:VEVENT
DTSTART;TZID=America/Chicago:20210630T120000
DTEND;TZID=America/Chicago:20210630T133000
DTSTAMP:20211104T133644
CREATED:20210506T212715Z
LAST-MODIFIED:20210506T212715Z
UID:22759-1625054400-1625059800@www.nalms.org
SUMMARY:Webinar: Source Water Protection in the Watershed
DESCRIPTION:The USACE Invasive Species Leadership Team\, in collaboration with the Aquatic Plant Management Society\, North American Lake Management Society\, and the American Water Works Association\, will summarize the latest research and technical information on management strategies to encourage better integration and facilitation in the protection of drinking water.
URL:https://www.nalms.org/event/webinar-source-water-protection-in-the-watershed/
CATEGORIES:NALMS Events,Webinars
ATTACH;FMTTYPE=image/png:https://www.nalms.org/wp-content/uploads/2021/05/HAB-webinar-series-2021.png
ORGANIZER;CN="North%20American%20Lake%20Management%20Society":MAILTO:info@nalms.org
END:VEVENT
BEGIN:VEVENT
DTSTART;TZID=America/Chicago:20210623T120000
DTEND;TZID=America/Chicago:20210623T133000
DTSTAMP:20211104T133644
CREATED:20210506T212049Z
LAST-MODIFIED:20210506T212414Z
UID:22751-1624449600-1624455000@www.nalms.org
SUMMARY:Webinar: HAB Impacts to Drinking Water and Current Management Outlook
DESCRIPTION:The USACE Invasive Species Leadership Team\, in collaboration with the Aquatic Plant Management Society\, North American Lake Management Society\, and the American Water Works Association\, will summarize the latest research and technical information on management strategies to encourage better integration and facilitation in the protection of drinking water.
URL:https://www.nalms.org/event/webinar-hab-impacts-to-drinking-water-and-current-management-outlook/
CATEGORIES:NALMS Events,Webinars
ATTACH;FMTTYPE=image/png:https://www.nalms.org/wp-content/uploads/2021/05/HAB-webinar-series-2021.png
ORGANIZER;CN="North%20American%20Lake%20Management%20Society":MAILTO:info@nalms.org
END:VEVENT
BEGIN:VEVENT
DTSTART;TZID=America/Chicago:20210602T130000
DTEND;TZID=America/Chicago:20210602T140000
DTSTAMP:20211104T133644
CREATED:20210518T201155Z
LAST-MODIFIED:20210518T201252Z
UID:22787-1622638800-1622642400@www.nalms.org
SUMMARY:Libraries Love Lakes Info Session
DESCRIPTION:July is Lakes Appreciation Month! Join us June 2nd at 2 pm (Eastern Time) for a free\, virtual information session to learn about an exciting initiative\, Libraries Love Lakes\, an outreach project pairing libraries with lake scientists to provide collaborative programming emphasizing the importance of lakes in our everyday lives. \nThe new librarieslovelakes.org website is a toolkit of online resources for community members and library professionals to plan and host lake-focused outreach events (virtual or in person!) for kids and library patrons during the July Lakes Appreciation Month. \nIncluded on the new website are: \n\nfavorite story time children’s books about lakes\, water and wildlife\nfun and easy arts & craft activities\nsuggested lesson plans and educational resources for students\nwatershed education information for library patrons\nevent flyers to promote your Libraries Love Lakes event\nand much more!\n\nWe hope you will join us to celebrate the importance of lakes with a Libraries Love Lakes program in your community for the July 2021 Lakes Appreciation Month. The info session is free and open to librarians\, lake scientists\, lake conservation organizations\, community outreach educators\, and others. Registration is required to receive the Zoom meeting link\, sign up today for the June 2nd info session. \nQuestions? We are here to help! Please send us an email at librarieslovelakes@gmail.com. \nJen Klug\, Teresa Sauer\, Nadia Harvieux and Olenka Duncan\nLibraries Love Lakes team\nNE Global Lake Ecological Observatory Network (NE GLEON)\nNorth America Lake Management Society (NALMS)
URL:https://www.nalms.org/event/libraries-love-lakes-info-session/
CATEGORIES:NALMS Events,Other Events
ATTACH;FMTTYPE=image/jpeg:https://www.nalms.org/wp-content/uploads/2021/03/Libraries-Love-Lakes-logo.jpg
ORGANIZER;CN="Libraries%20Love%20Lakes%20Team":MAILTO:librarieslovelakes@gmail.com
END:VEVENT
BEGIN:VEVENT
DTSTART;VALUE=DATE:20201116
DTEND;VALUE=DATE:20201121
DTSTAMP:20211104T133644
CREATED:20200203T212911Z
LAST-MODIFIED:20200811T202959Z
UID:20409-1605484800-1605916799@www.nalms.org
SUMMARY:VIRTUAL NALMS 2020 Symposium
DESCRIPTION:After careful consideration and in consultation with our partners and planning team\, NALMS has decided we will not be able to hold our 2020 annual symposium in Minneapolis as planned. Instead we will hold a virtual symposium during those dates in keeping with the best interest of the health and well-being of our attendees\, sponsors\, exhibitors\, and staff. \nWith the uncertainty of the past several months\, we understand that some prospective presenters were not able to submit an abstract for the 2020 conference but may now be interested in participating in a virtual meeting presentation format. We are reopening abstract and special session submissions until July 31. \nIf you have already submitted an abstract\, there is no need to resubmit. We will be in contact with authors to confirm their interest in continued participation. \nWe are still in the planning stages of this new format\, but we expect the program to include: \n\nPlenary sessions with live Q&A.\nDaily technical presentations with live Q&A.\n“On your own sessions\,” view recorded presentations on your timetable and ask the authors questions.\nPoster Session with “lightning” presentations.\nTalks and posters will be available to attendees on demand during the conference week\, no need to miss any talks of interest due to overlapping times.\nDaily meet & greet opportunities and a virtual hospitality room.\nVirtual exhibits from new and long time NALMS Corporate Members\, Affiliates\, and Nonprofits.\nVirtual Clean Lakes Classic 5K Run/Walk.\n\nStay tuned for more detailed information on the program\, registration\, awards\, NALMS Membership Meeting\, and more! \nNALMS 2020
URL:https://www.nalms.org/event/nalms-2020-symposium/
CATEGORIES:NALMS Events
ATTACH;FMTTYPE=image/png:https://www.nalms.org/wp-content/uploads/2020/07/NALMS_Logo_FullColor.png
ORGANIZER;CN="North%20American%20Lake%20Management%20Society":MAILTO:info@nalms.org
END:VEVENT
BEGIN:VEVENT
DTSTART;VALUE=DATE:20200923
DTEND;VALUE=DATE:20200924
DTSTAMP:20211104T133644
CREATED:20200828T203953Z
LAST-MODIFIED:20200828T204333Z
UID:21607-1600819200-1600905599@www.nalms.org
SUMMARY:Free CASS Day
DESCRIPTION:
URL:https://www.nalms.org/event/free-cass-day/
CATEGORIES:NALMS Events
END:VEVENT
BEGIN:VEVENT
DTSTART;VALUE=DATE:20200701
DTEND;VALUE=DATE:20200801
DTSTAMP:20211104T133644
CREATED:20200327T174226Z
LAST-MODIFIED:20200505T203400Z
UID:20643-1593561600-1596239999@www.nalms.org
SUMMARY:Secchi Dip-In 2020
DESCRIPTION:  \nThe Secchi Dip-In is a demonstration of the potential of volunteer monitors to gather environmentally important information on our lakes\, rivers\, and estuaries. Volunteers have been submitting information during the annual Dip-In since 1994. Please join them in this international effort to track changes in water quality! The Secchi Dip-In is part of Lakes Appreciation Month\, where we celebrate our lakes throughout the month of July each year.
URL:https://www.nalms.org/event/secchi-dip-in-2020/
CATEGORIES:NALMS Events
ATTACH;FMTTYPE=image/png:https://www.nalms.org/wp-content/uploads/2019/06/Secchi-Dip-In-Website-Header_850x360.png
ORGANIZER;CN="North%20American%20Lake%20Management%20Society":MAILTO:info@nalms.org
END:VEVENT
BEGIN:VEVENT
DTSTART;VALUE=DATE:20200701
DTEND;VALUE=DATE:20200801
DTSTAMP:20211104T133644
CREATED:20200327T173931Z
LAST-MODIFIED:20200505T203249Z
UID:20642-1593561600-1596239999@www.nalms.org
SUMMARY:Lakes Appreciation Month 2020
DESCRIPTION:  \nYou work and play on them. You drink from them. But do you really appreciate them? Growing population\, development\, and invasive species stress your local lakes\, ponds\, and reservoirs. All life needs water; let’s not take it for granted!
URL:https://www.nalms.org/event/lakes-appreciation-month-2020/
CATEGORIES:NALMS Events
ATTACH;FMTTYPE=image/png:https://www.nalms.org/wp-content/uploads/2020/01/LAM_FB-Cover-Photo-2020.png
ORGANIZER;CN="North%20American%20Lake%20Management%20Society":MAILTO:info@nalms.org
END:VEVENT
BEGIN:VEVENT
DTSTART;VALUE=DATE:20200515
DTEND;VALUE=DATE:20200516
DTSTAMP:20211104T133644
CREATED:20200327T173005Z
LAST-MODIFIED:20200408T173651Z
UID:20640-1589500800-1589587199@www.nalms.org
SUMMARY:LAM Poster Submissions Due
DESCRIPTION:NALMS is thrilled to announce it’s bringing back a program favorite: the Lakes Appreciation Month student poster contest!\nJuly has been Lakes Appreciation Month for the past 22 years; to celebrate\, we are inviting elementary\, middle\, and high school students to submit posters reflecting on how important lakes are to all of us. Submitted artwork will be a big part of NALMS’ celebrations through July across North America. Show us your love for lakes by sending us your artwork! \nPoster Contest
URL:https://www.nalms.org/event/lam-poster-submissions-due/
CATEGORIES:Contest/Challenge,NALMS Events
ATTACH;FMTTYPE=image/png:https://www.nalms.org/wp-content/uploads/2020/03/NALMS-LAM-Poster-Contest-Flyer-2020_for-social-media-e1584998063104.png
ORGANIZER;CN="North%20American%20Lake%20Management%20Society":MAILTO:info@nalms.org
END:VEVENT
BEGIN:VEVENT
DTSTART;VALUE=DATE:20200515
DTEND;VALUE=DATE:20200516
DTSTAMP:20211104T133644
CREATED:20200327T171516Z
LAST-MODIFIED:20200408T173539Z
UID:20631-1589500800-1589587199@www.nalms.org
SUMMARY:NALMS 2020 Abstracts Due
DESCRIPTION:  \nNALMS at 40: Leveraging Experience to Manage Diverse Lakes\, Landscapes and People\n40th International Symposium of the North American Lake Management Society\nNovember 16–20\, 2020 – Minneapolis\, Minnesota\nNALMS Conference Committee members are monitoring information about how the coronavirus might affect future gatherings and travel. Should plans for the 2020 NALMS Symposium change\, we will provide updates here and on the Symposium landing page. Meanwhile\, we urge potential presenters to submit abstracts by the deadline\, thereby allowing Planning Committee members to provide timely information regarding the technical content of the Symposium.\nThe Dakota (Sioux) homeland Mni Sóta Maķoce means “land where the waters reflect the clouds.” Nicknamed “Land of 10\,000 Lakes\,” Minnesota really has almost 12\,000 inland basins covering at least 10 acres\, but across the state\, they are mostly rural and rather diverse. Deep\, oligotrophic waters are typical in northeastern boreal forests near Superior\, the world’s largest areal\, freshwater lake. Shallow\, hypereutrophic lakes predominate in southwestern agricultural plains. \nWith about 30 lakes and 700\,000 residents within 64 square miles\, the twin cities of Minneapolis and St. Paul reflect some of the challenges of managing Minnesota’s urban landscapes. Generations of Dakota (Sioux) called the area’s largest and deepest lake Bdé Makhá Ská\, but since the 1820s\, it had been called Lake Calhoun. In 2018\, the federal government officially restored the name\, but the Minnesota Court of Appeals in 2019 reversed the state’s official designation of the indigenous name. Positioned in this nexus between Minnesota’s rural-urban diversities and past-future legacies\, Minneapolis hosts the 2020 symposium that focuses on NALMS’ 40 years of experience. The Program Committee hopes this symposium not only reflects with 20/20 hindsight\, but also predicts with 20/20 foresight!
URL:https://www.nalms.org/event/nalms-2020-abstracts-due/
CATEGORIES:NALMS Events
ORGANIZER;CN="North%20American%20Lake%20Management%20Society":MAILTO:info@nalms.org
END:VEVENT
BEGIN:VEVENT
DTSTART;VALUE=DATE:20191111
DTEND;VALUE=DATE:20191116
DTSTAMP:20211104T133644
CREATED:20181116T225628Z
LAST-MODIFIED:20190611T180511Z
UID:17525-1573430400-1573862399@www.nalms.org
SUMMARY:39th International Symposium of the North American Lake Management Society
DESCRIPTION:Vermont is home to more than 800 stunning lakes and ponds\, including Lake Champlain\, an aquatic gem we are fortunate to share with New York and Quebec. There is no better place to celebrate the partnership between local knowledge and scientific innovation than this lake that unites three borders. Burlington is a thriving and progressive small city\, home to the University of Vermont\, endless locally-sourced dining options\, and a pedestrian-friendly waterfront. Visitors will enjoy scenic beauty and a wide variety of outdoor recreational opportunities. \nFor other details\, contact one of the conference coordinators: Meg Modley (mmodley@lcbp.org)\, Jeff Schloss (jeff.schloss@unh.edu)\, and Perry Thomas (perry.thomas@vermont.gov).
URL:https://www.nalms.org/event/39th-international-symposium-of-the-north-american-lake-management-society/
LOCATION:Double Tree by Hilton Burlington Vermont\, 870 Williston Rd\, South Burlington\, VT\, 05403\, United States
CATEGORIES:NALMS Affiliate Events,NALMS Events
ATTACH;FMTTYPE=image/png:https://www.nalms.org/wp-content/uploads/2018/11/NALMS-2019-logo-1.png
ORGANIZER;CN="North%20American%20Lake%20Management%20Society":MAILTO:info@nalms.org
END:VEVENT
BEGIN:VEVENT
DTSTART;VALUE=DATE:20190701
DTEND;VALUE=DATE:20190801
DTSTAMP:20211104T133644
CREATED:20190611T211123Z
LAST-MODIFIED:20190611T211123Z
UID:19445-1561939200-1564617599@www.nalms.org
SUMMARY:Secchi Dip-In 2019
DESCRIPTION:Volunteers have been submitting information during the annual Dip-In snapshot since 1994. Please join them in this international effort to track changes in water quality! The Secchi Dip-In is part of Lakes Appreciation Month\, where we celebrate our lakes throughout the month of July each year.
URL:https://www.nalms.org/event/secchi-dip-in-2019/
CATEGORIES:NALMS Affiliate Events,NALMS Events
ATTACH;FMTTYPE=image/jpeg:https://www.nalms.org/wp-content/uploads/2019/06/Secchi-Disk_Brian-Ginn.jpg
ORGANIZER;CN="North%20American%20Lake%20Management%20Society":MAILTO:info@nalms.org
END:VEVENT
BEGIN:VEVENT
DTSTART;VALUE=DATE:20190701
DTEND;VALUE=DATE:20190801
DTSTAMP:20211104T133644
CREATED:20190611T180131Z
LAST-MODIFIED:20190611T180131Z
UID:19440-1561939200-1564617599@www.nalms.org
SUMMARY:Lakes Appreciation Month 2019
DESCRIPTION:You work and play on them. You drink from them. But do you really appreciate them? Growing population\, development\, and invasive species stress your local lakes\, ponds\, and reservoirs. All life needs water; let’s not take it for granted!
URL:https://www.nalms.org/event/lakes-appreciation-month-2019/
CATEGORIES:NALMS Events
ORGANIZER;CN="North%20American%20Lake%20Management%20Society":MAILTO:info@nalms.org
END:VEVENT
BEGIN:VEVENT
DTSTART;VALUE=DATE:20190325
DTEND;VALUE=DATE:20190330
DTSTAMP:20211104T133644
CREATED:20180816T203407Z
LAST-MODIFIED:20190308T164111Z
UID:16393-1553472000-1553903999@www.nalms.org
SUMMARY:11th National Monitoring Conference
DESCRIPTION:The National Water Quality Monitoring Council will host its 11th National Water Monitoring Conference on March 25-29\, 2019 at the Sheraton Denver Downtown Hotel\, in Denver\, Colorado. All water stakeholders—including federal\, state\, tribal and local water professionals\, nonprofits\, academia\, and volunteer citizen scientists—are welcome at this important national forum.
URL:https://www.nalms.org/event/11th-national-monitoring-conference/
LOCATION:Sheraton Denver Downtown Hotel\, 1550 Court Place\, Denver\, CO\, 80202\, United States
CATEGORIES:NALMS Events
END:VEVENT
BEGIN:VEVENT
DTSTART;VALUE=DATE:20181127
DTEND;VALUE=DATE:20181128
DTSTAMP:20211104T133644
CREATED:20181116T224959Z
LAST-MODIFIED:20181116T224959Z
UID:17522-1543276800-1543363199@www.nalms.org
SUMMARY:Giving Tuesday 2018
DESCRIPTION:This year\, on Tuesday\, November 27\, 2018\, NALMS is participating in #GivingTuesday\, a global day dedicated to giving. \nCelebrated on the Tuesday following Thanksgiving (in the U.S.) and the widely recognized shopping events Black Friday and Cyber Monday\, #GivingTuesday kicks off the charitable season\, when many focus on their holiday and end-of-year giving. Since its founding in 2012\, #GivingTuesday has inspired giving around the world\, resulting in greater donations\, volunteer hours\, and activities that bring about real change in communities.
URL:https://www.nalms.org/event/giving-tuesday-2018/
CATEGORIES:NALMS Events
ATTACH;FMTTYPE=image/png:https://www.nalms.org/wp-content/uploads/2018/11/Save-the-date.png
ORGANIZER;CN="North%20American%20Lake%20Management%20Society":MAILTO:info@nalms.org
END:VEVENT
BEGIN:VEVENT
DTSTART;VALUE=DATE:20181030
DTEND;VALUE=DATE:20181103
DTSTAMP:20211104T133644
CREATED:20170517T153352Z
LAST-MODIFIED:20171214T212238Z
UID:10739-1540857600-1541203199@www.nalms.org
SUMMARY:38th International Symposium of the North American Lake Management Society
DESCRIPTION:
URL:https://www.nalms.org/event/38th-international-symposium-of-the-north-american-lake-management-society/
LOCATION:Duke Energy Convention Center\, 525 Elm Street\, Cincinnati\, Ohio\, 45202\, United States
CATEGORIES:NALMS Events
ORGANIZER;CN="North%20American%20Lake%20Management%20Society":MAILTO:info@nalms.org
END:VEVENT
BEGIN:VEVENT
DTSTART;VALUE=DATE:20180701
DTEND;VALUE=DATE:20180801
DTSTAMP:20211104T133644
CREATED:20170119T194940Z
LAST-MODIFIED:20180613T200700Z
UID:8899-1530403200-1533081599@www.nalms.org
SUMMARY:The Secchi Dip-In
DESCRIPTION:
URL:https://www.nalms.org/event/the-secchi-dip-in/
CATEGORIES:NALMS Events
ATTACH;FMTTYPE=image/png:https://www.nalms.org/wp-content/uploads/2017/01/Secchi-Dip-In-logo.png
ORGANIZER;CN="North%20American%20Lake%20Management%20Society":MAILTO:info@nalms.org
END:VEVENT
BEGIN:VEVENT
DTSTART;VALUE=DATE:20180701
DTEND;VALUE=DATE:20180801
DTSTAMP:20211104T133644
CREATED:20170119T194805Z
LAST-MODIFIED:20180613T200838Z
UID:8897-1530403200-1533081599@www.nalms.org
SUMMARY:Lakes Appreciation Month
DESCRIPTION:
URL:https://www.nalms.org/event/lakes-appreciation-month/
CATEGORIES:NALMS Events
ORGANIZER;CN="North%20American%20Lake%20Management%20Society":MAILTO:info@nalms.org
END:VEVENT
BEGIN:VEVENT
DTSTART;VALUE=DATE:20171106
DTEND;VALUE=DATE:20171110
DTSTAMP:20211104T133644
CREATED:20170119T200031Z
LAST-MODIFIED:20170119T200038Z
UID:8903-1509926400-1510271999@www.nalms.org
SUMMARY:37th International Symposium of the North American Lake Management Society
DESCRIPTION:
URL:https://www.nalms.org/event/37th-international-symposium-of-the-north-american-lake-management-society/
LOCATION:The Westin Westminster\, 10600 Westminster Boulevard\, Westminster\, CO\, 80020\, United States
CATEGORIES:NALMS Events
ORGANIZER;CN="North%20American%20Lake%20Management%20Society":MAILTO:info@nalms.org
END:VEVENT
END:VCALENDAR