BEGIN:VCALENDAR
VERSION:2.0
PRODID:-//North American Lake Management Society (NALMS) - ECPv5.10.0//NONSGML v1.0//EN
CALSCALE:GREGORIAN
METHOD:PUBLISH
X-WR-CALNAME:North American Lake Management Society (NALMS)
X-ORIGINAL-URL:https://www.nalms.org
X-WR-CALDESC:Events for North American Lake Management Society (NALMS)
BEGIN:VTIMEZONE
TZID:America/Chicago
BEGIN:DAYLIGHT
TZOFFSETFROM:-0600
TZOFFSETTO:-0500
TZNAME:CDT
DTSTART:20210314T080000
END:DAYLIGHT
BEGIN:STANDARD
TZOFFSETFROM:-0500
TZOFFSETTO:-0600
TZNAME:CST
DTSTART:20211107T070000
END:STANDARD
END:VTIMEZONE
BEGIN:VEVENT
DTSTART;VALUE=DATE:20211115
DTEND;VALUE=DATE:20211120
DTSTAMP:20211104T072542
CREATED:20210121T183230Z
LAST-MODIFIED:20211008T181427Z
UID:22317-1636934400-1637366399@www.nalms.org
SUMMARY:NALMS 41st International Symposium
DESCRIPTION:NALMS 2021 is Going Virtual – November 15–19\, 2021\nAfter careful consideration and in consultation with our partners and planning team\, the North American Lake Management Society (NALMS) and co-host Oklahoma Clean Lakes & Watersheds Association (OCLWA) have elected to go virtual for our 2021 annual symposium\, in keeping with the best interest of the health and well-being of our attendees\, sponsors\, exhibitors\, and staff. We are dedicated to holding a high-quality conference online\, and we’re excited to still be able to offer a great program\, opportunities for networking and interaction\, and special virtual events throughout the week. Registration is open and we’re updating the website as we confirm details. \nThank you for your patience as we make this transition. \nNALMS 2021 — Virtual
URL:https://www.nalms.org/event/nalms-41st-international-symposium/
CATEGORIES:NALMS Events
ATTACH;FMTTYPE=image/png:https://www.nalms.org/wp-content/uploads/2021/09/Virtual-NALMS-2021-Logo-1.png
ORGANIZER;CN="North%20American%20Lake%20Management%20Society":MAILTO:info@nalms.org
END:VEVENT
END:VCALENDAR