BEGIN:VCALENDAR
VERSION:2.0
PRODID:-//North American Lake Management Society (NALMS) - ECPv6.15.20//NONSGML v1.0//EN
CALSCALE:GREGORIAN
METHOD:PUBLISH
X-ORIGINAL-URL:https://www.nalms.org
X-WR-CALDESC:Events for North American Lake Management Society (NALMS)
REFRESH-INTERVAL;VALUE=DURATION:PT1H
X-Robots-Tag:noindex
X-PUBLISHED-TTL:PT1H
BEGIN:VTIMEZONE
TZID:America/Chicago
BEGIN:DAYLIGHT
TZOFFSETFROM:-0600
TZOFFSETTO:-0500
TZNAME:CDT
DTSTART:20220313T080000
END:DAYLIGHT
BEGIN:STANDARD
TZOFFSETFROM:-0500
TZOFFSETTO:-0600
TZNAME:CST
DTSTART:20221106T070000
END:STANDARD
BEGIN:DAYLIGHT
TZOFFSETFROM:-0600
TZOFFSETTO:-0500
TZNAME:CDT
DTSTART:20230312T080000
END:DAYLIGHT
BEGIN:STANDARD
TZOFFSETFROM:-0500
TZOFFSETTO:-0600
TZNAME:CST
DTSTART:20231105T070000
END:STANDARD
BEGIN:DAYLIGHT
TZOFFSETFROM:-0600
TZOFFSETTO:-0500
TZNAME:CDT
DTSTART:20240310T080000
END:DAYLIGHT
BEGIN:STANDARD
TZOFFSETFROM:-0500
TZOFFSETTO:-0600
TZNAME:CST
DTSTART:20241103T070000
END:STANDARD
END:VTIMEZONE
BEGIN:VEVENT
DTSTART;VALUE=DATE:20231022
DTEND;VALUE=DATE:20231027
DTSTAMP:20260419T135923
CREATED:20230801T203324Z
LAST-MODIFIED:20230802T165544Z
UID:26522-1697932800-1698364799@www.nalms.org
SUMMARY:NALMS 2023: Great Lakes\, Local Solutions
DESCRIPTION:At the time when climate change\, invasive species risks\, and cultural pressures threaten the natural environment and biodiversity of our fragile ecosystem\, the opportunity to highlight and mesh the State of Pennsylvania and its rich diversity of aquatic habitats is long overdue. \nThe Pennsylvania Lake Management Society is proud to welcome the 2023 North American Lake Management Society Conference to Lake Erie. As we endeavor to highlight our Great Lakes\, Local Solutions agenda\, Erie Pennsylvania provides the opportunity to explore Presque Isle State Park\, a National Natural Landmark and The Tom Ridge Environmental Center\, while indulging in the amenities of the Bayfront Convention Center and all that Erie has to offer.\n\nTentative Schedule\nSunday\, October 22\nExhibitor Set Up\nWelcome Event \nMonday\, October 23\nOpening Plenary Session\nTechnical Sessions\nExhibits Open\nNALMS Membership Meeting\nExhibitors Reception and Poster Session \nTuesday\, October 24\nTechnical Sessions\nExhibits Open\nClean Lakes Classic 5K\nNALMS Awards Reception \nWednesday\, October 25\nTechnical Sessions\nExhibits Open \nThursday\, October 26\nWorkshops\nField Trips\n\n\n\n\n\nFor sponsorship or general information contact nalms2023@nalms.org\, 608-233-2863. For other details contact Conference Chair Kate Harms (info@palakes.org) or Conference Coordinator Sara Peel (speel@arionconsultants.com).
URL:https://www.nalms.org/event/nalms-2023-great-lakes-local-solutions/
LOCATION:Bayfront Convention Center\, Erie\, PA\, United States
CATEGORIES:NALMS Events
ATTACH;FMTTYPE=image/png:https://www.nalms.org/wp-content/uploads/2023/08/NALMS-2023-Logo-Header.png
ORGANIZER;CN="North American Lake Management Society":MAILTO:info@nalms.org
END:VEVENT
END:VCALENDAR