BEGIN:VCALENDAR
VERSION:2.0
PRODID:-//North American Lake Management Society (NALMS) - ECPv5.10.0//NONSGML v1.0//EN
CALSCALE:GREGORIAN
METHOD:PUBLISH
X-WR-CALNAME:North American Lake Management Society (NALMS)
X-ORIGINAL-URL:https://www.nalms.org
X-WR-CALDESC:Events for North American Lake Management Society (NALMS)
BEGIN:VTIMEZONE
TZID:America/Chicago
BEGIN:DAYLIGHT
TZOFFSETFROM:-0600
TZOFFSETTO:-0500
TZNAME:CDT
DTSTART:20210314T080000
END:DAYLIGHT
BEGIN:STANDARD
TZOFFSETFROM:-0500
TZOFFSETTO:-0600
TZNAME:CST
DTSTART:20211107T070000
END:STANDARD
BEGIN:DAYLIGHT
TZOFFSETFROM:-0600
TZOFFSETTO:-0500
TZNAME:CDT
DTSTART:20220313T080000
END:DAYLIGHT
BEGIN:STANDARD
TZOFFSETFROM:-0500
TZOFFSETTO:-0600
TZNAME:CST
DTSTART:20221106T070000
END:STANDARD
END:VTIMEZONE
BEGIN:VEVENT
DTSTART;TZID=America/Chicago:20210915T130000
DTEND;TZID=America/Chicago:20210915T140000
DTSTAMP:20211104T130244
CREATED:20210915T150148Z
LAST-MODIFIED:20210915T150148Z
UID:23198-1631710800-1631714400@www.nalms.org
SUMMARY:Flowering Rush Identification\, Biology\, and Management
DESCRIPTION:Join CLRMA member Elizabeth Brown and U.S. Department of Agriculture’s Dr. John Madsen for a virtual lunchtime webinar titled…Flowering Rush Identification\, Biology\, and Management. \nRegister here! \nFlowering rush (Butomus umbellatus L.) is becoming a widespread invasive weed in the waters of the West and Midwest. Flowering rush causes a number of nuisance problems including obstruction shorelines\, reducing irrigation flow\, and providing habitat for nonnative warmwater fish. This species is distinctive in appearance\, though is often confused with other emergent and submersed species. Flowering rush occurs as both diploid and triploid biotypes\, but western US populations are largely the triploid biotype. Recently published research has identified six genotypes in the US\, but one genotype in particular dominates in the western US. While an international group is actively looking for biological control agents\, at this time no insect biocontrol agents are available. Several herbicides are available and effective for chemical control of flowering rush\, with three application modes studied: foliar application to emergent leaves\, submersed inject to submersed leaves\, and bare-ground applications to newly-sprouted plants in the spring. Preemergent applications have also been studied. While harvesting has been used to manage foliage\, it is not a long-term management technique. Various physical techniques\, such as digging and bottom barriers\, have also been used. Whichever technique is used\, it is essential that the manager target the rhizome bud stage to reduce propagule production. \nJohn D. Madsen\, PhD. is Research Biologist with the US Department of Agriculture\, Agricultural Research Service\, Invasive Species and Pollinator Health Research Unit in Davis\, California\, USA. His work focuses on the biology\, ecology and management of aquatic plants\, particularly nuisance-forming species.
URL:https://www.nalms.org/event/flowering-rush-identification-biology-and-management/
CATEGORIES:NALMS Affiliate Events,Webinars
ATTACH;FMTTYPE=image/jpeg:https://www.nalms.org/wp-content/uploads/2021/05/CLRMA-logo-2021.jpg
ORGANIZER;CN="Colorado%20Lake%20and%20Reservoir%20Management%20Association%20%28CLRMA%29":MAILTO:ColoradoLRMA@gmail.com
END:VEVENT
BEGIN:VEVENT
DTSTART;TZID=America/Chicago:20210917T110000
DTEND;TZID=America/Chicago:20210917T120000
DTSTAMP:20211104T130244
CREATED:20210902T203001Z
LAST-MODIFIED:20210902T203001Z
UID:23167-1631876400-1631880000@www.nalms.org
SUMMARY:Control of Internal Phosphorus Loading in Lakes
DESCRIPTION:This year ALMS is hosting a webinar series to learn from experts from across North America on various lake related topics! This series will showcase presentations every Friday morning from September 10 to October 1. Presentation topics include remote sensing of lake levels and algal blooms\, internal loading\, salt pollution\, aquatic invasive species\, and eDNA. We encourage you to register for the presentations to receive timely updates and post-webinar follow-ups. Check out our website (https://alms.ca/2021-webinar-series/) to register. \n\nPresentation: Control of Internal Phosphorus Loading in Lakes\nWhen: 10:00 MDT\, Friday September 17\nWho: Dr. Ken Wagner. PhD. CLM. Water Resource Services. Massachusetts\, USA.\nBio: Dr. Wagner has been involved in lake management for 45 years and has run Water Resource Services in Massachusetts for the last decade. He is a former President of NALMS and former Editor of Lake and Reservoir Management. He has been increasingly involved in internal P load control projects over the last 20 years.
URL:https://www.nalms.org/event/control-of-internal-phosphorus-loading-in-lakes/
CATEGORIES:NALMS Affiliate Events,Webinars
ATTACH;FMTTYPE=image/png:https://www.nalms.org/wp-content/uploads/2018/10/logo-frontpage_alms.png
END:VEVENT
BEGIN:VEVENT
DTSTART;TZID=America/Chicago:20210917T120000
DTEND;TZID=America/Chicago:20210917T130000
DTSTAMP:20211104T130244
CREATED:20210902T203727Z
LAST-MODIFIED:20210902T203727Z
UID:23168-1631880000-1631883600@www.nalms.org
SUMMARY:Applications of Environmental DNA
DESCRIPTION:This year ALMS is hosting a webinar series to learn from experts from across North America on various lake related topics! This series will showcase presentations every Friday morning from September 10 to October 1. Presentation topics include remote sensing of lake levels and algal blooms\, internal loading\, salt pollution\, aquatic invasive species\, and eDNA. We encourage you to register for the presentations to receive timely updates and post-webinar follow-ups. Check out our website (https://alms.ca/2021-webinar-series/) to register. \n\nPresentation: Applications of Environmental DNA\nWhen: 11:00 MDT\, Friday September 17\nWho: Patrick Hanington and Students. University of Alberta.
URL:https://www.nalms.org/event/applications-of-environmental-dna/
CATEGORIES:NALMS Affiliate Events,Webinars
ATTACH;FMTTYPE=image/png:https://www.nalms.org/wp-content/uploads/2018/10/logo-frontpage_alms.png
END:VEVENT
BEGIN:VEVENT
DTSTART;TZID=America/Chicago:20210918T060000
DTEND;TZID=America/Chicago:20210918T210000
DTSTAMP:20211104T130244
CREATED:20210505T201441Z
LAST-MODIFIED:20210505T201441Z
UID:22743-1631944800-1631998800@www.nalms.org
SUMMARY:22nd Annual Shoreline Cleanup - Day 1
DESCRIPTION:On September 18\, 19\, 25 and 26\, Join us for our 22nd Annual Shoreline Cleanup on the beautiful lakes of Tablerock\, Taneycomo and Bull Shoals.\nOver the last 21 years we are fortunate to have an active community and large group of volunteers that care about water quality\, keeping Table Rock\, Taneycomo\, Bull Shoals lakes clean and beautiful.\nWith your hard work and efforts we have be able to remove over 283 tons of trash and recycled over 4\,600 tires!\nIf you are interested in being a sponsor of this year’s 3-lakes clean up events\, please reach out us at 417-739-4100 or email: contact@ozarkswaterwatch.org
URL:https://www.nalms.org/event/22nd-annual-shoreline-cleanup-day-1/
CATEGORIES:NALMS Affiliate Events
ATTACH;FMTTYPE=image/png:https://www.nalms.org/wp-content/uploads/2019/04/Ozarks-Water-Watch-e1555104849256.png
END:VEVENT
BEGIN:VEVENT
DTSTART;TZID=America/Chicago:20210919T060000
DTEND;TZID=America/Chicago:20210919T210000
DTSTAMP:20211104T130244
CREATED:20210505T201725Z
LAST-MODIFIED:20210505T201725Z
UID:22744-1632031200-1632085200@www.nalms.org
SUMMARY:22nd Annual Shoreline Cleanup - Day 2
DESCRIPTION:On September 18\, 19\, 25 and 26\, Join us for our 22nd Annual Shoreline Cleanup on the beautiful lakes of Tablerock\, Taneycomo and Bull Shoals.\nOver the last 21 years we are fortunate to have an active community and large group of volunteers that care about water quality\, keeping Table Rock\, Taneycomo\, Bull Shoals lakes clean and beautiful.\nWith your hard work and efforts we have be able to remove over 283 tons of trash and recycled over 4\,600 tires!\nIf you are interested in being a sponsor of this year’s 3-lakes clean up events\, please reach out us at 417-739-4100 or email: contact@ozarkswaterwatch.org
URL:https://www.nalms.org/event/22nd-annual-shoreline-cleanup-day-2/
CATEGORIES:NALMS Affiliate Events
ATTACH;FMTTYPE=image/png:https://www.nalms.org/wp-content/uploads/2019/04/Ozarks-Water-Watch-e1555104849256.png
END:VEVENT
BEGIN:VEVENT
DTSTART;TZID=America/Chicago:20210924T110000
DTEND;TZID=America/Chicago:20210924T120000
DTSTAMP:20211104T130244
CREATED:20210902T204224Z
LAST-MODIFIED:20210902T204224Z
UID:23169-1632481200-1632484800@www.nalms.org
SUMMARY:Prevention is Alberta’s Best Defense: AIS Lessons Learned from Manitoba
DESCRIPTION:This year ALMS is hosting a webinar series to learn from experts from across North America on various lake related topics! This series will showcase presentations every Friday morning from September 10 to October 1. Presentation topics include remote sensing of lake levels and algal blooms\, internal loading\, salt pollution\, aquatic invasive species\, and eDNA. We encourage you to register for the presentations to receive timely updates and post-webinar follow-ups. Check out our website (https://alms.ca/2021-webinar-series/) to register. \n\nPresentation: Prevention is Alberta’s Best Defense: AIS Lessons Learned from Manitoba\nWhen: 10:00 MDT\, Friday September 24\nWho: Candace Parks. Government of Manitoba.\nBio: Candace Parks has been the Manitoba government’s Aquatic Invasive Species (AIS) Specialist for the past 12 years. She is responsible for the AIS communications\, public engagement\, and adaption/management programs. She also played an integral role in the development of Manitoba’s AIS laws. She lives in Winnipeg with her husband and three young boys.
URL:https://www.nalms.org/event/prevention-is-albertas-best-defense-ais-lessons-learned-from-manitoba/
CATEGORIES:NALMS Affiliate Events,Webinars
ATTACH;FMTTYPE=image/png:https://www.nalms.org/wp-content/uploads/2018/10/logo-frontpage_alms.png
END:VEVENT
BEGIN:VEVENT
DTSTART;TZID=America/Chicago:20210924T120000
DTEND;TZID=America/Chicago:20210924T130000
DTSTAMP:20211104T130244
CREATED:20210902T204438Z
LAST-MODIFIED:20210902T204438Z
UID:23170-1632484800-1632488400@www.nalms.org
SUMMARY:Monitoring Alberta’s Lakes: Citizen Science from Boats\, Beaches\, and Satellites
DESCRIPTION:This year ALMS is hosting a webinar series to learn from experts from across North America on various lake related topics! This series will showcase presentations every Friday morning from September 10 to October 1. Presentation topics include remote sensing of lake levels and algal blooms\, internal loading\, salt pollution\, aquatic invasive species\, and eDNA. We encourage you to register for the presentations to receive timely updates and post-webinar follow-ups. Check out our website (https://alms.ca/2021-webinar-series/) to register. \n\nPresentation: Monitoring Alberta’s Lakes: Citizen Science from Boats\, Beaches\, and Satellites.\nWhen: 11:00 MDT\, Friday September 24\nWho: Caleb Sinn. Alberta Lake Management Society.\nBio: Caleb’s passion for freshwater ecology developed after spending many summers throughout his childhood at Gull Lake\, exploring Alberta’s mountain national parks\, and fishing in southern British Columbia. He graduated from the University of Alberta in 2019 with a B.Sc. double-major in Biology and Chemistry\, and focused his studies specifically on community and freshwater ecology\, environmental chemistry\, and analytical chemistry. He also spent two years working on freshwater ecology projects ranging from mountain lake sampling to cyanobacteria monitoring and algal pigment analysis at the University of Alberta. Caleb will be presenting on ALMS’ 2020 season and plans for the future.
URL:https://www.nalms.org/event/monitoring-albertas-lakes-citizen-science-from-boats-beaches-and-satellites/
CATEGORIES:NALMS Affiliate Events,Webinars
ATTACH;FMTTYPE=image/png:https://www.nalms.org/wp-content/uploads/2018/10/logo-frontpage_alms.png
END:VEVENT
BEGIN:VEVENT
DTSTART;TZID=America/Chicago:20210925T060000
DTEND;TZID=America/Chicago:20210925T210000
DTSTAMP:20211104T130244
CREATED:20210505T201925Z
LAST-MODIFIED:20210505T201925Z
UID:22745-1632549600-1632603600@www.nalms.org
SUMMARY:22nd Annual Shoreline Cleanup - Day 3
DESCRIPTION:On September 18\, 19\, 25 and 26\, Join us for our 22nd Annual Shoreline Cleanup on the beautiful lakes of Tablerock\, Taneycomo and Bull Shoals.\nOver the last 21 years we are fortunate to have an active community and large group of volunteers that care about water quality\, keeping Table Rock\, Taneycomo\, Bull Shoals lakes clean and beautiful.\nWith your hard work and efforts we have be able to remove over 283 tons of trash and recycled over 4\,600 tires!\nIf you are interested in being a sponsor of this year’s 3-lakes clean up events\, please reach out us at 417-739-4100 or email: contact@ozarkswaterwatch.org
URL:https://www.nalms.org/event/22nd-annual-shoreline-cleanup-day-3/
CATEGORIES:NALMS Affiliate Events
ATTACH;FMTTYPE=image/png:https://www.nalms.org/wp-content/uploads/2019/04/Ozarks-Water-Watch-e1555104849256.png
END:VEVENT
BEGIN:VEVENT
DTSTART;TZID=America/Chicago:20210926T060000
DTEND;TZID=America/Chicago:20210926T210000
DTSTAMP:20211104T130244
CREATED:20210505T202113Z
LAST-MODIFIED:20210505T202113Z
UID:22746-1632636000-1632690000@www.nalms.org
SUMMARY:22nd Annual Shoreline Cleanup - Day 4
DESCRIPTION:On September 18\, 19\, 25 and 26\, Join us for our 22nd Annual Shoreline Cleanup on the beautiful lakes of Tablerock\, Taneycomo and Bull Shoals.\nOver the last 21 years we are fortunate to have an active community and large group of volunteers that care about water quality\, keeping Table Rock\, Taneycomo\, Bull Shoals lakes clean and beautiful.\nWith your hard work and efforts we have be able to remove over 283 tons of trash and recycled over 4\,600 tires!\nIf you are interested in being a sponsor of this year’s 3-lakes clean up events\, please reach out us at 417-739-4100 or email: contact@ozarkswaterwatch.org
URL:https://www.nalms.org/event/22nd-annual-shoreline-cleanup-day-4/
CATEGORIES:NALMS Affiliate Events
ATTACH;FMTTYPE=image/png:https://www.nalms.org/wp-content/uploads/2019/04/Ozarks-Water-Watch-e1555104849256.png
END:VEVENT
BEGIN:VEVENT
DTSTART;TZID=America/Chicago:20211001T110000
DTEND;TZID=America/Chicago:20211001T120000
DTSTAMP:20211104T130244
CREATED:20210902T204719Z
LAST-MODIFIED:20210902T204719Z
UID:23171-1633086000-1633089600@www.nalms.org
SUMMARY:Internal Phosphorus Loading: Where It Is and What It Does to Cyanobacteria During Climate Change
DESCRIPTION:This year ALMS is hosting a webinar series to learn from experts from across North America on various lake related topics! This series will showcase presentations every Friday morning from September 10 to October 1. Presentation topics include remote sensing of lake levels and algal blooms\, internal loading\, salt pollution\, aquatic invasive species\, and eDNA. We encourage you to register for the presentations to receive timely updates and post-webinar follow-ups. Check out our website (https://alms.ca/2021-webinar-series/) to register. \n\nPresentation: Internal Phosphorus Loading: Where It Is and What It Does to Cyanobacteria During Climate Change\nWhen: 10:00 MDT\, Friday October 1.\nWho: Dr. Gertrud Nürnberg\nBio: Gertrud Nürnberg is head of Freshwater Research\, a limnological company focusing on the restoration and modeling of eutrophic lakes and reservoirs. She founded this company in 1984\, after completing her Ph.D. in biology/limnology at McGill University in Montreal\, Canada. She’s worked with lake associations\, governmental agencies\, NGOs\, engineering companies and the private sector in the US\, Canada\, and Europe. She has about 60 peer-reviewed papers on comparative research\, empirical lake models on phosphorus\, iron and anoxia\, and on lake management techniques in numerous scientific journals. She has been involved with the North American Lake Management Society (NALMS.org) in various positions where she presented the Internal Phosphorus Workshop since 2003. She is winner of several awards (Secchi\, Technical Excellence\, Best paper) in recognition of outstanding research and publications in lake restoration. You can reach Gertrud at: gkn@fwr.ca and can find more information at the website: www.fwr.ca.
URL:https://www.nalms.org/event/internal-phosphorus-loading-where-it-is-and-what-it-does-to-cyanobacteria-during-climate-change/
CATEGORIES:NALMS Affiliate Events,Webinars
ATTACH;FMTTYPE=image/png:https://www.nalms.org/wp-content/uploads/2018/10/logo-frontpage_alms.png
END:VEVENT
BEGIN:VEVENT
DTSTART;TZID=America/Chicago:20211001T120000
DTEND;TZID=America/Chicago:20211001T130000
DTSTAMP:20211104T130244
CREATED:20210902T204922Z
LAST-MODIFIED:20210902T204922Z
UID:23172-1633089600-1633093200@www.nalms.org
SUMMARY:Satellite Algal Bloom Monitoring in Pigeon Lake
DESCRIPTION:This year ALMS is hosting a webinar series to learn from experts from across North America on various lake related topics! This series will showcase presentations every Friday morning from September 10 to October 1. Presentation topics include remote sensing of lake levels and algal blooms\, internal loading\, salt pollution\, aquatic invasive species\, and eDNA. We encourage you to register for the presentations to receive timely updates and post-webinar follow-ups. Check out our website (https://alms.ca/2021-webinar-series/) to register. \n\nPresentation: Satellite Algal Bloom Monitoring in Pigeon Lake.\nWhen: 11:00 MDT\, Friday October 1.\nWho: Evan DeLancey. Alberta Biodiversity Monitoring Institute.\nBio: Evan DeLancey is a Spatial Data Scientist with the Alberta Biodiversity Monitoring Institute working on landcover mapping and monitoring with satellite data in Alberta. He has a M.Sc. in remote sensing from the University of Alberta and specializes in using satellite data and machine learning to solve ecological monitoring problems.
URL:https://www.nalms.org/event/satellite-algal-bloom-monitoring-in-pigeon-lake/
CATEGORIES:NALMS Affiliate Events,Webinars
ATTACH;FMTTYPE=image/png:https://www.nalms.org/wp-content/uploads/2018/10/logo-frontpage_alms.png
END:VEVENT
BEGIN:VEVENT
DTSTART;VALUE=DATE:20211020
DTEND;VALUE=DATE:20211023
DTSTAMP:20211104T130244
CREATED:20210831T161132Z
LAST-MODIFIED:20210831T161132Z
UID:23146-1634688000-1634947199@www.nalms.org
SUMMARY:2021 WALPA Annual Conference
DESCRIPTION:WALPA is returning to the east side in 2021 to host its 34th annual conference in Richland from October 20-22. Please join us at the newly remodeled Holiday Inn Richland on the Columbia River. This year’s theme\, “It Takes a Village\,” was chosen to highlight collaborative efforts to understand\, protect\, and restore our lakes. \n\nCONFERENCE REGISTRATION IS OPEN!\nClick HERE to register for the conference. Early bird registration (full event $165) is available until August 31st.\n\n\nTHE BASIC AGENDA WILL BE AS FOLLOWS:\n\nWednesday (Oct 20) – Afternoon Workshops\, cost included in conference registration\nThursday (Oct 21) – Full day of sessions and evening social event\nFriday (Oct 22) – Morning sessions\n\nWEDNESDAY WORKSHOPS\nLAKE MANAGEMENT: 3-5 PM  (2 HOURS)\nThis workshop will be focused on nutrient management\, with specific topics to include -successful approaches to lake management\, impacts of phosphorus on water quality\, determining external vs. internal phosphorus sources and cost-effect solutions.\n\nINVASIVE SPECIES: PLANT AND ANIMAL: 12:30 – 5 PM (4 HOURS)\nThis workshop will be a hands-on exercise designed to help participants learn how to identify aquatic invasive plant and animal species. Participants will work with specimens to identify the distinguishing characteristics. This workshop includes an outdoor boat and trailer decontamination demonstration.
URL:https://www.nalms.org/event/2021-walpa-annual-conference/
LOCATION:Holiday Inn Richland\, 1970 Center Pkwy\, Richland\, WA\, 99352\, United States
CATEGORIES:NALMS Affiliate Events
ATTACH;FMTTYPE=image/gif:https://www.nalms.org/wp-content/uploads/2017/04/walpa-logo.gif
END:VEVENT
BEGIN:VEVENT
DTSTART;TZID=America/Chicago:20211103T163000
DTEND;TZID=America/Chicago:20211103T190000
DTSTAMP:20211104T130244
CREATED:20211011T202222Z
LAST-MODIFIED:20211011T203100Z
UID:23287-1635957000-1635966000@www.nalms.org
SUMMARY:Webinar: CyanoHAB monitoring and detection
DESCRIPTION:The Oregon Lakes Association is pleased to present our Annual Lakes Conference as a series Wednesday afternoon online sessions. The upcoming sessions include: \n\nCyanoHAB monitoring and detection on Wednesday\, November 3rd from 2:30-5 pm\nLake physiology and management and OLA Business Meeting on Wednesday\, November 10th from 2:30-5 pm\nOur beautiful lakes: past and present on Wednesday\, December 1st from 3-5 pm\n\nPresentations will cover a wide range of topics including desert lakes\, climate change\, paleolimnology\, remote sensing of cyanobacterial blooms\, water quality modeling\, and lake management. Details about the Conference Agenda and Abstracts are available at this link. \nThe meeting will be a remote video conference offered through Oregon State University’s Zoom platform. Registration is free for Oregon Lakes Association members and $20 for non-members. After registration\, you will receive an email with instructions on how to join the Zoom meeting including a URL link\, phone number\, and a password. To participate you can join by computer (video or audio) or telephone. You do not need to load Zoom onto your computer; you can connect with Polycom\, Cisco\, or other room system if you don’t want to use the Zoom access link. \nIf you aren’t currently a member\, join OLA to received reduced conference rates and other membership benefits. Individual memberships start at $35/year. \nThis meeting series is open to anyone interested in Oregon lakes\, so feel free to alert colleagues or friends who may not have seen an invitation. If you have any questions about the conference\, please email Theo Dreher: theo.dreher@oregonstate.edu.
URL:https://www.nalms.org/event/webinar-cyanohab-monitoring-and-detection/
CATEGORIES:NALMS Affiliate Events,Webinars
ATTACH;FMTTYPE=image/png:https://www.nalms.org/wp-content/uploads/2017/04/Oregon-Lakes-Association.png
END:VEVENT
BEGIN:VEVENT
DTSTART;TZID=America/Chicago:20211110T163000
DTEND;TZID=America/Chicago:20211110T190000
DTSTAMP:20211104T130244
CREATED:20211011T202736Z
LAST-MODIFIED:20211011T203148Z
UID:23288-1636561800-1636570800@www.nalms.org
SUMMARY:Webinar: Lake physiology and management
DESCRIPTION:The Oregon Lakes Association is pleased to present our Annual Lakes Conference as a series Wednesday afternoon online sessions. The upcoming sessions include: \n\nCyanoHAB monitoring and detection on Wednesday\, November 3rd from 2:30-5 pm\nLake physiology and management and OLA Business Meeting on Wednesday\, November 10th from 2:30-5 pm\nOur beautiful lakes: past and present on Wednesday\, December 1st from 3-5 pm\n\nPresentations will cover a wide range of topics including desert lakes\, climate change\, paleolimnology\, remote sensing of cyanobacterial blooms\, water quality modeling\, and lake management. Details about the Conference Agenda and Abstracts are available at this link. \nThe meeting will be a remote video conference offered through Oregon State University’s Zoom platform. Registration is free for Oregon Lakes Association members and $20 for non-members. After registration\, you will receive an email with instructions on how to join the Zoom meeting including a URL link\, phone number\, and a password. To participate you can join by computer (video or audio) or telephone. You do not need to load Zoom onto your computer; you can connect with Polycom\, Cisco\, or other room system if you don’t want to use the Zoom access link. \nIf you aren’t currently a member\, join OLA to received reduced conference rates and other membership benefits. Individual memberships start at $35/year. \nThis meeting series is open to anyone interested in Oregon lakes\, so feel free to alert colleagues or friends who may not have seen an invitation. If you have any questions about the conference\, please email Theo Dreher: theo.dreher@oregonstate.edu.
URL:https://www.nalms.org/event/webinar-lake-physiology-and-management/
CATEGORIES:NALMS Affiliate Events,Webinars
ATTACH;FMTTYPE=image/png:https://www.nalms.org/wp-content/uploads/2017/04/Oregon-Lakes-Association.png
END:VEVENT
BEGIN:VEVENT
DTSTART;TZID=America/Chicago:20211201T170000
DTEND;TZID=America/Chicago:20211201T190000
DTSTAMP:20211104T130244
CREATED:20211011T202938Z
LAST-MODIFIED:20211011T202952Z
UID:23289-1638378000-1638385200@www.nalms.org
SUMMARY:Webinar: Our beautiful lakes: past and present
DESCRIPTION:The Oregon Lakes Association is pleased to present our Annual Lakes Conference as a series Wednesday afternoon online sessions. The upcoming sessions include: \n\nCyanoHAB monitoring and detection on Wednesday\, November 3rd from 2:30-5 pm\nLake physiology and management and OLA Business Meeting on Wednesday\, November 10th from 2:30-5 pm\nOur beautiful lakes: past and present on Wednesday\, December 1st from 3-5 pm\n\nPresentations will cover a wide range of topics including desert lakes\, climate change\, paleolimnology\, remote sensing of cyanobacterial blooms\, water quality modeling\, and lake management. Details about the Conference Agenda and Abstracts are available at this link. \nThe meeting will be a remote video conference offered through Oregon State University’s Zoom platform. Registration is free for Oregon Lakes Association members and $20 for non-members. After registration\, you will receive an email with instructions on how to join the Zoom meeting including a URL link\, phone number\, and a password. To participate you can join by computer (video or audio) or telephone. You do not need to load Zoom onto your computer; you can connect with Polycom\, Cisco\, or other room system if you don’t want to use the Zoom access link. \nIf you aren’t currently a member\, join OLA to received reduced conference rates and other membership benefits. Individual memberships start at $35/year. \nThis meeting series is open to anyone interested in Oregon lakes\, so feel free to alert colleagues or friends who may not have seen an invitation. If you have any questions about the conference\, please email Theo Dreher: theo.dreher@oregonstate.edu.
URL:https://www.nalms.org/event/webinar-our-beautiful-lakes-past-and-present/
CATEGORIES:NALMS Affiliate Events,Webinars
ATTACH;FMTTYPE=image/png:https://www.nalms.org/wp-content/uploads/2017/04/Oregon-Lakes-Association.png
END:VEVENT
BEGIN:VEVENT
DTSTART;VALUE=DATE:20220302
DTEND;VALUE=DATE:20220304
DTSTAMP:20211104T130244
CREATED:20210831T160323Z
LAST-MODIFIED:20210831T160323Z
UID:23144-1646179200-1646351999@www.nalms.org
SUMMARY:2022 PALMS Annual Conference
DESCRIPTION:
URL:https://www.nalms.org/event/2022-palms-annual-conference/
LOCATION:Wyndham Garden State College\, 310 Elks Club Road\, Boalsburg\, PA\, 16827\, United States
CATEGORIES:NALMS Affiliate Events
ATTACH;FMTTYPE=image/png:https://www.nalms.org/wp-content/uploads/2021/01/PALMS_blue-words.png
END:VEVENT
END:VCALENDAR