BEGIN:VCALENDAR
VERSION:2.0
PRODID:-//North American Lake Management Society (NALMS) - ECPv5.10.0//NONSGML v1.0//EN
CALSCALE:GREGORIAN
METHOD:PUBLISH
X-WR-CALNAME:North American Lake Management Society (NALMS)
X-ORIGINAL-URL:https://www.nalms.org
X-WR-CALDESC:Events for North American Lake Management Society (NALMS)
BEGIN:VTIMEZONE
TZID:America/New_York
BEGIN:DAYLIGHT
TZOFFSETFROM:-0500
TZOFFSETTO:-0400
TZNAME:EDT
DTSTART:20200308T070000
END:DAYLIGHT
BEGIN:STANDARD
TZOFFSETFROM:-0400
TZOFFSETTO:-0500
TZNAME:EST
DTSTART:20201101T060000
END:STANDARD
TZID:America/Chicago
BEGIN:DAYLIGHT
TZOFFSETFROM:-0600
TZOFFSETTO:-0500
TZNAME:CDT
DTSTART:20200308T080000
END:DAYLIGHT
BEGIN:STANDARD
TZOFFSETFROM:-0500
TZOFFSETTO:-0600
TZNAME:CST
DTSTART:20201101T070000
END:STANDARD
END:VTIMEZONE
BEGIN:VEVENT
DTSTART;TZID=America/New_York:20201021T100000
DTEND;TZID=America/New_York:20201023T143000
DTSTAMP:20211104T121843
CREATED:20200821T181445Z
LAST-MODIFIED:20200821T181445Z
UID:21583-1603274400-1603463400@www.nalms.org
SUMMARY:Lake Management Online Course
DESCRIPTION:This online\, instructor-led course will teach you how to evaluate what is needed to properly protect\, manage and restore your pond\, lake or reservoir. You will receive detailed instructions\, including numerous case-study examples\, of commonly implemented lake and pond restoration and management techniques. The interactive nature of the course will provide attendees with the opportunity to discuss the specific issues and problems impacting the condition of their waterbody. Approved for NALMS Certified Lake Managers/Professionals: 1.2 CEUs.
URL:https://www.nalms.org/event/lake-management-online-course/
LOCATION:online\, n/a\, n/a\, n/a\, n/a
CATEGORIES:Live Webcast/Seminar
ATTACH;FMTTYPE=image/jpeg:https://www.nalms.org/wp-content/uploads/2020/08/Lake-Management.jpg
ORGANIZER;CN="Rutgers%20University":MAILTO:OCPE@njaes.rutgers.edu
END:VEVENT
BEGIN:VEVENT
DTSTART;TZID=America/Chicago:20200827T180000
DTEND;TZID=America/Chicago:20200827T193000
DTSTAMP:20211104T121843
CREATED:20200811T195057Z
LAST-MODIFIED:20200811T195057Z
UID:21558-1598551200-1598556600@www.nalms.org
SUMMARY:Chautauqua Watershed Conservancy 30th Anniversary Annual Meeting
DESCRIPTION:Join our 30th Anniversary Annual Meeting! \nOur annual meeting is moving online this year\, and we hope you will join in! Learn about CWC’s 30 years of local conservation accomplishments and get an update on our current conservation programs and activities. For this year’s meeting\, we are honored to have Erik Kulleseid\, Commissioner of the NYS Office of Parks\, Recreation & Historic Preservation\, as our featured speaker\, who will be presenting “NYS & CWC – 30 years of land trust and state collaboration in conserving open space and outdoor recreation opportunities in the Chautauqua Region”. \nAttendance is free and no RSVP is needed – simply join us via Zoom using the url: https://us02web.zoom.us/j/84366920183 \nThis year’s meeting agenda will be: \n– President’s Welcome / Introductions / Thank You\n– 30-year Accomplishments Report\n– 2019-2020 Activities Report\n– Current Activities & Programs\n– Looking Ahead\n– Financial Report\n– Election of Directors (2020 Nominees are Nan Doolittle\, Chris Flanders\, Cheryl Mawhinney\, Richard Morrisroe\, Lisa Schmidtfrerick-Miller\, Greg Swan and Ruth Wahl)\n– Questions\n– Presentation by Erik Kulleseid\, Commissioner\, NYS Parks –\nNYS and CWC – 30 years of land trust-State collaboration in conserving open space and outdoor recreation opportunities in the Chautauqua Region\n– Closing
URL:https://www.nalms.org/event/chautauqua-watershed-conservancy-30th-anniversary-annual-meeting/
LOCATION:n/a
CATEGORIES:Live Webcast/Seminar,Nonprofit Member Event
ATTACH;FMTTYPE=image/png:https://www.nalms.org/wp-content/uploads/2017/04/Chautauqua-Watershed-Conservancy.png
END:VEVENT
BEGIN:VEVENT
DTSTART;TZID=America/Chicago:20200827T140000
DTEND;TZID=America/Chicago:20200827T150000
DTSTAMP:20211104T121843
CREATED:20200819T213830Z
LAST-MODIFIED:20200819T213830Z
UID:21572-1598536800-1598540400@www.nalms.org
SUMMARY:How's My Waterway Special Webcast
DESCRIPTION:An updated version of How’s My Waterway (HMW) was released publicly in June 2020. HMW provides a comprehensive overview of water quality data and information in the United States on three different scales: community\, state and national. HMW pulls in data from eight databases across EPA through web services with the goal of answering questions about aquatic life\, eating fish\, swimming\, drinking water\, restoration and protection. This demo is meant to help users: \n\nExplore information about their drinking water\, local stream conditions\, and whether their waterways are suitable for swimming or eating fish and if they support aquatic life.\nDiscover if their waterways are being monitored and the location of local monitoring stations.\nLearn what issues might be affecting their waterways.\n\nParticipants will feel empowered to communicate water quality information to their community in order to restore and protect their waters. \nSpeakers:\nU.S. Environmental Protection Agency\, Office of Wetlands\, Oceans & Watersheds\nDwane Young\, Chief\, Water Data Integration Branch\nKiki Schneider\, IT Specialist\, Water Data Integration Branch\n\nRegister in advance at: https://attendee.gotowebinar.com/register/7175472664900172812 \n\nFor more information on How’s My Waterway visit: https://www.epa.gov/waterdata/hows-my-waterway\nTo access the tool directly visit: https://mywaterway.epa.gov/\n\n\n\n\n\n\nFlyer for the HMW Special Webcast\n\n \n\n\n\n\n\nContact Us to ask a question\, provide feedback\, or report a problem.
URL:https://www.nalms.org/event/hows-my-waterway-special-webcast/
LOCATION:n/a
CATEGORIES:Live Webcast/Seminar
END:VEVENT
BEGIN:VEVENT
DTSTART;TZID=America/Chicago:20200625T180000
DTEND;TZID=America/Chicago:20200625T190000
DTSTAMP:20211104T121843
CREATED:20200624T165900Z
LAST-MODIFIED:20200624T165900Z
UID:21352-1593108000-1593111600@www.nalms.org
SUMMARY:MA COLAP 2020 Annual Business Meeting
DESCRIPTION:Due to the COVID-19 pandemic\, MA COLAP will hold its annual business meeting virtually at 7 pm on Thursday\, June 25th\, 2020. To participate in the meeting by phone or from a computer:\n\nJoin Zoom Meeting\nhttps://zoom.us/j/92081130730?pwd=ZWl4eENSZ3BLTXMvRjVKN3ZCd29QQT09\n\nMeeting ID: 920 8113 0730\nPassword: 079006\nOne tap mobile\n+19292056099\,\,92081130730#\,\,\,\,0#\,\,079006# US (New York)\n\nDial by your location\n    +1 929 205 6099 US (New York)\n\nMeeting ID: 920 8113 0730\nPassword: 079006\nFind your local number: https://zoom.us/u/ac7lEQ9IVe\n\nYou do not need to create an account or download anything before using Zoom. Due to the potentially large number of participants in the meeting\, we ask that you leave your video turned off and remain muted during the meeting unless it is your turn to speak to the group. We encourage you to join the meeting by computer if possible to make it easier for you to participate in votes.
URL:https://www.nalms.org/event/ma-colap-2020-annual-business-meeting/
LOCATION:n/a
CATEGORIES:Live Webcast/Seminar
ATTACH;FMTTYPE=image/jpeg:https://www.nalms.org/wp-content/uploads/2020/06/MA-COLAP.jpg
END:VEVENT
BEGIN:VEVENT
DTSTART;TZID=America/Chicago:20200506T113000
DTEND;TZID=America/Chicago:20200506T123000
DTSTAMP:20211104T121843
CREATED:20200501T201913Z
LAST-MODIFIED:20200501T201913Z
UID:21043-1588764600-1588768200@www.nalms.org
SUMMARY:Understanding Macroalgal Blooms in Freshwater Ecosystems
DESCRIPTION:The incidence of freshwater algal blooms has been increasing across North America\, including regions with no historical record of bloom occurrence. Eutrophication and climate change have been implicated as major drivers of microalgal (i.e.\, phytoplankton) blooms. In contract\, microalgal (i.e.\, visible\, mat-forming algae) blooms are not consistently explained by nutrients\, and not much is known about the role of climate change. Morphologically diverse species of macroalgae bloom across a range of habitats and nutrient conditions\, even in systems where nutrient concentrations are low. This presentation will explore how morphological traits and habitat features may support the emergence of macroalgal blooms\, with a particular focus on three species: Cladophora glomerata\, Didymosphenia geminata\, and Nitellopsis obtusa. \nPresenter: Dr. Andrea Kirkwood\, Ontario Tech University
URL:https://www.nalms.org/event/understanding-macroalgal-blooms-in-freshwater-ecosystems/
LOCATION:n/a
CATEGORIES:Live Webcast/Seminar
ATTACH;FMTTYPE=image/png:https://www.nalms.org/wp-content/uploads/2020/05/QueensLogo_black.png
END:VEVENT
BEGIN:VEVENT
DTSTART;VALUE=DATE:20200414
DTEND;VALUE=DATE:20200417
DTSTAMP:20211104T121843
CREATED:20200327T165209Z
LAST-MODIFIED:20200407T220116Z
UID:20627-1586822400-1587081599@www.nalms.org
SUMMARY:Online 2020 Watershed and Stormwater Conference
DESCRIPTION:The Online 2020 Watershed and Stormwater Conference will provide a forum for watershed and stormwater professionals throughout the nation to learn how to increase the resiliency of our communities in response to emerging and persistent threats to our water resources — from headwaters to coasts.
URL:https://www.nalms.org/event/online-2020-watershed-and-stormwater-conference/
LOCATION:n/a
CATEGORIES:Live Webcast/Seminar
ATTACH;FMTTYPE=image/png:https://www.nalms.org/wp-content/uploads/2020/03/NWAS-conference-2020.png
ORGANIZER;CN="Center%20for%20Watershed%20Protection":MAILTO:mia@cwp.org
END:VEVENT
BEGIN:VEVENT
DTSTART;VALUE=DATE:20200401
DTEND;VALUE=DATE:20200404
DTSTAMP:20211104T121843
CREATED:20200327T164353Z
LAST-MODIFIED:20200407T220156Z
UID:20623-1585699200-1585958399@www.nalms.org
SUMMARY:Wisconsin Waters 2020
DESCRIPTION:  \nResilience implies being able to maintain form and function despite disturbance. Your 2020 Convention is greatly impacted by the coronavirus and the associated public health protocols. We are not going to be able to meet in person. We are instead developing a method to follow the same agenda in an online format. Those who originally registered for the in-person convention will be “entered” as participants of the new online format. New registrants can REGISTER NOW for a nominal fee. All those who are registered for this online learning event will receive log-in information for their sessions by email the week of the event.
URL:https://www.nalms.org/event/wisconsin-waters-2020/
LOCATION:n/a
CATEGORIES:Live Webcast/Seminar
ATTACH;FMTTYPE=image/jpeg:https://www.nalms.org/wp-content/uploads/2020/03/webheader-online.jpg
END:VEVENT
BEGIN:VEVENT
DTSTART;TZID=America/Chicago:20200213T133000
DTEND;TZID=America/Chicago:20200213T150000
DTSTAMP:20211104T121843
CREATED:20200130T210533Z
LAST-MODIFIED:20200130T210533Z
UID:20401-1581600600-1581606000@www.nalms.org
SUMMARY:Coastal Resilience in the Great Lakes Region
DESCRIPTION:A live webcast will be streamed at 2:30 PM EST at www.eesi.org/livecast (wireless connection permitting) \nThe Environmental and Energy Study Institute (EESI) invites you to a briefing on the actions being taken to manage increasing temperatures\, flooding\, and other coastal hazards impacting communities and ecosystems in the Great Lakes region. This briefing will showcase nature-based solutions for climate adaptation in rural and urban settings\, and show how cutting-edge technology and traditional practices can be used to create resilient communities. \nThe panelists will describe the collaborative process between federal\, state\, and local stakeholders in collecting\, sharing\, and acting on scientific data to inform policy decisions around adaptation and help communities define and achieve their resilience goals. These projects can serve as a model for other regions experiencing similar issues. \nSpeakers\nBeth Gibbons\nExecutive Director\, American Society of Adaptation Professionals (ASAP) \nRob Croll\nPolicy Analyst/Climate Change Program Coordinator\, Great Lakes Indian Fish & Wildlife Commission (GLIFWC) \nScudder Mackey\nChief\, Office of Coastal Management\, Ohio Department of Natural Resources \nBrody Stapel\nPresident\, Edge Dairy Farmer Cooperative\, Co-owner\, Double Dutch Dairy \nBeth Gibbons of the American Society of Adaptation Professionals will discuss efforts supporting urban areas in identifying challenges—and responses—arising from climate change. She will focus her talk on adaptation within Detroit’s agricultural\, tourism\, and real estate sectors. \nRob Croll of Great Lakes Indian Fish & Wildlife Commission will discuss GLIFWC’s work to understand how climate change is impacting off-reservation communities and ecosystems critical to its member Ojibwe tribes\, and tools used to develop comprehensive plans to manage these impacts in culturally appropriate ways. \nScudder Mackey of the Ohio Department of Natural Resources will discuss projects resulting from the Great Lakes Coastal Assembly\, a collaborative effort between NGOs and international\, federal\, and state agencies to protect and restore coastal wetlands across the Great Lakes region. \nBrody Stapel of Edge Dairy Farmer Cooperative will discuss economic and environmental challenges to farming in Wisconsin and climate-smart agricultural practices on his farm and among members of the Dairy Strong Sustainability Alliance. \nThe Great Lakes region faces a unique set of challenges\, yet solutions developed here can be borrowed\, adapted\, and used by districts and states around the country to increase ecosystem\, community\, and sectoral resilience to the impacts of climate change. \nThis event is free and open to the public. Please RSVP to expedite check-in.
URL:https://www.nalms.org/event/coastal-resilience-in-the-great-lakes-region/
LOCATION:n/a
CATEGORIES:Live Webcast/Seminar
ORGANIZER;CN="Environmental%20and%20Energy%20Study%20Institute":MAILTO:atodoroff@eesi.org
END:VEVENT
END:VCALENDAR