BEGIN:VCALENDAR
VERSION:2.0
PRODID:-//North American Lake Management Society (NALMS) - ECPv5.10.0//NONSGML v1.0//EN
CALSCALE:GREGORIAN
METHOD:PUBLISH
X-WR-CALNAME:North American Lake Management Society (NALMS)
X-ORIGINAL-URL:https://www.nalms.org
X-WR-CALDESC:Events for North American Lake Management Society (NALMS)
BEGIN:VTIMEZONE
TZID:America/Chicago
BEGIN:DAYLIGHT
TZOFFSETFROM:-0600
TZOFFSETTO:-0500
TZNAME:CDT
DTSTART:20190310T080000
END:DAYLIGHT
BEGIN:STANDARD
TZOFFSETFROM:-0500
TZOFFSETTO:-0600
TZNAME:CST
DTSTART:20191103T070000
END:STANDARD
BEGIN:DAYLIGHT
TZOFFSETFROM:-0600
TZOFFSETTO:-0500
TZNAME:CDT
DTSTART:20200308T080000
END:DAYLIGHT
BEGIN:STANDARD
TZOFFSETFROM:-0500
TZOFFSETTO:-0600
TZNAME:CST
DTSTART:20201101T070000
END:STANDARD
BEGIN:DAYLIGHT
TZOFFSETFROM:-0600
TZOFFSETTO:-0500
TZNAME:CDT
DTSTART:20210314T080000
END:DAYLIGHT
BEGIN:STANDARD
TZOFFSETFROM:-0500
TZOFFSETTO:-0600
TZNAME:CST
DTSTART:20211107T070000
END:STANDARD
END:VTIMEZONE
BEGIN:VEVENT
DTSTART;VALUE=DATE:20210601
DTEND;VALUE=DATE:20210602
DTSTAMP:20211104T115201
CREATED:20210524T212913Z
LAST-MODIFIED:20210524T212913Z
UID:22817-1622505600-1622591999@www.nalms.org
SUMMARY:CALMS Photo Contest Deadline
DESCRIPTION:Please participate in our 2nd Annual CALM WATERS Newsletter Photo Contest! You can check out last year’s winners in the 2020 CALM WATERS Newsletter. \nEach participant can submit up to 2 photographs\, with 1 entry per category: \n\nscenic photo of a lake\nphoto with people working or playing in the lake\n\nEmail your entries to CALMSPhotoContest@gmail.com by Tuesday\, June 1st along with the following information:\n\nphoto location\nname of lake\nperson who took the photograph\n\nA prize from the CALMS Store will be awarded to the 1st Place Winner (Cover Image) and Runners-up (Insert Photos).
URL:https://www.nalms.org/event/calms-photo-contest-deadline/
CATEGORIES:Contest/Challenge,Deadline Reminder,NALMS Affiliate Events
ATTACH;FMTTYPE=image/png:https://www.nalms.org/wp-content/uploads/2017/04/CALMS.png
END:VEVENT
BEGIN:VEVENT
DTSTART;VALUE=DATE:20210601
DTEND;VALUE=DATE:20210602
DTSTAMP:20211104T115201
CREATED:20210518T200232Z
LAST-MODIFIED:20210518T200232Z
UID:22786-1622505600-1622591999@www.nalms.org
SUMMARY:Lakes Appreciation Poster Contest Deadline
DESCRIPTION:July has been Lakes Appreciation Month for the past 23 years. This spring\, we are inviting elementary\, middle\, and high school students to submit posters reflecting on how important lakes are to all of us. Submitted artwork will be a big part of NALMS’ celebrations through July across North America. Show us your love for lakes by sending us your artwork! \nPoster submission deadline is Tuesday\, June 1st! \nDownload the contest flyer
URL:https://www.nalms.org/event/lakes-appreciation-poster-contest-deadline/
CATEGORIES:Contest/Challenge,Deadline Reminder
ATTACH;FMTTYPE=image/png:https://www.nalms.org/wp-content/uploads/2021/02/Lakes-Appreciation-Month-2021-Logo-753x1024-1.png
ORGANIZER;CN="North%20American%20Lake%20Management%20Society":MAILTO:info@nalms.org
END:VEVENT
BEGIN:VEVENT
DTSTART;VALUE=DATE:20200515
DTEND;VALUE=DATE:20200516
DTSTAMP:20211104T115201
CREATED:20200327T173005Z
LAST-MODIFIED:20200408T173651Z
UID:20640-1589500800-1589587199@www.nalms.org
SUMMARY:LAM Poster Submissions Due
DESCRIPTION:NALMS is thrilled to announce it’s bringing back a program favorite: the Lakes Appreciation Month student poster contest!\nJuly has been Lakes Appreciation Month for the past 22 years; to celebrate\, we are inviting elementary\, middle\, and high school students to submit posters reflecting on how important lakes are to all of us. Submitted artwork will be a big part of NALMS’ celebrations through July across North America. Show us your love for lakes by sending us your artwork! \nPoster Contest
URL:https://www.nalms.org/event/lam-poster-submissions-due/
CATEGORIES:Contest/Challenge,NALMS Events
ATTACH;FMTTYPE=image/png:https://www.nalms.org/wp-content/uploads/2020/03/NALMS-LAM-Poster-Contest-Flyer-2020_for-social-media-e1584998063104.png
ORGANIZER;CN="North%20American%20Lake%20Management%20Society":MAILTO:info@nalms.org
END:VEVENT
BEGIN:VEVENT
DTSTART;VALUE=DATE:20200103
DTEND;VALUE=DATE:20200104
DTSTAMP:20211104T115201
CREATED:20190926T184003Z
LAST-MODIFIED:20190926T184300Z
UID:19983-1578009600-1578095999@www.nalms.org
SUMMARY:EPA Harmful Algal Bloom Video Challenge
DESCRIPTION:See a Bloom\, Give It Room \nJoin the Harmful Algal Bloom Video Challenge for a chance to win prizes and be part of the solution. Winning videos will be posted on the EPA website and social media. \nFor a chance to win\, create a video that teaches people how to spot harmful algal blooms and how to be safe around them. \nEntrants must be students in grades 9 through 12 and live in one of the following EPA Region 7 or Region 8 areas:\nRegion 7: Iowa\, Kansas\, Missouri\, Nebraska\, or one of nine tribal nations (listed here).\nRegion 8: Montana\, North Dakota\, South Dakota\, Wyoming\, Utah\, Colorado or one of 27 tribal nations (listed here). \nOpen Period:\nThe Challenge began Sept. 19\, 2019. All video entries must be submitted in digital format by 11 p.m. EST on Jan. 3\, 2020. \nSubmission Start:\n9/19/2019\, 11 a.m. EDT \nSubmission End:\n1/3/2020\, 11 p.m. EST
URL:https://www.nalms.org/event/epa-harmful-algal-bloom-video-challenge-deadline/
CATEGORIES:Contest/Challenge
ATTACH;FMTTYPE=image/jpeg:https://www.nalms.org/wp-content/uploads/2019/09/20190912-hab-freefloating-single-gfx.jpg
END:VEVENT
BEGIN:VEVENT
DTSTART;VALUE=DATE:20190919
DTEND;VALUE=DATE:20190920
DTSTAMP:20211104T115201
CREATED:20190926T184504Z
LAST-MODIFIED:20190926T184504Z
UID:19986-1568851200-1568937599@www.nalms.org
SUMMARY:EPA Harmful Algal Bloom Video Challenge
DESCRIPTION:See a Bloom\, Give It Room \nJoin the Harmful Algal Bloom Video Challenge for a chance to win prizes and be part of the solution. Winning videos will be posted on the EPA website and social media. \nFor a chance to win\, create a video that teaches people how to spot harmful algal blooms and how to be safe around them. \nEntrants must be students in grades 9 through 12 and live in one of the following EPA Region 7 or Region 8 areas:\nRegion 7: Iowa\, Kansas\, Missouri\, Nebraska\, or one of nine tribal nations (listed here).\nRegion 8: Montana\, North Dakota\, South Dakota\, Wyoming\, Utah\, Colorado or one of 27 tribal nations (listed here). \nOpen Period:\nThe Challenge began Sept. 19\, 2019. All video entries must be submitted in digital format by 11 p.m. EST on Jan. 3\, 2020. \nSubmission Start:\n9/19/2019\, 11 a.m. EDT \nSubmission End:\n1/3/2020\, 11 p.m. EST
URL:https://www.nalms.org/event/epa-harmful-algal-bloom-video-challenge-start/
CATEGORIES:Contest/Challenge
ATTACH;FMTTYPE=image/jpeg:https://www.nalms.org/wp-content/uploads/2019/09/20190912-hab-freefloating-single-gfx-1.jpg
END:VEVENT
END:VCALENDAR