BEGIN:VCALENDAR
VERSION:2.0
PRODID:-//North American Lake Management Society (NALMS) - ECPv6.15.20//NONSGML v1.0//EN
CALSCALE:GREGORIAN
METHOD:PUBLISH
X-WR-CALNAME:North American Lake Management Society (NALMS)
X-ORIGINAL-URL:https://www.nalms.org
X-WR-CALDESC:Events for North American Lake Management Society (NALMS)
REFRESH-INTERVAL;VALUE=DURATION:PT1H
X-Robots-Tag:noindex
X-PUBLISHED-TTL:PT1H
BEGIN:VTIMEZONE
TZID:America/Chicago
BEGIN:DAYLIGHT
TZOFFSETFROM:-0600
TZOFFSETTO:-0500
TZNAME:CDT
DTSTART:20200308T080000
END:DAYLIGHT
BEGIN:STANDARD
TZOFFSETFROM:-0500
TZOFFSETTO:-0600
TZNAME:CST
DTSTART:20201101T070000
END:STANDARD
BEGIN:DAYLIGHT
TZOFFSETFROM:-0600
TZOFFSETTO:-0500
TZNAME:CDT
DTSTART:20210314T080000
END:DAYLIGHT
BEGIN:STANDARD
TZOFFSETFROM:-0500
TZOFFSETTO:-0600
TZNAME:CST
DTSTART:20211107T070000
END:STANDARD
BEGIN:DAYLIGHT
TZOFFSETFROM:-0600
TZOFFSETTO:-0500
TZNAME:CDT
DTSTART:20220313T080000
END:DAYLIGHT
BEGIN:STANDARD
TZOFFSETFROM:-0500
TZOFFSETTO:-0600
TZNAME:CST
DTSTART:20221106T070000
END:STANDARD
END:VTIMEZONE
BEGIN:VEVENT
DTSTART;VALUE=DATE:20210601
DTEND;VALUE=DATE:20210602
DTSTAMP:20260425T131007
CREATED:20210524T212913Z
LAST-MODIFIED:20210524T212913Z
UID:22817-1622505600-1622591999@www.nalms.org
SUMMARY:CALMS Photo Contest Deadline
DESCRIPTION:Please participate in our 2nd Annual CALM WATERS Newsletter Photo Contest! You can check out last year’s winners in the 2020 CALM WATERS Newsletter. \nEach participant can submit up to 2 photographs\, with 1 entry per category: \n\nscenic photo of a lake\nphoto with people working or playing in the lake\n\nEmail your entries to CALMSPhotoContest@gmail.com by Tuesday\, June 1st along with the following information:\n\nphoto location\nname of lake\nperson who took the photograph\n\nA prize from the CALMS Store will be awarded to the 1st Place Winner (Cover Image) and Runners-up (Insert Photos).
URL:https://www.nalms.org/event/calms-photo-contest-deadline/
CATEGORIES:Contest/Challenge,Deadline Reminder,NALMS Affiliate Events
ATTACH;FMTTYPE=image/png:https://www.nalms.org/wp-content/uploads/2017/04/CALMS.png
END:VEVENT
BEGIN:VEVENT
DTSTART;VALUE=DATE:20210601
DTEND;VALUE=DATE:20210602
DTSTAMP:20260425T131007
CREATED:20210518T200232Z
LAST-MODIFIED:20210518T200232Z
UID:22786-1622505600-1622591999@www.nalms.org
SUMMARY:Lakes Appreciation Poster Contest Deadline
DESCRIPTION:July has been Lakes Appreciation Month for the past 23 years. This spring\, we are inviting elementary\, middle\, and high school students to submit posters reflecting on how important lakes are to all of us. Submitted artwork will be a big part of NALMS’ celebrations through July across North America. Show us your love for lakes by sending us your artwork! \nPoster submission deadline is Tuesday\, June 1st! \nDownload the contest flyer
URL:https://www.nalms.org/event/lakes-appreciation-poster-contest-deadline/
CATEGORIES:Contest/Challenge,Deadline Reminder
ATTACH;FMTTYPE=image/png:https://www.nalms.org/wp-content/uploads/2021/02/Lakes-Appreciation-Month-2021-Logo-753x1024-1.png
ORGANIZER;CN="North American Lake Management Society":MAILTO:info@nalms.org
END:VEVENT
END:VCALENDAR