BEGIN:VCALENDAR
VERSION:2.0
PRODID:-//North American Lake Management Society (NALMS) - ECPv6.15.20//NONSGML v1.0//EN
CALSCALE:GREGORIAN
METHOD:PUBLISH
X-WR-CALNAME:North American Lake Management Society (NALMS)
X-ORIGINAL-URL:https://www.nalms.org
X-WR-CALDESC:Events for North American Lake Management Society (NALMS)
REFRESH-INTERVAL;VALUE=DURATION:PT1H
X-Robots-Tag:noindex
X-PUBLISHED-TTL:PT1H
BEGIN:VTIMEZONE
TZID:America/Chicago
BEGIN:DAYLIGHT
TZOFFSETFROM:-0600
TZOFFSETTO:-0500
TZNAME:CDT
DTSTART:20210314T080000
END:DAYLIGHT
BEGIN:STANDARD
TZOFFSETFROM:-0500
TZOFFSETTO:-0600
TZNAME:CST
DTSTART:20211107T070000
END:STANDARD
BEGIN:DAYLIGHT
TZOFFSETFROM:-0600
TZOFFSETTO:-0500
TZNAME:CDT
DTSTART:20220313T080000
END:DAYLIGHT
BEGIN:STANDARD
TZOFFSETFROM:-0500
TZOFFSETTO:-0600
TZNAME:CST
DTSTART:20221106T070000
END:STANDARD
BEGIN:DAYLIGHT
TZOFFSETFROM:-0600
TZOFFSETTO:-0500
TZNAME:CDT
DTSTART:20230312T080000
END:DAYLIGHT
BEGIN:STANDARD
TZOFFSETFROM:-0500
TZOFFSETTO:-0600
TZNAME:CST
DTSTART:20231105T070000
END:STANDARD
END:VTIMEZONE
BEGIN:VEVENT
DTSTART;TZID=America/Chicago:20220216T140000
DTEND;TZID=America/Chicago:20220216T150000
DTSTAMP:20260425T232212
CREATED:20220126T211022Z
LAST-MODIFIED:20220126T211022Z
UID:23664-1645020000-1645023600@www.nalms.org
SUMMARY:Women In Science: Field-Based Learning Connects & Empowers Students from the Hudson to Greenland
DESCRIPTION:Join DEC’s Hudson River Estuary Program’s Free Virtual Winter Speaker Series! \nMeet and learn from scientists\, community leaders\, and environmental educators who work at the intersection of research\, education\, and environmental and social justice. Engage in discussions about water quality research\, dam removals\, field-based learning\, and overcoming barriers and challenges in the field of science and education. \nThe field is the best teacher and ‘classroom’ for both educators and students providing a richness of questions and experiences. Together we will explore some key take-aways from local work with youth on the Hudson\, as well as work we have been doing in Greenland\, working to bring more hands-on\, inter-generational\, and problem based learning into their education. \nFeatured Speaker: Margie Turrin
URL:https://www.nalms.org/event/women-in-science-field-based-learning-connects-empowers-students-from-the-hudson-to-greenland/
LOCATION:n/a
CATEGORIES:Webinars
ATTACH;FMTTYPE=image/png:https://www.nalms.org/wp-content/uploads/2022/01/NYS-DEC.png
END:VEVENT
END:VCALENDAR